BEGIN:VCALENDAR
VERSION:2.0
PRODID:-//Child &amp; Community Resources - ECPv6.15.20//NONSGML v1.0//EN
CALSCALE:GREGORIAN
METHOD:PUBLISH
X-ORIGINAL-URL:https://ccrconnect.ca
X-WR-CALDESC:Events for Child &amp; Community Resources
REFRESH-INTERVAL;VALUE=DURATION:PT1H
X-Robots-Tag:noindex
X-PUBLISHED-TTL:PT1H
BEGIN:VTIMEZONE
TZID:America/New_York
BEGIN:DAYLIGHT
TZOFFSETFROM:-0500
TZOFFSETTO:-0400
TZNAME:EDT
DTSTART:20230312T070000
END:DAYLIGHT
BEGIN:STANDARD
TZOFFSETFROM:-0400
TZOFFSETTO:-0500
TZNAME:EST
DTSTART:20231105T060000
END:STANDARD
BEGIN:DAYLIGHT
TZOFFSETFROM:-0500
TZOFFSETTO:-0400
TZNAME:EDT
DTSTART:20240310T070000
END:DAYLIGHT
BEGIN:STANDARD
TZOFFSETFROM:-0400
TZOFFSETTO:-0500
TZNAME:EST
DTSTART:20241103T060000
END:STANDARD
BEGIN:DAYLIGHT
TZOFFSETFROM:-0500
TZOFFSETTO:-0400
TZNAME:EDT
DTSTART:20250309T070000
END:DAYLIGHT
BEGIN:STANDARD
TZOFFSETFROM:-0400
TZOFFSETTO:-0500
TZNAME:EST
DTSTART:20251102T060000
END:STANDARD
BEGIN:DAYLIGHT
TZOFFSETFROM:-0500
TZOFFSETTO:-0400
TZNAME:EDT
DTSTART:20260308T070000
END:DAYLIGHT
BEGIN:STANDARD
TZOFFSETFROM:-0400
TZOFFSETTO:-0500
TZNAME:EST
DTSTART:20261101T060000
END:STANDARD
END:VTIMEZONE
BEGIN:VTIMEZONE
TZID:America/Toronto
BEGIN:DAYLIGHT
TZOFFSETFROM:-0500
TZOFFSETTO:-0400
TZNAME:EDT
DTSTART:20230312T070000
END:DAYLIGHT
BEGIN:STANDARD
TZOFFSETFROM:-0400
TZOFFSETTO:-0500
TZNAME:EST
DTSTART:20231105T060000
END:STANDARD
BEGIN:DAYLIGHT
TZOFFSETFROM:-0500
TZOFFSETTO:-0400
TZNAME:EDT
DTSTART:20240310T070000
END:DAYLIGHT
BEGIN:STANDARD
TZOFFSETFROM:-0400
TZOFFSETTO:-0500
TZNAME:EST
DTSTART:20241103T060000
END:STANDARD
BEGIN:DAYLIGHT
TZOFFSETFROM:-0500
TZOFFSETTO:-0400
TZNAME:EDT
DTSTART:20250309T070000
END:DAYLIGHT
BEGIN:STANDARD
TZOFFSETFROM:-0400
TZOFFSETTO:-0500
TZNAME:EST
DTSTART:20251102T060000
END:STANDARD
BEGIN:DAYLIGHT
TZOFFSETFROM:-0500
TZOFFSETTO:-0400
TZNAME:EDT
DTSTART:20260308T070000
END:DAYLIGHT
BEGIN:STANDARD
TZOFFSETFROM:-0400
TZOFFSETTO:-0500
TZNAME:EST
DTSTART:20261101T060000
END:STANDARD
END:VTIMEZONE
BEGIN:VEVENT
DTSTART;TZID=America/New_York:20250122T083000
DTEND;TZID=America/New_York:20250122T120000
DTSTAMP:20260424T180608
CREATED:20241219T181949Z
LAST-MODIFIED:20241219T181949Z
UID:10005762-1737534600-1737547200@ccrconnect.ca
SUMMARY:Babies Day Out
DESCRIPTION:Babies’ Day Out\nBabies’ Day Out is a program for infants 0 to 18 months and their parents. The program allows infants to explore\, learn and play in a safe environment. Siblings are welcome to join. EarlyON Practitioners can also support with any questions you may have regarding infant development.
URL:https://ccrconnect.ca/event/babies-day-out-22/2025-01-22/
LOCATION:New Sudbury (Lasalle Elementary School) EarlyON\, 1545 Kennedy Street\, Sudbury\, Ontario\, P3A 2G1\, Canada
END:VEVENT
BEGIN:VEVENT
DTSTART;TZID=America/New_York:20250121T090000
DTEND;TZID=America/New_York:20250121T120000
DTSTAMP:20260424T180608
CREATED:20241219T181731Z
LAST-MODIFIED:20241219T181731Z
UID:10005754-1737450000-1737460800@ccrconnect.ca
SUMMARY:Play & Learn
DESCRIPTION:Join us for a program filled with fun\, socializing\, and learning for families of children 0-6yrs.  While attending our program\, you and your child will have the opportunity to participate in a variety of activities such as crafts\, science\, literacy\, and gross and fine motor activities. Have questions about child development or other parenting concerns? Feel free to ask our qualified staff about the multitude of resources we have to offer. \n  \n 
URL:https://ccrconnect.ca/event/play-learn-63/2025-01-21/
LOCATION:New Sudbury (Lasalle Elementary School) EarlyON\, 1545 Kennedy Street\, Sudbury\, Ontario\, P3A 2G1\, Canada
END:VEVENT
BEGIN:VEVENT
DTSTART;TZID=America/New_York:20250120T130000
DTEND;TZID=America/New_York:20250120T150000
DTSTAMP:20260424T180608
CREATED:20241220T141153Z
LAST-MODIFIED:20241220T141153Z
UID:10005978-1737378000-1737385200@ccrconnect.ca
SUMMARY:Babies Day Out
DESCRIPTION:Babies’ Day Out\nBabies’ Day Out is a program for infants 0 to 18 months and their parents. The program allows infants to explore\, learn and play in a safe environment. Siblings are welcome to join. EarlyON Practitioners can also support with any questions you may have regarding infant development.
URL:https://ccrconnect.ca/event/babies-day-out-23/2025-01-20/
LOCATION:New Sudbury (Lasalle Elementary School) EarlyON\, 1545 Kennedy Street\, Sudbury\, Ontario\, P3A 2G1\, Canada
END:VEVENT
BEGIN:VEVENT
DTSTART;TZID=America/Toronto:20250120T093000
DTEND;TZID=America/Toronto:20250120T120000
DTSTAMP:20260424T180608
CREATED:20241219T181628Z
LAST-MODIFIED:20241219T181628Z
UID:10005738-1737365400-1737374400@ccrconnect.ca
SUMMARY:Toddler Tales - Rhymes to Reading (12-30 months)
DESCRIPTION:Rhymes to reading is an early Language & Literacy program where toddlers experience the positive effects of reading\, signing\, playing\, and developing find & gross motor skills through stories\, songs and crafts. Your Toddler will have the opportunity to engage in fun activities\, learn new skills and meet new friends. (12-30 months)
URL:https://ccrconnect.ca/event/toddler-tales-rhymes-to-reading-12-30-months-5/2025-01-20/
LOCATION:New Sudbury (Lasalle Elementary School) EarlyON\, 1545 Kennedy Street\, Sudbury\, Ontario\, P3A 2G1\, Canada
END:VEVENT
BEGIN:VEVENT
DTSTART;TZID=America/New_York:20250117T090000
DTEND;TZID=America/New_York:20250117T120000
DTSTAMP:20260424T180608
CREATED:20241219T182418Z
LAST-MODIFIED:20241219T190419Z
UID:10005786-1737104400-1737115200@ccrconnect.ca
SUMMARY:Play & Learn
DESCRIPTION:Join us for a program filled with fun\, socializing\, and learning for families of children 0-6yrs.  While attending our program\, you and your child will have the opportunity to participate in a variety of activities such as crafts\, science\, literacy\, and gross and fine motor activities. Have questions about child development or other parenting concerns? Feel free to ask our qualified staff about the multitude of resources we have to offer. \n  \n 
URL:https://ccrconnect.ca/event/play-learn-64/2025-01-17/
LOCATION:New Sudbury (Lasalle Elementary School) EarlyON\, 1545 Kennedy Street\, Sudbury\, Ontario\, P3A 2G1\, Canada
END:VEVENT
BEGIN:VEVENT
DTSTART;TZID=America/New_York:20250116T100000
DTEND;TZID=America/New_York:20250116T120000
DTSTAMP:20260424T180608
CREATED:20241219T182245Z
LAST-MODIFIED:20241223T162014Z
UID:10005778-1737021600-1737028800@ccrconnect.ca
SUMMARY:Kids in Motion at Westmount Community Centre - New Sudbury Outreach
DESCRIPTION:Join us at the EarlyON Westmount community center location on Thursdays for a morning of physical activities including gross motor games\, music and movement and interactive movement stories. This program not only promotes healthy gross motor development build social skills and self-regulation.
URL:https://ccrconnect.ca/event/kids-in-motion-at-westmount-community-centre-new-sudbury-outreach/2025-01-16/
LOCATION:Westmount Community Centre Field House\, 109 Kipling Court\, Sudbury\, Ontario\, Canada
END:VEVENT
BEGIN:VEVENT
DTSTART;TZID=America/New_York:20250115T130000
DTEND;TZID=America/New_York:20250115T150000
DTSTAMP:20260424T180608
CREATED:20241220T141300Z
LAST-MODIFIED:20241220T153323Z
UID:10006011-1736946000-1736953200@ccrconnect.ca
SUMMARY:Play & Learn
DESCRIPTION:Join us for a program filled with fun\, socializing\, and learning for families of children 0-6yrs.  While attending our program\, you and your child will have the opportunity to participate in a variety of activities such as crafts\, science\, literacy\, and gross and fine motor activities. Have questions about child development or other parenting concerns? Feel free to ask our qualified staff about the multitude of resources we have to offer. \n  \n 
URL:https://ccrconnect.ca/event/play-learn-66/2025-01-15/
LOCATION:New Sudbury (Lasalle Elementary School) EarlyON\, 1545 Kennedy Street\, Sudbury\, Ontario\, P3A 2G1\, Canada
END:VEVENT
BEGIN:VEVENT
DTSTART;TZID=America/New_York:20250115T083000
DTEND;TZID=America/New_York:20250115T120000
DTSTAMP:20260424T180608
CREATED:20241219T181949Z
LAST-MODIFIED:20241219T181949Z
UID:10005761-1736929800-1736942400@ccrconnect.ca
SUMMARY:Babies Day Out
DESCRIPTION:Babies’ Day Out\nBabies’ Day Out is a program for infants 0 to 18 months and their parents. The program allows infants to explore\, learn and play in a safe environment. Siblings are welcome to join. EarlyON Practitioners can also support with any questions you may have regarding infant development.
URL:https://ccrconnect.ca/event/babies-day-out-22/2025-01-15/
LOCATION:New Sudbury (Lasalle Elementary School) EarlyON\, 1545 Kennedy Street\, Sudbury\, Ontario\, P3A 2G1\, Canada
END:VEVENT
BEGIN:VEVENT
DTSTART;TZID=America/New_York:20250114T090000
DTEND;TZID=America/New_York:20250114T120000
DTSTAMP:20260424T180608
CREATED:20241219T181731Z
LAST-MODIFIED:20241219T181731Z
UID:10005753-1736845200-1736856000@ccrconnect.ca
SUMMARY:Play & Learn
DESCRIPTION:Join us for a program filled with fun\, socializing\, and learning for families of children 0-6yrs.  While attending our program\, you and your child will have the opportunity to participate in a variety of activities such as crafts\, science\, literacy\, and gross and fine motor activities. Have questions about child development or other parenting concerns? Feel free to ask our qualified staff about the multitude of resources we have to offer. \n  \n 
URL:https://ccrconnect.ca/event/play-learn-63/2025-01-14/
LOCATION:New Sudbury (Lasalle Elementary School) EarlyON\, 1545 Kennedy Street\, Sudbury\, Ontario\, P3A 2G1\, Canada
END:VEVENT
BEGIN:VEVENT
DTSTART;TZID=America/New_York:20250113T130000
DTEND;TZID=America/New_York:20250113T150000
DTSTAMP:20260424T180608
CREATED:20241220T141153Z
LAST-MODIFIED:20241220T141153Z
UID:10005977-1736773200-1736780400@ccrconnect.ca
SUMMARY:Babies Day Out
DESCRIPTION:Babies’ Day Out\nBabies’ Day Out is a program for infants 0 to 18 months and their parents. The program allows infants to explore\, learn and play in a safe environment. Siblings are welcome to join. EarlyON Practitioners can also support with any questions you may have regarding infant development.
URL:https://ccrconnect.ca/event/babies-day-out-23/2025-01-13/
LOCATION:New Sudbury (Lasalle Elementary School) EarlyON\, 1545 Kennedy Street\, Sudbury\, Ontario\, P3A 2G1\, Canada
END:VEVENT
BEGIN:VEVENT
DTSTART;TZID=America/Toronto:20250113T093000
DTEND;TZID=America/Toronto:20250113T120000
DTSTAMP:20260424T180608
CREATED:20241219T181628Z
LAST-MODIFIED:20241219T181628Z
UID:10005737-1736760600-1736769600@ccrconnect.ca
SUMMARY:Toddler Tales - Rhymes to Reading (12-30 months)
DESCRIPTION:Rhymes to reading is an early Language & Literacy program where toddlers experience the positive effects of reading\, signing\, playing\, and developing find & gross motor skills through stories\, songs and crafts. Your Toddler will have the opportunity to engage in fun activities\, learn new skills and meet new friends. (12-30 months)
URL:https://ccrconnect.ca/event/toddler-tales-rhymes-to-reading-12-30-months-5/2025-01-13/
LOCATION:New Sudbury (Lasalle Elementary School) EarlyON\, 1545 Kennedy Street\, Sudbury\, Ontario\, P3A 2G1\, Canada
END:VEVENT
BEGIN:VEVENT
DTSTART;TZID=America/New_York:20250110T090000
DTEND;TZID=America/New_York:20250110T120000
DTSTAMP:20260424T180608
CREATED:20241219T182418Z
LAST-MODIFIED:20241219T190419Z
UID:10005785-1736499600-1736510400@ccrconnect.ca
SUMMARY:Play & Learn
DESCRIPTION:Join us for a program filled with fun\, socializing\, and learning for families of children 0-6yrs.  While attending our program\, you and your child will have the opportunity to participate in a variety of activities such as crafts\, science\, literacy\, and gross and fine motor activities. Have questions about child development or other parenting concerns? Feel free to ask our qualified staff about the multitude of resources we have to offer. \n  \n 
URL:https://ccrconnect.ca/event/play-learn-64/2025-01-10/
LOCATION:New Sudbury (Lasalle Elementary School) EarlyON\, 1545 Kennedy Street\, Sudbury\, Ontario\, P3A 2G1\, Canada
END:VEVENT
BEGIN:VEVENT
DTSTART;TZID=America/New_York:20250109T100000
DTEND;TZID=America/New_York:20250109T120000
DTSTAMP:20260424T180608
CREATED:20241219T182245Z
LAST-MODIFIED:20241223T162014Z
UID:10005777-1736416800-1736424000@ccrconnect.ca
SUMMARY:Kids in Motion at Westmount Community Centre - New Sudbury Outreach
DESCRIPTION:Join us at the EarlyON Westmount community center location on Thursdays for a morning of physical activities including gross motor games\, music and movement and interactive movement stories. This program not only promotes healthy gross motor development build social skills and self-regulation.
URL:https://ccrconnect.ca/event/kids-in-motion-at-westmount-community-centre-new-sudbury-outreach/2025-01-09/
LOCATION:Westmount Community Centre Field House\, 109 Kipling Court\, Sudbury\, Ontario\, Canada
END:VEVENT
BEGIN:VEVENT
DTSTART;TZID=America/New_York:20250108T130000
DTEND;TZID=America/New_York:20250108T150000
DTSTAMP:20260424T180608
CREATED:20241220T141300Z
LAST-MODIFIED:20241220T153323Z
UID:10006010-1736341200-1736348400@ccrconnect.ca
SUMMARY:Play & Learn
DESCRIPTION:Join us for a program filled with fun\, socializing\, and learning for families of children 0-6yrs.  While attending our program\, you and your child will have the opportunity to participate in a variety of activities such as crafts\, science\, literacy\, and gross and fine motor activities. Have questions about child development or other parenting concerns? Feel free to ask our qualified staff about the multitude of resources we have to offer. \n  \n 
URL:https://ccrconnect.ca/event/play-learn-66/2025-01-08/
LOCATION:New Sudbury (Lasalle Elementary School) EarlyON\, 1545 Kennedy Street\, Sudbury\, Ontario\, P3A 2G1\, Canada
END:VEVENT
BEGIN:VEVENT
DTSTART;TZID=America/New_York:20250108T083000
DTEND;TZID=America/New_York:20250108T120000
DTSTAMP:20260424T180608
CREATED:20241219T181949Z
LAST-MODIFIED:20241219T181949Z
UID:10005760-1736325000-1736337600@ccrconnect.ca
SUMMARY:Babies Day Out
DESCRIPTION:Babies’ Day Out\nBabies’ Day Out is a program for infants 0 to 18 months and their parents. The program allows infants to explore\, learn and play in a safe environment. Siblings are welcome to join. EarlyON Practitioners can also support with any questions you may have regarding infant development.
URL:https://ccrconnect.ca/event/babies-day-out-22/2025-01-08/
LOCATION:New Sudbury (Lasalle Elementary School) EarlyON\, 1545 Kennedy Street\, Sudbury\, Ontario\, P3A 2G1\, Canada
END:VEVENT
BEGIN:VEVENT
DTSTART;TZID=America/New_York:20250107T090000
DTEND;TZID=America/New_York:20250107T120000
DTSTAMP:20260424T180608
CREATED:20241219T181731Z
LAST-MODIFIED:20241219T181731Z
UID:10005752-1736240400-1736251200@ccrconnect.ca
SUMMARY:Play & Learn
DESCRIPTION:Join us for a program filled with fun\, socializing\, and learning for families of children 0-6yrs.  While attending our program\, you and your child will have the opportunity to participate in a variety of activities such as crafts\, science\, literacy\, and gross and fine motor activities. Have questions about child development or other parenting concerns? Feel free to ask our qualified staff about the multitude of resources we have to offer. \n  \n 
URL:https://ccrconnect.ca/event/play-learn-63/2025-01-07/
LOCATION:New Sudbury (Lasalle Elementary School) EarlyON\, 1545 Kennedy Street\, Sudbury\, Ontario\, P3A 2G1\, Canada
END:VEVENT
BEGIN:VEVENT
DTSTART;TZID=America/New_York:20250106T130000
DTEND;TZID=America/New_York:20250106T150000
DTSTAMP:20260424T180608
CREATED:20241220T141153Z
LAST-MODIFIED:20241220T141153Z
UID:10005976-1736168400-1736175600@ccrconnect.ca
SUMMARY:Babies Day Out
DESCRIPTION:Babies’ Day Out\nBabies’ Day Out is a program for infants 0 to 18 months and their parents. The program allows infants to explore\, learn and play in a safe environment. Siblings are welcome to join. EarlyON Practitioners can also support with any questions you may have regarding infant development.
URL:https://ccrconnect.ca/event/babies-day-out-23/2025-01-06/
LOCATION:New Sudbury (Lasalle Elementary School) EarlyON\, 1545 Kennedy Street\, Sudbury\, Ontario\, P3A 2G1\, Canada
END:VEVENT
BEGIN:VEVENT
DTSTART;TZID=America/Toronto:20250106T093000
DTEND;TZID=America/Toronto:20250106T120000
DTSTAMP:20260424T180608
CREATED:20241219T181628Z
LAST-MODIFIED:20241219T181628Z
UID:10005736-1736155800-1736164800@ccrconnect.ca
SUMMARY:Toddler Tales - Rhymes to Reading (12-30 months)
DESCRIPTION:Rhymes to reading is an early Language & Literacy program where toddlers experience the positive effects of reading\, signing\, playing\, and developing find & gross motor skills through stories\, songs and crafts. Your Toddler will have the opportunity to engage in fun activities\, learn new skills and meet new friends. (12-30 months)
URL:https://ccrconnect.ca/event/toddler-tales-rhymes-to-reading-12-30-months-5/2025-01-06/
LOCATION:New Sudbury (Lasalle Elementary School) EarlyON\, 1545 Kennedy Street\, Sudbury\, Ontario\, P3A 2G1\, Canada
END:VEVENT
BEGIN:VEVENT
DTSTART;TZID=America/New_York:20250103T090000
DTEND;TZID=America/New_York:20250103T120000
DTSTAMP:20260424T180608
CREATED:20241219T182418Z
LAST-MODIFIED:20241219T190419Z
UID:10005799-1735894800-1735905600@ccrconnect.ca
SUMMARY:Play & Learn
DESCRIPTION:Join us for a program filled with fun\, socializing\, and learning for families of children 0-6yrs.  While attending our program\, you and your child will have the opportunity to participate in a variety of activities such as crafts\, science\, literacy\, and gross and fine motor activities. Have questions about child development or other parenting concerns? Feel free to ask our qualified staff about the multitude of resources we have to offer. \n  \n 
URL:https://ccrconnect.ca/event/play-learn-64/2025-01-03/
LOCATION:New Sudbury (Lasalle Elementary School) EarlyON\, 1545 Kennedy Street\, Sudbury\, Ontario\, P3A 2G1\, Canada
END:VEVENT
BEGIN:VEVENT
DTSTART;TZID=America/New_York:20241220T090000
DTEND;TZID=America/New_York:20241220T120000
DTSTAMP:20260424T180608
CREATED:20240122T153247Z
LAST-MODIFIED:20241114T162430Z
UID:10005357-1734685200-1734696000@ccrconnect.ca
SUMMARY:Play & Learn
DESCRIPTION:Join us for a program filled with fun\, socializing\, and learning for families of children 0-6yrs.  While attending our program\, you and your child will have the opportunity to participate in a variety of activities such as crafts\, science\, literacy\, and gross and fine motor activities. Have questions about child development or other parenting concerns? Feel free to ask our qualified staff about the multitude of resources we have to offer. \n 
URL:https://ccrconnect.ca/event/play-learn-32/2024-12-20/
LOCATION:New Sudbury (Lasalle Elementary School) EarlyON\, 1545 Kennedy Street\, Sudbury\, Ontario\, P3A 2G1\, Canada
END:VEVENT
BEGIN:VEVENT
DTSTART;TZID=America/New_York:20241218T083000
DTEND;TZID=America/New_York:20241218T120000
DTSTAMP:20260424T180608
CREATED:20241021T153652Z
LAST-MODIFIED:20241114T161945Z
UID:10005352-1734510600-1734523200@ccrconnect.ca
SUMMARY:Babies Day Out
DESCRIPTION:Babies’ Day Out\nBabies’ Day Out is a program for infants 0 to 18 months and their parents. The program allows infants to explore\, learn and play in a safe environment. Siblings are welcome to join. EarlyON Practitioners can also support with any questions you may have regarding infant development.
URL:https://ccrconnect.ca/event/babies-day-out-6/2024-12-18/
LOCATION:New Sudbury (Lasalle Elementary School) EarlyON\, 1545 Kennedy Street\, Sudbury\, Ontario\, P3A 2G1\, Canada
END:VEVENT
BEGIN:VEVENT
DTSTART;TZID=America/New_York:20241217T090000
DTEND;TZID=America/New_York:20241217T120000
DTSTAMP:20260424T180608
CREATED:20240926T153245Z
LAST-MODIFIED:20241114T161816Z
UID:10005349-1734426000-1734436800@ccrconnect.ca
SUMMARY:Play & Learn
DESCRIPTION:Join us for a program filled with fun\, socializing\, and learning for families of children 0-6yrs.  While attending our program\, you and your child will have the opportunity to participate in a variety of activities such as crafts\, science\, literacy\, and gross and fine motor activities. Have questions about child development or other parenting concerns? Feel free to ask our qualified staff about the multitude of resources we have to offer. \n  \n 
URL:https://ccrconnect.ca/event/play-learn-4/2024-12-17/
LOCATION:New Sudbury (Lasalle Elementary School) EarlyON\, 1545 Kennedy Street\, Sudbury\, Ontario\, P3A 2G1\, Canada
END:VEVENT
BEGIN:VEVENT
DTSTART;TZID=America/New_York:20241216T130000
DTEND;TZID=America/New_York:20241216T150000
DTSTAMP:20260424T180608
CREATED:20241021T153137Z
LAST-MODIFIED:20241114T161644Z
UID:10005346-1734354000-1734361200@ccrconnect.ca
SUMMARY:Early Childhood Consultations - Drop-ins welcome
DESCRIPTION:Early Childhood Consultations – Meet with a member of our team!  \nDo you have questions about your child’s development and or social behaviours?  Are you interested in parenting strategies?  Do you have questions about community services available for you or your child?  We offer a free and confidential service that supports parents\, caregivers with children 0-6 years of age. This service provides a one-on-one session with a member of our EarlyON team regarding parenting tips\, child development and or child behavior. We provide a nonjudgmental environment and emotional support. Screening tools can be completed upon your consent with your child and referrals can be made to additional community support if needed.
URL:https://ccrconnect.ca/event/early-childhood-consultations-2/2024-12-16/
LOCATION:New Sudbury (Lasalle Elementary School) EarlyON\, 1545 Kennedy Street\, Sudbury\, Ontario\, P3A 2G1\, Canada
END:VEVENT
BEGIN:VEVENT
DTSTART;TZID=America/Toronto:20241216T093000
DTEND;TZID=America/Toronto:20241216T120000
DTSTAMP:20260424T180608
CREATED:20241021T171144Z
LAST-MODIFIED:20241114T161530Z
UID:10005343-1734341400-1734350400@ccrconnect.ca
SUMMARY:Toddler Tales - Rhymes to Reading (12-30 months)
DESCRIPTION:Rhymes to reading is an early Language & Literacy program where toddlers experience the positive effects of reading\, signing\, playing\, and developing find & gross motor skills through stories\, songs and crafts. Your Toddler will have the opportunity to engage in fun activities\, learn new skills and meet new friends. (12-30 months)
URL:https://ccrconnect.ca/event/toddler-tales-rhymes-to-reading-12-30-months-3/2024-12-16/
LOCATION:New Sudbury (Lasalle Elementary School) EarlyON\, 1545 Kennedy Street\, Sudbury\, Ontario\, P3A 2G1\, Canada
END:VEVENT
BEGIN:VEVENT
DTSTART;TZID=America/New_York:20241211T083000
DTEND;TZID=America/New_York:20241211T120000
DTSTAMP:20260424T180608
CREATED:20241021T153652Z
LAST-MODIFIED:20241114T161945Z
UID:10005351-1733905800-1733918400@ccrconnect.ca
SUMMARY:Babies Day Out
DESCRIPTION:Babies’ Day Out\nBabies’ Day Out is a program for infants 0 to 18 months and their parents. The program allows infants to explore\, learn and play in a safe environment. Siblings are welcome to join. EarlyON Practitioners can also support with any questions you may have regarding infant development.
URL:https://ccrconnect.ca/event/babies-day-out-6/2024-12-11/
LOCATION:New Sudbury (Lasalle Elementary School) EarlyON\, 1545 Kennedy Street\, Sudbury\, Ontario\, P3A 2G1\, Canada
END:VEVENT
BEGIN:VEVENT
DTSTART;TZID=America/New_York:20241210T090000
DTEND;TZID=America/New_York:20241210T120000
DTSTAMP:20260424T180608
CREATED:20240926T153245Z
LAST-MODIFIED:20241114T161816Z
UID:10005348-1733821200-1733832000@ccrconnect.ca
SUMMARY:Play & Learn
DESCRIPTION:Join us for a program filled with fun\, socializing\, and learning for families of children 0-6yrs.  While attending our program\, you and your child will have the opportunity to participate in a variety of activities such as crafts\, science\, literacy\, and gross and fine motor activities. Have questions about child development or other parenting concerns? Feel free to ask our qualified staff about the multitude of resources we have to offer. \n  \n 
URL:https://ccrconnect.ca/event/play-learn-4/2024-12-10/
LOCATION:New Sudbury (Lasalle Elementary School) EarlyON\, 1545 Kennedy Street\, Sudbury\, Ontario\, P3A 2G1\, Canada
END:VEVENT
BEGIN:VEVENT
DTSTART;TZID=America/New_York:20241209T130000
DTEND;TZID=America/New_York:20241209T150000
DTSTAMP:20260424T180608
CREATED:20241021T153137Z
LAST-MODIFIED:20241114T161644Z
UID:10005345-1733749200-1733756400@ccrconnect.ca
SUMMARY:Early Childhood Consultations - Drop-ins welcome
DESCRIPTION:Early Childhood Consultations – Meet with a member of our team!  \nDo you have questions about your child’s development and or social behaviours?  Are you interested in parenting strategies?  Do you have questions about community services available for you or your child?  We offer a free and confidential service that supports parents\, caregivers with children 0-6 years of age. This service provides a one-on-one session with a member of our EarlyON team regarding parenting tips\, child development and or child behavior. We provide a nonjudgmental environment and emotional support. Screening tools can be completed upon your consent with your child and referrals can be made to additional community support if needed.
URL:https://ccrconnect.ca/event/early-childhood-consultations-2/2024-12-09/
LOCATION:New Sudbury (Lasalle Elementary School) EarlyON\, 1545 Kennedy Street\, Sudbury\, Ontario\, P3A 2G1\, Canada
END:VEVENT
BEGIN:VEVENT
DTSTART;TZID=America/Toronto:20241209T093000
DTEND;TZID=America/Toronto:20241209T120000
DTSTAMP:20260424T180608
CREATED:20241021T171144Z
LAST-MODIFIED:20241114T161530Z
UID:10005342-1733736600-1733745600@ccrconnect.ca
SUMMARY:Toddler Tales - Rhymes to Reading (12-30 months)
DESCRIPTION:Rhymes to reading is an early Language & Literacy program where toddlers experience the positive effects of reading\, signing\, playing\, and developing find & gross motor skills through stories\, songs and crafts. Your Toddler will have the opportunity to engage in fun activities\, learn new skills and meet new friends. (12-30 months)
URL:https://ccrconnect.ca/event/toddler-tales-rhymes-to-reading-12-30-months-3/2024-12-09/
LOCATION:New Sudbury (Lasalle Elementary School) EarlyON\, 1545 Kennedy Street\, Sudbury\, Ontario\, P3A 2G1\, Canada
END:VEVENT
BEGIN:VEVENT
DTSTART;TZID=America/New_York:20241206T090000
DTEND;TZID=America/New_York:20241206T120000
DTSTAMP:20260424T180608
CREATED:20240122T153247Z
LAST-MODIFIED:20241114T162430Z
UID:10005356-1733475600-1733486400@ccrconnect.ca
SUMMARY:Play & Learn
DESCRIPTION:Join us for a program filled with fun\, socializing\, and learning for families of children 0-6yrs.  While attending our program\, you and your child will have the opportunity to participate in a variety of activities such as crafts\, science\, literacy\, and gross and fine motor activities. Have questions about child development or other parenting concerns? Feel free to ask our qualified staff about the multitude of resources we have to offer. \n 
URL:https://ccrconnect.ca/event/play-learn-32/2024-12-06/
LOCATION:New Sudbury (Lasalle Elementary School) EarlyON\, 1545 Kennedy Street\, Sudbury\, Ontario\, P3A 2G1\, Canada
END:VEVENT
BEGIN:VEVENT
DTSTART;TZID=America/New_York:20241204T083000
DTEND;TZID=America/New_York:20241204T120000
DTSTAMP:20260424T180608
CREATED:20241021T153652Z
LAST-MODIFIED:20241114T161945Z
UID:10005350-1733301000-1733313600@ccrconnect.ca
SUMMARY:Babies Day Out
DESCRIPTION:Babies’ Day Out\nBabies’ Day Out is a program for infants 0 to 18 months and their parents. The program allows infants to explore\, learn and play in a safe environment. Siblings are welcome to join. EarlyON Practitioners can also support with any questions you may have regarding infant development.
URL:https://ccrconnect.ca/event/babies-day-out-6/2024-12-04/
LOCATION:New Sudbury (Lasalle Elementary School) EarlyON\, 1545 Kennedy Street\, Sudbury\, Ontario\, P3A 2G1\, Canada
END:VEVENT
END:VCALENDAR