BEGIN:VCALENDAR
VERSION:2.0
PRODID:-//Child &amp; Community Resources - ECPv6.15.20//NONSGML v1.0//EN
CALSCALE:GREGORIAN
METHOD:PUBLISH
X-WR-CALNAME:Child &amp; Community Resources
X-ORIGINAL-URL:https://ccrconnect.ca
X-WR-CALDESC:Events for Child &amp; Community Resources
REFRESH-INTERVAL;VALUE=DURATION:PT1H
X-Robots-Tag:noindex
X-PUBLISHED-TTL:PT1H
BEGIN:VTIMEZONE
TZID:America/New_York
BEGIN:DAYLIGHT
TZOFFSETFROM:-0500
TZOFFSETTO:-0400
TZNAME:EDT
DTSTART:20240310T070000
END:DAYLIGHT
BEGIN:STANDARD
TZOFFSETFROM:-0400
TZOFFSETTO:-0500
TZNAME:EST
DTSTART:20241103T060000
END:STANDARD
BEGIN:DAYLIGHT
TZOFFSETFROM:-0500
TZOFFSETTO:-0400
TZNAME:EDT
DTSTART:20250309T070000
END:DAYLIGHT
BEGIN:STANDARD
TZOFFSETFROM:-0400
TZOFFSETTO:-0500
TZNAME:EST
DTSTART:20251102T060000
END:STANDARD
BEGIN:DAYLIGHT
TZOFFSETFROM:-0500
TZOFFSETTO:-0400
TZNAME:EDT
DTSTART:20260308T070000
END:DAYLIGHT
BEGIN:STANDARD
TZOFFSETFROM:-0400
TZOFFSETTO:-0500
TZNAME:EST
DTSTART:20261101T060000
END:STANDARD
END:VTIMEZONE
BEGIN:VTIMEZONE
TZID:America/Toronto
BEGIN:DAYLIGHT
TZOFFSETFROM:-0500
TZOFFSETTO:-0400
TZNAME:EDT
DTSTART:20240310T070000
END:DAYLIGHT
BEGIN:STANDARD
TZOFFSETFROM:-0400
TZOFFSETTO:-0500
TZNAME:EST
DTSTART:20241103T060000
END:STANDARD
BEGIN:DAYLIGHT
TZOFFSETFROM:-0500
TZOFFSETTO:-0400
TZNAME:EDT
DTSTART:20250309T070000
END:DAYLIGHT
BEGIN:STANDARD
TZOFFSETFROM:-0400
TZOFFSETTO:-0500
TZNAME:EST
DTSTART:20251102T060000
END:STANDARD
BEGIN:DAYLIGHT
TZOFFSETFROM:-0500
TZOFFSETTO:-0400
TZNAME:EDT
DTSTART:20260308T070000
END:DAYLIGHT
BEGIN:STANDARD
TZOFFSETFROM:-0400
TZOFFSETTO:-0500
TZNAME:EST
DTSTART:20261101T060000
END:STANDARD
END:VTIMEZONE
BEGIN:VEVENT
DTSTART;TZID=America/New_York:20250307T091500
DTEND;TZID=America/New_York:20250307T120000
DTSTAMP:20260422T232820
CREATED:20250129T193739Z
LAST-MODIFIED:20250530T124205Z
UID:10010852-1741338900-1741348800@ccrconnect.ca
SUMMARY:Play & Learn
DESCRIPTION:Join us for a program filled with fun\, socializing\, and learning for families of children 0-6yrs.  While attending our program\, you and your child will have the opportunity to participate in a variety of activities such as crafts\, science\, literacy\, and gross and fine motor activities. Have questions about child development or other parenting concerns? Feel free to ask our qualified staff about the multitude of resources we have to offer. \n  \n 
URL:https://ccrconnect.ca/event/play-learn-83/2025-03-07/
LOCATION:New Sudbury (Lasalle Elementary School) EarlyON\, 1545 Kennedy Street\, Sudbury\, Ontario\, P3A 2G1\, Canada
END:VEVENT
BEGIN:VEVENT
DTSTART;TZID=America/New_York:20250306T131500
DTEND;TZID=America/New_York:20250306T160000
DTSTAMP:20260422T232820
CREATED:20250227T193508Z
LAST-MODIFIED:20250627T142303Z
UID:10010806-1741266900-1741276800@ccrconnect.ca
SUMMARY:Babies Day Out
DESCRIPTION:Babies’ Day Out\nBabies’ Day Out is a program for infants 0 to 18 months and their parents. The program allows infants to explore\, learn and play in a safe environment. Siblings are welcome to join. EarlyON Practitioners can also support with any questions you may have regarding infant development.
URL:https://ccrconnect.ca/event/babies-day-out-38/2025-03-06/
LOCATION:New Sudbury (Lasalle Elementary School) EarlyON\, 1545 Kennedy Street\, Sudbury\, Ontario\, P3A 2G1\, Canada
END:VEVENT
BEGIN:VEVENT
DTSTART;TZID=America/New_York:20250305T131500
DTEND;TZID=America/New_York:20250305T160000
DTSTAMP:20260422T232820
CREATED:20250227T193122Z
LAST-MODIFIED:20250515T150318Z
UID:10010714-1741180500-1741190400@ccrconnect.ca
SUMMARY:Babies Day Out
DESCRIPTION:Babies’ Day Out\nBabies’ Day Out is a program for infants 0 to 18 months and their parents. The program allows infants to explore\, learn and play in a safe environment. Siblings are welcome to join. EarlyON Practitioners can also support with any questions you may have regarding infant development.
URL:https://ccrconnect.ca/event/babies-day-out-30/2025-03-05/
LOCATION:New Sudbury (Lasalle Elementary School) EarlyON\, 1545 Kennedy Street\, Sudbury\, Ontario\, P3A 2G1\, Canada
END:VEVENT
BEGIN:VEVENT
DTSTART;TZID=America/New_York:20250305T091500
DTEND;TZID=America/New_York:20250305T120000
DTSTAMP:20260422T232820
CREATED:20250129T192201Z
LAST-MODIFIED:20250227T191745Z
UID:10010622-1741166100-1741176000@ccrconnect.ca
SUMMARY:Babies Day Out
DESCRIPTION:Babies’ Day Out\nBabies’ Day Out is a program for infants 0 to 18 months and their parents. The program allows infants to explore\, learn and play in a safe environment. Siblings are welcome to join. EarlyON Practitioners can also support with any questions you may have regarding infant development.
URL:https://ccrconnect.ca/event/babies-day-out-31/2025-03-05/
LOCATION:New Sudbury (Lasalle Elementary School) EarlyON\, 1545 Kennedy Street\, Sudbury\, Ontario\, P3A 2G1\, Canada
END:VEVENT
BEGIN:VEVENT
DTSTART;TZID=America/Toronto:20250304T131500
DTEND;TZID=America/Toronto:20250304T160000
DTSTAMP:20260422T232820
CREATED:20250227T191455Z
LAST-MODIFIED:20250627T145203Z
UID:10010574-1741094100-1741104000@ccrconnect.ca
SUMMARY:Toddler Tales (12-30 months)
DESCRIPTION:Toddler Tales is a program where toddlers experience the positive effects of reading\, signing\, playing\, and developing find & gross motor skills through stories\, songs and crafts. Your Toddler will have the opportunity to engage in fun activities\, learn new skills and meet new friends. (12-30 months)
URL:https://ccrconnect.ca/event/toddler-tales-12-30-months/2025-03-04/
LOCATION:New Sudbury (Lasalle Elementary School) EarlyON\, 1545 Kennedy Street\, Sudbury\, Ontario\, P3A 2G1\, Canada
END:VEVENT
BEGIN:VEVENT
DTSTART;TZID=America/New_York:20250304T091500
DTEND;TZID=America/New_York:20250304T120000
DTSTAMP:20260422T232820
CREATED:20250129T190528Z
LAST-MODIFIED:20260224T151813Z
UID:10010490-1741079700-1741089600@ccrconnect.ca
SUMMARY:Play & Learn
DESCRIPTION:Join us for a program filled with fun\, socializing\, and learning for families of children 0-6yrs.  While attending our program\, you and your child will have the opportunity to participate in a variety of activities such as crafts\, science\, literacy\, and gross and fine motor activities. Have questions about child development or other parenting concerns? Feel free to ask our qualified staff about the multitude of resources we have to offer. \n  \n 
URL:https://ccrconnect.ca/event/play-learn-81/2025-03-04/
LOCATION:New Sudbury (Lasalle Elementary School) EarlyON\, 1545 Kennedy Street\, Sudbury\, Ontario\, P3A 2G1\, Canada
END:VEVENT
BEGIN:VEVENT
DTSTART;TZID=America/Toronto:20250303T091500
DTEND;TZID=America/Toronto:20250303T120000
DTSTAMP:20260422T232820
CREATED:20250129T184547Z
LAST-MODIFIED:20250227T185257Z
UID:10010401-1740993300-1741003200@ccrconnect.ca
SUMMARY:Toddler Tales (12-30 months)
DESCRIPTION:Toddler Tales is a program where toddlers experience the positive effects of reading\, signing\, playing\, and developing find & gross motor skills through stories\, songs and crafts. Your Toddler will have the opportunity to engage in fun activities\, learn new skills and meet new friends. (12-30 months)
URL:https://ccrconnect.ca/event/toddler-tales-rhymes-to-reading-12-30-months-6/2025-03-03/
LOCATION:New Sudbury (Lasalle Elementary School) EarlyON\, 1545 Kennedy Street\, Sudbury\, Ontario\, P3A 2G1\, Canada
END:VEVENT
BEGIN:VEVENT
DTSTART;TZID=America/New_York:20250228T091500
DTEND;TZID=America/New_York:20250228T120000
DTSTAMP:20260422T232820
CREATED:20250129T193739Z
LAST-MODIFIED:20250530T124205Z
UID:10010851-1740734100-1740744000@ccrconnect.ca
SUMMARY:Play & Learn
DESCRIPTION:Join us for a program filled with fun\, socializing\, and learning for families of children 0-6yrs.  While attending our program\, you and your child will have the opportunity to participate in a variety of activities such as crafts\, science\, literacy\, and gross and fine motor activities. Have questions about child development or other parenting concerns? Feel free to ask our qualified staff about the multitude of resources we have to offer. \n  \n 
URL:https://ccrconnect.ca/event/play-learn-83/2025-02-28/
LOCATION:New Sudbury (Lasalle Elementary School) EarlyON\, 1545 Kennedy Street\, Sudbury\, Ontario\, P3A 2G1\, Canada
END:VEVENT
BEGIN:VEVENT
DTSTART;TZID=America/New_York:20250226T091500
DTEND;TZID=America/New_York:20250226T120000
DTSTAMP:20260422T232820
CREATED:20250129T192201Z
LAST-MODIFIED:20250227T191745Z
UID:10010621-1740561300-1740571200@ccrconnect.ca
SUMMARY:Babies Day Out
DESCRIPTION:Babies’ Day Out\nBabies’ Day Out is a program for infants 0 to 18 months and their parents. The program allows infants to explore\, learn and play in a safe environment. Siblings are welcome to join. EarlyON Practitioners can also support with any questions you may have regarding infant development.
URL:https://ccrconnect.ca/event/babies-day-out-31/2025-02-26/
LOCATION:New Sudbury (Lasalle Elementary School) EarlyON\, 1545 Kennedy Street\, Sudbury\, Ontario\, P3A 2G1\, Canada
END:VEVENT
BEGIN:VEVENT
DTSTART;TZID=America/New_York:20250225T143000
DTEND;TZID=America/New_York:20250225T173000
DTSTAMP:20260422T232820
CREATED:20250129T190912Z
LAST-MODIFIED:20250129T190912Z
UID:10007832-1740493800-1740504600@ccrconnect.ca
SUMMARY:Who let the Dads Out!
DESCRIPTION:This program gives fathers\, grandfathers\, uncles\, and their children the opportunity to interact together in an open and welcoming environment while participating in discussion\, games\, and physical activities. A healthy nutritious light snack will be provided. Occurs the last Tuesday of each month.
URL:https://ccrconnect.ca/event/who-let-the-dads-out-11/
LOCATION:New Sudbury (Lasalle Elementary School) EarlyON\, 1545 Kennedy Street\, Sudbury\, Ontario\, P3A 2G1\, Canada
END:VEVENT
BEGIN:VEVENT
DTSTART;TZID=America/New_York:20250225T091500
DTEND;TZID=America/New_York:20250225T120000
DTSTAMP:20260422T232820
CREATED:20250129T190528Z
LAST-MODIFIED:20260224T151813Z
UID:10010489-1740474900-1740484800@ccrconnect.ca
SUMMARY:Play & Learn
DESCRIPTION:Join us for a program filled with fun\, socializing\, and learning for families of children 0-6yrs.  While attending our program\, you and your child will have the opportunity to participate in a variety of activities such as crafts\, science\, literacy\, and gross and fine motor activities. Have questions about child development or other parenting concerns? Feel free to ask our qualified staff about the multitude of resources we have to offer. \n  \n 
URL:https://ccrconnect.ca/event/play-learn-81/2025-02-25/
LOCATION:New Sudbury (Lasalle Elementary School) EarlyON\, 1545 Kennedy Street\, Sudbury\, Ontario\, P3A 2G1\, Canada
END:VEVENT
BEGIN:VEVENT
DTSTART;TZID=America/Toronto:20250224T091500
DTEND;TZID=America/Toronto:20250224T120000
DTSTAMP:20260422T232820
CREATED:20250129T184547Z
LAST-MODIFIED:20250227T185257Z
UID:10010400-1740388500-1740398400@ccrconnect.ca
SUMMARY:Toddler Tales (12-30 months)
DESCRIPTION:Toddler Tales is a program where toddlers experience the positive effects of reading\, signing\, playing\, and developing find & gross motor skills through stories\, songs and crafts. Your Toddler will have the opportunity to engage in fun activities\, learn new skills and meet new friends. (12-30 months)
URL:https://ccrconnect.ca/event/toddler-tales-rhymes-to-reading-12-30-months-6/2025-02-24/
LOCATION:New Sudbury (Lasalle Elementary School) EarlyON\, 1545 Kennedy Street\, Sudbury\, Ontario\, P3A 2G1\, Canada
END:VEVENT
BEGIN:VEVENT
DTSTART;TZID=America/New_York:20250221T091500
DTEND;TZID=America/New_York:20250221T120000
DTSTAMP:20260422T232820
CREATED:20250129T193739Z
LAST-MODIFIED:20250530T124205Z
UID:10010850-1740129300-1740139200@ccrconnect.ca
SUMMARY:Play & Learn
DESCRIPTION:Join us for a program filled with fun\, socializing\, and learning for families of children 0-6yrs.  While attending our program\, you and your child will have the opportunity to participate in a variety of activities such as crafts\, science\, literacy\, and gross and fine motor activities. Have questions about child development or other parenting concerns? Feel free to ask our qualified staff about the multitude of resources we have to offer. \n  \n 
URL:https://ccrconnect.ca/event/play-learn-83/2025-02-21/
LOCATION:New Sudbury (Lasalle Elementary School) EarlyON\, 1545 Kennedy Street\, Sudbury\, Ontario\, P3A 2G1\, Canada
END:VEVENT
BEGIN:VEVENT
DTSTART;TZID=America/New_York:20250219T091500
DTEND;TZID=America/New_York:20250219T120000
DTSTAMP:20260422T232820
CREATED:20250129T192201Z
LAST-MODIFIED:20250227T191745Z
UID:10010620-1739956500-1739966400@ccrconnect.ca
SUMMARY:Babies Day Out
DESCRIPTION:Babies’ Day Out\nBabies’ Day Out is a program for infants 0 to 18 months and their parents. The program allows infants to explore\, learn and play in a safe environment. Siblings are welcome to join. EarlyON Practitioners can also support with any questions you may have regarding infant development.
URL:https://ccrconnect.ca/event/babies-day-out-31/2025-02-19/
LOCATION:New Sudbury (Lasalle Elementary School) EarlyON\, 1545 Kennedy Street\, Sudbury\, Ontario\, P3A 2G1\, Canada
END:VEVENT
BEGIN:VEVENT
DTSTART;TZID=America/New_York:20250218T091500
DTEND;TZID=America/New_York:20250218T120000
DTSTAMP:20260422T232820
CREATED:20250129T190528Z
LAST-MODIFIED:20260224T151813Z
UID:10010488-1739870100-1739880000@ccrconnect.ca
SUMMARY:Play & Learn
DESCRIPTION:Join us for a program filled with fun\, socializing\, and learning for families of children 0-6yrs.  While attending our program\, you and your child will have the opportunity to participate in a variety of activities such as crafts\, science\, literacy\, and gross and fine motor activities. Have questions about child development or other parenting concerns? Feel free to ask our qualified staff about the multitude of resources we have to offer. \n  \n 
URL:https://ccrconnect.ca/event/play-learn-81/2025-02-18/
LOCATION:New Sudbury (Lasalle Elementary School) EarlyON\, 1545 Kennedy Street\, Sudbury\, Ontario\, P3A 2G1\, Canada
END:VEVENT
BEGIN:VEVENT
DTSTART;TZID=America/New_York:20250214T091500
DTEND;TZID=America/New_York:20250214T120000
DTSTAMP:20260422T232820
CREATED:20250129T193739Z
LAST-MODIFIED:20250530T124205Z
UID:10010849-1739524500-1739534400@ccrconnect.ca
SUMMARY:Play & Learn
DESCRIPTION:Join us for a program filled with fun\, socializing\, and learning for families of children 0-6yrs.  While attending our program\, you and your child will have the opportunity to participate in a variety of activities such as crafts\, science\, literacy\, and gross and fine motor activities. Have questions about child development or other parenting concerns? Feel free to ask our qualified staff about the multitude of resources we have to offer. \n  \n 
URL:https://ccrconnect.ca/event/play-learn-83/2025-02-14/
LOCATION:New Sudbury (Lasalle Elementary School) EarlyON\, 1545 Kennedy Street\, Sudbury\, Ontario\, P3A 2G1\, Canada
END:VEVENT
BEGIN:VEVENT
DTSTART;TZID=America/New_York:20250212T091500
DTEND;TZID=America/New_York:20250212T120000
DTSTAMP:20260422T232820
CREATED:20250129T192201Z
LAST-MODIFIED:20250227T191745Z
UID:10010619-1739351700-1739361600@ccrconnect.ca
SUMMARY:Babies Day Out
DESCRIPTION:Babies’ Day Out\nBabies’ Day Out is a program for infants 0 to 18 months and their parents. The program allows infants to explore\, learn and play in a safe environment. Siblings are welcome to join. EarlyON Practitioners can also support with any questions you may have regarding infant development.
URL:https://ccrconnect.ca/event/babies-day-out-31/2025-02-12/
LOCATION:New Sudbury (Lasalle Elementary School) EarlyON\, 1545 Kennedy Street\, Sudbury\, Ontario\, P3A 2G1\, Canada
END:VEVENT
BEGIN:VEVENT
DTSTART;TZID=America/New_York:20250211T091500
DTEND;TZID=America/New_York:20250211T120000
DTSTAMP:20260422T232820
CREATED:20250129T190528Z
LAST-MODIFIED:20260224T151813Z
UID:10010487-1739265300-1739275200@ccrconnect.ca
SUMMARY:Play & Learn
DESCRIPTION:Join us for a program filled with fun\, socializing\, and learning for families of children 0-6yrs.  While attending our program\, you and your child will have the opportunity to participate in a variety of activities such as crafts\, science\, literacy\, and gross and fine motor activities. Have questions about child development or other parenting concerns? Feel free to ask our qualified staff about the multitude of resources we have to offer. \n  \n 
URL:https://ccrconnect.ca/event/play-learn-81/2025-02-11/
LOCATION:New Sudbury (Lasalle Elementary School) EarlyON\, 1545 Kennedy Street\, Sudbury\, Ontario\, P3A 2G1\, Canada
END:VEVENT
BEGIN:VEVENT
DTSTART;TZID=America/Toronto:20250210T091500
DTEND;TZID=America/Toronto:20250210T120000
DTSTAMP:20260422T232820
CREATED:20250129T184547Z
LAST-MODIFIED:20250227T185257Z
UID:10010399-1739178900-1739188800@ccrconnect.ca
SUMMARY:Toddler Tales (12-30 months)
DESCRIPTION:Toddler Tales is a program where toddlers experience the positive effects of reading\, signing\, playing\, and developing find & gross motor skills through stories\, songs and crafts. Your Toddler will have the opportunity to engage in fun activities\, learn new skills and meet new friends. (12-30 months)
URL:https://ccrconnect.ca/event/toddler-tales-rhymes-to-reading-12-30-months-6/2025-02-10/
LOCATION:New Sudbury (Lasalle Elementary School) EarlyON\, 1545 Kennedy Street\, Sudbury\, Ontario\, P3A 2G1\, Canada
END:VEVENT
BEGIN:VEVENT
DTSTART;TZID=America/New_York:20250207T091500
DTEND;TZID=America/New_York:20250207T120000
DTSTAMP:20260422T232820
CREATED:20250129T193739Z
LAST-MODIFIED:20250530T124205Z
UID:10010848-1738919700-1738929600@ccrconnect.ca
SUMMARY:Play & Learn
DESCRIPTION:Join us for a program filled with fun\, socializing\, and learning for families of children 0-6yrs.  While attending our program\, you and your child will have the opportunity to participate in a variety of activities such as crafts\, science\, literacy\, and gross and fine motor activities. Have questions about child development or other parenting concerns? Feel free to ask our qualified staff about the multitude of resources we have to offer. \n  \n 
URL:https://ccrconnect.ca/event/play-learn-83/2025-02-07/
LOCATION:New Sudbury (Lasalle Elementary School) EarlyON\, 1545 Kennedy Street\, Sudbury\, Ontario\, P3A 2G1\, Canada
END:VEVENT
BEGIN:VEVENT
DTSTART;TZID=America/New_York:20250205T091500
DTEND;TZID=America/New_York:20250205T120000
DTSTAMP:20260422T232820
CREATED:20250129T192201Z
LAST-MODIFIED:20250227T191745Z
UID:10010618-1738746900-1738756800@ccrconnect.ca
SUMMARY:Babies Day Out
DESCRIPTION:Babies’ Day Out\nBabies’ Day Out is a program for infants 0 to 18 months and their parents. The program allows infants to explore\, learn and play in a safe environment. Siblings are welcome to join. EarlyON Practitioners can also support with any questions you may have regarding infant development.
URL:https://ccrconnect.ca/event/babies-day-out-31/2025-02-05/
LOCATION:New Sudbury (Lasalle Elementary School) EarlyON\, 1545 Kennedy Street\, Sudbury\, Ontario\, P3A 2G1\, Canada
END:VEVENT
BEGIN:VEVENT
DTSTART;TZID=America/New_York:20250204T091500
DTEND;TZID=America/New_York:20250204T120000
DTSTAMP:20260422T232820
CREATED:20250129T190528Z
LAST-MODIFIED:20260224T151813Z
UID:10010486-1738660500-1738670400@ccrconnect.ca
SUMMARY:Play & Learn
DESCRIPTION:Join us for a program filled with fun\, socializing\, and learning for families of children 0-6yrs.  While attending our program\, you and your child will have the opportunity to participate in a variety of activities such as crafts\, science\, literacy\, and gross and fine motor activities. Have questions about child development or other parenting concerns? Feel free to ask our qualified staff about the multitude of resources we have to offer. \n  \n 
URL:https://ccrconnect.ca/event/play-learn-81/2025-02-04/
LOCATION:New Sudbury (Lasalle Elementary School) EarlyON\, 1545 Kennedy Street\, Sudbury\, Ontario\, P3A 2G1\, Canada
END:VEVENT
BEGIN:VEVENT
DTSTART;TZID=America/Toronto:20250203T091500
DTEND;TZID=America/Toronto:20250203T120000
DTSTAMP:20260422T232820
CREATED:20250129T184547Z
LAST-MODIFIED:20250227T185257Z
UID:10010398-1738574100-1738584000@ccrconnect.ca
SUMMARY:Toddler Tales (12-30 months)
DESCRIPTION:Toddler Tales is a program where toddlers experience the positive effects of reading\, signing\, playing\, and developing find & gross motor skills through stories\, songs and crafts. Your Toddler will have the opportunity to engage in fun activities\, learn new skills and meet new friends. (12-30 months)
URL:https://ccrconnect.ca/event/toddler-tales-rhymes-to-reading-12-30-months-6/2025-02-03/
LOCATION:New Sudbury (Lasalle Elementary School) EarlyON\, 1545 Kennedy Street\, Sudbury\, Ontario\, P3A 2G1\, Canada
END:VEVENT
BEGIN:VEVENT
DTSTART;TZID=America/New_York:20250131T090000
DTEND;TZID=America/New_York:20250131T120000
DTSTAMP:20260422T232820
CREATED:20250120T185906Z
LAST-MODIFIED:20250120T185906Z
UID:10006088-1738314000-1738324800@ccrconnect.ca
SUMMARY:Play & Learn
DESCRIPTION:Join us for a program filled with fun\, socializing\, and learning for families of children 0-6yrs.  While attending our program\, you and your child will have the opportunity to participate in a variety of activities such as crafts\, science\, literacy\, and gross and fine motor activities. Have questions about child development or other parenting concerns? Feel free to ask our qualified staff about the multitude of resources we have to offer. \n  \n 
URL:https://ccrconnect.ca/event/play-learn-73/
LOCATION:New Sudbury (Lasalle Elementary School) EarlyON\, 1545 Kennedy Street\, Sudbury\, Ontario\, P3A 2G1\, Canada
END:VEVENT
BEGIN:VEVENT
DTSTART;TZID=America/New_York:20250130T100000
DTEND;TZID=America/New_York:20250130T120000
DTSTAMP:20260422T232820
CREATED:20241219T182245Z
LAST-MODIFIED:20241223T162014Z
UID:10005780-1738231200-1738238400@ccrconnect.ca
SUMMARY:Kids in Motion at Westmount Community Centre - New Sudbury Outreach
DESCRIPTION:Join us at the EarlyON Westmount community center location on Thursdays for a morning of physical activities including gross motor games\, music and movement and interactive movement stories. This program not only promotes healthy gross motor development build social skills and self-regulation.
URL:https://ccrconnect.ca/event/kids-in-motion-at-westmount-community-centre-new-sudbury-outreach/2025-01-30/
LOCATION:Westmount Community Centre Field House\, 109 Kipling Court\, Sudbury\, Ontario\, Canada
END:VEVENT
BEGIN:VEVENT
DTSTART;TZID=America/New_York:20250129T130000
DTEND;TZID=America/New_York:20250129T150000
DTSTAMP:20260422T232820
CREATED:20241220T141300Z
LAST-MODIFIED:20241220T153323Z
UID:10006013-1738155600-1738162800@ccrconnect.ca
SUMMARY:Play & Learn
DESCRIPTION:Join us for a program filled with fun\, socializing\, and learning for families of children 0-6yrs.  While attending our program\, you and your child will have the opportunity to participate in a variety of activities such as crafts\, science\, literacy\, and gross and fine motor activities. Have questions about child development or other parenting concerns? Feel free to ask our qualified staff about the multitude of resources we have to offer. \n  \n 
URL:https://ccrconnect.ca/event/play-learn-66/2025-01-29/
LOCATION:New Sudbury (Lasalle Elementary School) EarlyON\, 1545 Kennedy Street\, Sudbury\, Ontario\, P3A 2G1\, Canada
END:VEVENT
BEGIN:VEVENT
DTSTART;TZID=America/New_York:20250129T083000
DTEND;TZID=America/New_York:20250129T120000
DTSTAMP:20260422T232820
CREATED:20241219T181949Z
LAST-MODIFIED:20241219T181949Z
UID:10005763-1738139400-1738152000@ccrconnect.ca
SUMMARY:Babies Day Out
DESCRIPTION:Babies’ Day Out\nBabies’ Day Out is a program for infants 0 to 18 months and their parents. The program allows infants to explore\, learn and play in a safe environment. Siblings are welcome to join. EarlyON Practitioners can also support with any questions you may have regarding infant development.
URL:https://ccrconnect.ca/event/babies-day-out-22/2025-01-29/
LOCATION:New Sudbury (Lasalle Elementary School) EarlyON\, 1545 Kennedy Street\, Sudbury\, Ontario\, P3A 2G1\, Canada
END:VEVENT
BEGIN:VEVENT
DTSTART;TZID=America/New_York:20250128T143000
DTEND;TZID=America/New_York:20250128T173000
DTSTAMP:20260422T232820
CREATED:20241219T181828Z
LAST-MODIFIED:20241219T181828Z
UID:10005756-1738074600-1738085400@ccrconnect.ca
SUMMARY:Who let the Dads Out!
DESCRIPTION:This program gives fathers\, grandfathers\, uncles\, and their children the opportunity to interact together in an open and welcoming environment while participating in discussion\, games\, and physical activities. A healthy nutritious light snack will be provided. Occurs the last Tuesday of each month.
URL:https://ccrconnect.ca/event/who-let-the-dads-out-10/
LOCATION:New Sudbury (Lasalle Elementary School) EarlyON\, 1545 Kennedy Street\, Sudbury\, Ontario\, P3A 2G1\, Canada
END:VEVENT
BEGIN:VEVENT
DTSTART;TZID=America/New_York:20250128T090000
DTEND;TZID=America/New_York:20250128T120000
DTSTAMP:20260422T232820
CREATED:20241219T181731Z
LAST-MODIFIED:20241219T181731Z
UID:10005755-1738054800-1738065600@ccrconnect.ca
SUMMARY:Play & Learn
DESCRIPTION:Join us for a program filled with fun\, socializing\, and learning for families of children 0-6yrs.  While attending our program\, you and your child will have the opportunity to participate in a variety of activities such as crafts\, science\, literacy\, and gross and fine motor activities. Have questions about child development or other parenting concerns? Feel free to ask our qualified staff about the multitude of resources we have to offer. \n  \n 
URL:https://ccrconnect.ca/event/play-learn-63/2025-01-28/
LOCATION:New Sudbury (Lasalle Elementary School) EarlyON\, 1545 Kennedy Street\, Sudbury\, Ontario\, P3A 2G1\, Canada
END:VEVENT
BEGIN:VEVENT
DTSTART;TZID=America/Toronto:20250127T093000
DTEND;TZID=America/Toronto:20250127T120000
DTSTAMP:20260422T232820
CREATED:20241219T181628Z
LAST-MODIFIED:20241219T181628Z
UID:10005739-1737970200-1737979200@ccrconnect.ca
SUMMARY:Toddler Tales - Rhymes to Reading (12-30 months)
DESCRIPTION:Rhymes to reading is an early Language & Literacy program where toddlers experience the positive effects of reading\, signing\, playing\, and developing find & gross motor skills through stories\, songs and crafts. Your Toddler will have the opportunity to engage in fun activities\, learn new skills and meet new friends. (12-30 months)
URL:https://ccrconnect.ca/event/toddler-tales-rhymes-to-reading-12-30-months-5/2025-01-27/
LOCATION:New Sudbury (Lasalle Elementary School) EarlyON\, 1545 Kennedy Street\, Sudbury\, Ontario\, P3A 2G1\, Canada
END:VEVENT
END:VCALENDAR