BEGIN:VCALENDAR
VERSION:2.0
PRODID:-//Child &amp; Community Resources - ECPv6.15.20//NONSGML v1.0//EN
CALSCALE:GREGORIAN
METHOD:PUBLISH
X-WR-CALNAME:Child &amp; Community Resources
X-ORIGINAL-URL:https://ccrconnect.ca
X-WR-CALDESC:Events for Child &amp; Community Resources
REFRESH-INTERVAL;VALUE=DURATION:PT1H
X-Robots-Tag:noindex
X-PUBLISHED-TTL:PT1H
BEGIN:VTIMEZONE
TZID:America/New_York
BEGIN:DAYLIGHT
TZOFFSETFROM:-0500
TZOFFSETTO:-0400
TZNAME:EDT
DTSTART:20230312T070000
END:DAYLIGHT
BEGIN:STANDARD
TZOFFSETFROM:-0400
TZOFFSETTO:-0500
TZNAME:EST
DTSTART:20231105T060000
END:STANDARD
BEGIN:DAYLIGHT
TZOFFSETFROM:-0500
TZOFFSETTO:-0400
TZNAME:EDT
DTSTART:20240310T070000
END:DAYLIGHT
BEGIN:STANDARD
TZOFFSETFROM:-0400
TZOFFSETTO:-0500
TZNAME:EST
DTSTART:20241103T060000
END:STANDARD
BEGIN:DAYLIGHT
TZOFFSETFROM:-0500
TZOFFSETTO:-0400
TZNAME:EDT
DTSTART:20250309T070000
END:DAYLIGHT
BEGIN:STANDARD
TZOFFSETFROM:-0400
TZOFFSETTO:-0500
TZNAME:EST
DTSTART:20251102T060000
END:STANDARD
BEGIN:DAYLIGHT
TZOFFSETFROM:-0500
TZOFFSETTO:-0400
TZNAME:EDT
DTSTART:20260308T070000
END:DAYLIGHT
BEGIN:STANDARD
TZOFFSETFROM:-0400
TZOFFSETTO:-0500
TZNAME:EST
DTSTART:20261101T060000
END:STANDARD
END:VTIMEZONE
BEGIN:VTIMEZONE
TZID:America/Toronto
BEGIN:DAYLIGHT
TZOFFSETFROM:-0500
TZOFFSETTO:-0400
TZNAME:EDT
DTSTART:20240310T070000
END:DAYLIGHT
BEGIN:STANDARD
TZOFFSETFROM:-0400
TZOFFSETTO:-0500
TZNAME:EST
DTSTART:20241103T060000
END:STANDARD
BEGIN:DAYLIGHT
TZOFFSETFROM:-0500
TZOFFSETTO:-0400
TZNAME:EDT
DTSTART:20250309T070000
END:DAYLIGHT
BEGIN:STANDARD
TZOFFSETFROM:-0400
TZOFFSETTO:-0500
TZNAME:EST
DTSTART:20251102T060000
END:STANDARD
BEGIN:DAYLIGHT
TZOFFSETFROM:-0500
TZOFFSETTO:-0400
TZNAME:EDT
DTSTART:20260308T070000
END:DAYLIGHT
BEGIN:STANDARD
TZOFFSETFROM:-0400
TZOFFSETTO:-0500
TZNAME:EST
DTSTART:20261101T060000
END:STANDARD
END:VTIMEZONE
BEGIN:VEVENT
DTSTART;TZID=America/New_York:20250122T130000
DTEND;TZID=America/New_York:20250122T150000
DTSTAMP:20260420T033305
CREATED:20241219T164319Z
LAST-MODIFIED:20241219T164319Z
UID:10005528-1737550800-1737558000@ccrconnect.ca
SUMMARY:Play & Learn
DESCRIPTION:Join us for a program filled with fun\, socializing\, and learning for families of children 0-6yrs.  While attending our program\, you and your child will have the opportunity to participate in a variety of activities such as crafts\, science\, literacy\, and gross and fine motor activities. Have questions about child development or other parenting concerns? Feel free to ask our qualified staff about the multitude of resources we have to offer. \n 
URL:https://ccrconnect.ca/event/play-learn-59/2025-01-22/
LOCATION:Garson (Northeastern) EarlyON\, 45 Spruce Street\, Garson\, Ontario\, Canada
END:VEVENT
BEGIN:VEVENT
DTSTART;TZID=America/New_York:20250122T100000
DTEND;TZID=America/New_York:20250122T113000
DTSTAMP:20260420T033305
CREATED:20241219T163955Z
LAST-MODIFIED:20241219T163955Z
UID:10005520-1737540000-1737545400@ccrconnect.ca
SUMMARY:Mindful Minutes
DESCRIPTION:Join us at the Garson EarlyON Northeastern Public School on Thursdays for a morning filed with activities focused on building Self-Regulation skills geared towards children 18mths and up. While participating in this program families will learn strategies to help regulate big emotions by engaging in fun activities such as breathing and movement exercises to help your child find calm\, feel relaxed\, gain focus\, and feel reenergized throughout their day.
URL:https://ccrconnect.ca/event/mindful-minutes/2025-01-22/
LOCATION:Garson (Northeastern) EarlyON\, 45 Spruce Street\, Garson\, Ontario\, Canada
END:VEVENT
BEGIN:VEVENT
DTSTART;TZID=America/Toronto:20250121T090000
DTEND;TZID=America/Toronto:20250121T113000
DTSTAMP:20260420T033305
CREATED:20250102T204320Z
LAST-MODIFIED:20250106T140229Z
UID:10006053-1737450000-1737459000@ccrconnect.ca
SUMMARY:Kindergarten here I come
DESCRIPTION:Is your child starting school in September 2025? Are you looking to build on your child’s independence\, social and communication skills? Join us at Garson EarlyON every Tuesday morning from 9 to 11:30 am as together with you the parent/ guardian we will engage the children in activities that promote social skills\, self-regulation and independence to help prepare them for a transition to school.
URL:https://ccrconnect.ca/event/kindergarten-here-i-come/2025-01-21/
LOCATION:Garson (Northeastern) EarlyON\, 45 Spruce Street\, Garson\, Ontario\, Canada
END:VEVENT
BEGIN:VEVENT
DTSTART;TZID=America/New_York:20250120T090000
DTEND;TZID=America/New_York:20250120T120000
DTSTAMP:20260420T033305
CREATED:20241219T185404Z
LAST-MODIFIED:20241223T160346Z
UID:10005796-1737363600-1737374400@ccrconnect.ca
SUMMARY:Play & Learn
DESCRIPTION:Join us for a program filled with fun\, socializing\, and learning for families of children 0-6yrs.  While attending our program\, you and your child will have the opportunity to participate in a variety of activities such as crafts\, science\, literacy\, and gross and fine motor activities. Have questions about child development or other parenting concerns? Feel free to ask our qualified staff about the multitude of resources we have to offer. \n 
URL:https://ccrconnect.ca/event/play-learn-65/2025-01-20/
LOCATION:Garson (Northeastern) EarlyON\, 45 Spruce Street\, Garson\, Ontario\, Canada
END:VEVENT
BEGIN:VEVENT
DTSTART;TZID=America/New_York:20250120T090000
DTEND;TZID=America/New_York:20250120T120000
DTSTAMP:20260420T033305
CREATED:20241219T163037Z
LAST-MODIFIED:20241219T163037Z
UID:10005504-1737363600-1737374400@ccrconnect.ca
SUMMARY:Play & Learn
DESCRIPTION:Join us for a program filled with fun\, socializing\, and learning for families of children 0-6yrs.  While attending our program\, you and your child will have the opportunity to participate in a variety of activities such as crafts\, science\, literacy\, and gross and fine motor activities. Have questions about child development or other parenting concerns? Feel free to ask our qualified staff about the multitude of resources we have to offer. \n 
URL:https://ccrconnect.ca/event/play-learn-58/2025-01-20/
LOCATION:Garson (Northeastern) EarlyON\, 45 Spruce Street\, Garson\, Ontario\, Canada
END:VEVENT
BEGIN:VEVENT
DTSTART;TZID=America/New_York:20250117T090000
DTEND;TZID=America/New_York:20250117T120000
DTSTAMP:20260420T033305
CREATED:20241219T164616Z
LAST-MODIFIED:20241219T164616Z
UID:10005587-1737104400-1737115200@ccrconnect.ca
SUMMARY:Babies Day Out
DESCRIPTION:Babies’ Day Out\nBabies’ Day Out is a program for infants 0 to 18 months and their parents. The program allows infants to explore\, learn and play in a safe environment. Siblings are welcome to join. EarlyON Practitioners can also support with any questions you may have regarding infant development.
URL:https://ccrconnect.ca/event/babies-day-out-8/2025-01-17/
LOCATION:Garson (Northeastern) EarlyON\, 45 Spruce Street\, Garson\, Ontario\, Canada
END:VEVENT
BEGIN:VEVENT
DTSTART;TZID=America/New_York:20250116T130000
DTEND;TZID=America/New_York:20250116T150000
DTSTAMP:20260420T033305
CREATED:20241220T141549Z
LAST-MODIFIED:20241220T141549Z
UID:10005994-1737032400-1737039600@ccrconnect.ca
SUMMARY:Babies Day Out
DESCRIPTION:Babies’ Day Out\nBabies’ Day Out is a program for infants 0 to 18 months and their parents. The program allows infants to explore\, learn and play in a safe environment. Siblings are welcome to join. EarlyON Practitioners can also support with any questions you may have regarding infant development.
URL:https://ccrconnect.ca/event/babies-day-out-24/2025-01-16/
LOCATION:Garson (Northeastern) EarlyON\, 45 Spruce Street\, Garson\, Ontario\, Canada
END:VEVENT
BEGIN:VEVENT
DTSTART;TZID=America/New_York:20250116T090000
DTEND;TZID=America/New_York:20250116T120000
DTSTAMP:20260420T033305
CREATED:20241219T164424Z
LAST-MODIFIED:20241219T164424Z
UID:10005536-1737018000-1737028800@ccrconnect.ca
SUMMARY:Play & Learn
DESCRIPTION:Join us for a program filled with fun\, socializing\, and learning for families of children 0-6yrs.  While attending our program\, you and your child will have the opportunity to participate in a variety of activities such as crafts\, science\, literacy\, and gross and fine motor activities. Have questions about child development or other parenting concerns? Feel free to ask our qualified staff about the multitude of resources we have to offer. \n 
URL:https://ccrconnect.ca/event/play-learn-60/2025-01-16/
LOCATION:Garson (Northeastern) EarlyON\, 45 Spruce Street\, Garson\, Ontario\, Canada
END:VEVENT
BEGIN:VEVENT
DTSTART;TZID=America/New_York:20250115T130000
DTEND;TZID=America/New_York:20250115T150000
DTSTAMP:20260420T033305
CREATED:20250114T185432Z
LAST-MODIFIED:20250114T185435Z
UID:10005527-1736946000-1736953200@ccrconnect.ca
SUMMARY:Play & Learn with Indigenous-led Programming
DESCRIPTION:Join us for a play-and-learn session which includes a visit from staff of the Indigenous-led program.  This is an opportunity for families to learn about and participate in Indigenous cultural activities\, stories and more.  Everyone is welcome!\n 
URL:https://ccrconnect.ca/event/play-learn-59-2/
LOCATION:Garson (Northeastern) EarlyON\, 45 Spruce Street\, Garson\, Ontario\, Canada
END:VEVENT
BEGIN:VEVENT
DTSTART;TZID=America/New_York:20250115T100000
DTEND;TZID=America/New_York:20250115T113000
DTSTAMP:20260420T033305
CREATED:20241219T163955Z
LAST-MODIFIED:20241219T163955Z
UID:10005519-1736935200-1736940600@ccrconnect.ca
SUMMARY:Mindful Minutes
DESCRIPTION:Join us at the Garson EarlyON Northeastern Public School on Thursdays for a morning filed with activities focused on building Self-Regulation skills geared towards children 18mths and up. While participating in this program families will learn strategies to help regulate big emotions by engaging in fun activities such as breathing and movement exercises to help your child find calm\, feel relaxed\, gain focus\, and feel reenergized throughout their day.
URL:https://ccrconnect.ca/event/mindful-minutes/2025-01-15/
LOCATION:Garson (Northeastern) EarlyON\, 45 Spruce Street\, Garson\, Ontario\, Canada
END:VEVENT
BEGIN:VEVENT
DTSTART;TZID=America/Toronto:20250114T090000
DTEND;TZID=America/Toronto:20250114T113000
DTSTAMP:20260420T033305
CREATED:20250102T204320Z
LAST-MODIFIED:20250106T140229Z
UID:10006052-1736845200-1736854200@ccrconnect.ca
SUMMARY:Kindergarten here I come
DESCRIPTION:Is your child starting school in September 2025? Are you looking to build on your child’s independence\, social and communication skills? Join us at Garson EarlyON every Tuesday morning from 9 to 11:30 am as together with you the parent/ guardian we will engage the children in activities that promote social skills\, self-regulation and independence to help prepare them for a transition to school.
URL:https://ccrconnect.ca/event/kindergarten-here-i-come/2025-01-14/
LOCATION:Garson (Northeastern) EarlyON\, 45 Spruce Street\, Garson\, Ontario\, Canada
END:VEVENT
BEGIN:VEVENT
DTSTART;TZID=America/New_York:20250113T090000
DTEND;TZID=America/New_York:20250113T120000
DTSTAMP:20260420T033305
CREATED:20241219T185404Z
LAST-MODIFIED:20241223T160346Z
UID:10005795-1736758800-1736769600@ccrconnect.ca
SUMMARY:Play & Learn
DESCRIPTION:Join us for a program filled with fun\, socializing\, and learning for families of children 0-6yrs.  While attending our program\, you and your child will have the opportunity to participate in a variety of activities such as crafts\, science\, literacy\, and gross and fine motor activities. Have questions about child development or other parenting concerns? Feel free to ask our qualified staff about the multitude of resources we have to offer. \n 
URL:https://ccrconnect.ca/event/play-learn-65/2025-01-13/
LOCATION:Garson (Northeastern) EarlyON\, 45 Spruce Street\, Garson\, Ontario\, Canada
END:VEVENT
BEGIN:VEVENT
DTSTART;TZID=America/New_York:20250113T090000
DTEND;TZID=America/New_York:20250113T120000
DTSTAMP:20260420T033305
CREATED:20241219T163037Z
LAST-MODIFIED:20241219T163037Z
UID:10005503-1736758800-1736769600@ccrconnect.ca
SUMMARY:Play & Learn
DESCRIPTION:Join us for a program filled with fun\, socializing\, and learning for families of children 0-6yrs.  While attending our program\, you and your child will have the opportunity to participate in a variety of activities such as crafts\, science\, literacy\, and gross and fine motor activities. Have questions about child development or other parenting concerns? Feel free to ask our qualified staff about the multitude of resources we have to offer. \n 
URL:https://ccrconnect.ca/event/play-learn-58/2025-01-13/
LOCATION:Garson (Northeastern) EarlyON\, 45 Spruce Street\, Garson\, Ontario\, Canada
END:VEVENT
BEGIN:VEVENT
DTSTART;TZID=America/New_York:20250110T090000
DTEND;TZID=America/New_York:20250110T120000
DTSTAMP:20260420T033305
CREATED:20241219T164616Z
LAST-MODIFIED:20241219T164616Z
UID:10005586-1736499600-1736510400@ccrconnect.ca
SUMMARY:Babies Day Out
DESCRIPTION:Babies’ Day Out\nBabies’ Day Out is a program for infants 0 to 18 months and their parents. The program allows infants to explore\, learn and play in a safe environment. Siblings are welcome to join. EarlyON Practitioners can also support with any questions you may have regarding infant development.
URL:https://ccrconnect.ca/event/babies-day-out-8/2025-01-10/
LOCATION:Garson (Northeastern) EarlyON\, 45 Spruce Street\, Garson\, Ontario\, Canada
END:VEVENT
BEGIN:VEVENT
DTSTART;TZID=America/New_York:20250109T130000
DTEND;TZID=America/New_York:20250109T150000
DTSTAMP:20260420T033305
CREATED:20241220T141549Z
LAST-MODIFIED:20241220T141549Z
UID:10005993-1736427600-1736434800@ccrconnect.ca
SUMMARY:Babies Day Out
DESCRIPTION:Babies’ Day Out\nBabies’ Day Out is a program for infants 0 to 18 months and their parents. The program allows infants to explore\, learn and play in a safe environment. Siblings are welcome to join. EarlyON Practitioners can also support with any questions you may have regarding infant development.
URL:https://ccrconnect.ca/event/babies-day-out-24/2025-01-09/
LOCATION:Garson (Northeastern) EarlyON\, 45 Spruce Street\, Garson\, Ontario\, Canada
END:VEVENT
BEGIN:VEVENT
DTSTART;TZID=America/New_York:20250109T090000
DTEND;TZID=America/New_York:20250109T120000
DTSTAMP:20260420T033305
CREATED:20241219T164424Z
LAST-MODIFIED:20241219T164424Z
UID:10005535-1736413200-1736424000@ccrconnect.ca
SUMMARY:Play & Learn
DESCRIPTION:Join us for a program filled with fun\, socializing\, and learning for families of children 0-6yrs.  While attending our program\, you and your child will have the opportunity to participate in a variety of activities such as crafts\, science\, literacy\, and gross and fine motor activities. Have questions about child development or other parenting concerns? Feel free to ask our qualified staff about the multitude of resources we have to offer. \n 
URL:https://ccrconnect.ca/event/play-learn-60/2025-01-09/
LOCATION:Garson (Northeastern) EarlyON\, 45 Spruce Street\, Garson\, Ontario\, Canada
END:VEVENT
BEGIN:VEVENT
DTSTART;TZID=America/New_York:20250108T130000
DTEND;TZID=America/New_York:20250108T150000
DTSTAMP:20260420T033305
CREATED:20241219T164319Z
LAST-MODIFIED:20241219T164319Z
UID:10005526-1736341200-1736348400@ccrconnect.ca
SUMMARY:Play & Learn
DESCRIPTION:Join us for a program filled with fun\, socializing\, and learning for families of children 0-6yrs.  While attending our program\, you and your child will have the opportunity to participate in a variety of activities such as crafts\, science\, literacy\, and gross and fine motor activities. Have questions about child development or other parenting concerns? Feel free to ask our qualified staff about the multitude of resources we have to offer. \n 
URL:https://ccrconnect.ca/event/play-learn-59/2025-01-08/
LOCATION:Garson (Northeastern) EarlyON\, 45 Spruce Street\, Garson\, Ontario\, Canada
END:VEVENT
BEGIN:VEVENT
DTSTART;TZID=America/New_York:20250108T100000
DTEND;TZID=America/New_York:20250108T113000
DTSTAMP:20260420T033305
CREATED:20241219T163955Z
LAST-MODIFIED:20241219T163955Z
UID:10005518-1736330400-1736335800@ccrconnect.ca
SUMMARY:Mindful Minutes
DESCRIPTION:Join us at the Garson EarlyON Northeastern Public School on Thursdays for a morning filed with activities focused on building Self-Regulation skills geared towards children 18mths and up. While participating in this program families will learn strategies to help regulate big emotions by engaging in fun activities such as breathing and movement exercises to help your child find calm\, feel relaxed\, gain focus\, and feel reenergized throughout their day.
URL:https://ccrconnect.ca/event/mindful-minutes/2025-01-08/
LOCATION:Garson (Northeastern) EarlyON\, 45 Spruce Street\, Garson\, Ontario\, Canada
END:VEVENT
BEGIN:VEVENT
DTSTART;TZID=America/New_York:20250106T090000
DTEND;TZID=America/New_York:20250106T120000
DTSTAMP:20260420T033305
CREATED:20241219T185404Z
LAST-MODIFIED:20241223T160346Z
UID:10005794-1736154000-1736164800@ccrconnect.ca
SUMMARY:Play & Learn
DESCRIPTION:Join us for a program filled with fun\, socializing\, and learning for families of children 0-6yrs.  While attending our program\, you and your child will have the opportunity to participate in a variety of activities such as crafts\, science\, literacy\, and gross and fine motor activities. Have questions about child development or other parenting concerns? Feel free to ask our qualified staff about the multitude of resources we have to offer. \n 
URL:https://ccrconnect.ca/event/play-learn-65/2025-01-06/
LOCATION:Garson (Northeastern) EarlyON\, 45 Spruce Street\, Garson\, Ontario\, Canada
END:VEVENT
BEGIN:VEVENT
DTSTART;TZID=America/New_York:20250106T090000
DTEND;TZID=America/New_York:20250106T120000
DTSTAMP:20260420T033305
CREATED:20241219T163037Z
LAST-MODIFIED:20241219T163037Z
UID:10005502-1736154000-1736164800@ccrconnect.ca
SUMMARY:Play & Learn
DESCRIPTION:Join us for a program filled with fun\, socializing\, and learning for families of children 0-6yrs.  While attending our program\, you and your child will have the opportunity to participate in a variety of activities such as crafts\, science\, literacy\, and gross and fine motor activities. Have questions about child development or other parenting concerns? Feel free to ask our qualified staff about the multitude of resources we have to offer. \n 
URL:https://ccrconnect.ca/event/play-learn-58/2025-01-06/
LOCATION:Garson (Northeastern) EarlyON\, 45 Spruce Street\, Garson\, Ontario\, Canada
END:VEVENT
BEGIN:VEVENT
DTSTART;TZID=America/New_York:20250103T090000
DTEND;TZID=America/New_York:20250103T120000
DTSTAMP:20260420T033305
CREATED:20241219T164616Z
LAST-MODIFIED:20241219T164616Z
UID:10005585-1735894800-1735905600@ccrconnect.ca
SUMMARY:Babies Day Out
DESCRIPTION:Babies’ Day Out\nBabies’ Day Out is a program for infants 0 to 18 months and their parents. The program allows infants to explore\, learn and play in a safe environment. Siblings are welcome to join. EarlyON Practitioners can also support with any questions you may have regarding infant development.
URL:https://ccrconnect.ca/event/babies-day-out-8/2025-01-03/
LOCATION:Garson (Northeastern) EarlyON\, 45 Spruce Street\, Garson\, Ontario\, Canada
END:VEVENT
BEGIN:VEVENT
DTSTART;TZID=America/New_York:20250102T090000
DTEND;TZID=America/New_York:20250102T120000
DTSTAMP:20260420T033305
CREATED:20241219T164424Z
LAST-MODIFIED:20241219T164424Z
UID:10005534-1735808400-1735819200@ccrconnect.ca
SUMMARY:Play & Learn
DESCRIPTION:Join us for a program filled with fun\, socializing\, and learning for families of children 0-6yrs.  While attending our program\, you and your child will have the opportunity to participate in a variety of activities such as crafts\, science\, literacy\, and gross and fine motor activities. Have questions about child development or other parenting concerns? Feel free to ask our qualified staff about the multitude of resources we have to offer. \n 
URL:https://ccrconnect.ca/event/play-learn-60/2025-01-02/
LOCATION:Garson (Northeastern) EarlyON\, 45 Spruce Street\, Garson\, Ontario\, Canada
END:VEVENT
BEGIN:VEVENT
DTSTART;TZID=America/New_York:20241223T090000
DTEND;TZID=America/New_York:20241223T120000
DTSTAMP:20260420T033305
CREATED:20241219T185404Z
LAST-MODIFIED:20241223T160346Z
UID:10005792-1734944400-1734955200@ccrconnect.ca
SUMMARY:Play & Learn
DESCRIPTION:Join us for a program filled with fun\, socializing\, and learning for families of children 0-6yrs.  While attending our program\, you and your child will have the opportunity to participate in a variety of activities such as crafts\, science\, literacy\, and gross and fine motor activities. Have questions about child development or other parenting concerns? Feel free to ask our qualified staff about the multitude of resources we have to offer. \n 
URL:https://ccrconnect.ca/event/play-learn-65/2024-12-23/
LOCATION:Garson (Northeastern) EarlyON\, 45 Spruce Street\, Garson\, Ontario\, Canada
END:VEVENT
BEGIN:VEVENT
DTSTART;TZID=America/New_York:20241220T090000
DTEND;TZID=America/New_York:20241220T120000
DTSTAMP:20260420T033305
CREATED:20240122T141400Z
LAST-MODIFIED:20241114T155014Z
UID:10005322-1734685200-1734696000@ccrconnect.ca
SUMMARY:Babies Day Out
DESCRIPTION:Babies’ Day Out\nBabies’ Day Out is a program for infants 0 to 18 months and their parents. The program allows infants to explore\, learn and play in a safe environment. Siblings are welcome to join. EarlyON Practitioners can also support with any questions you may have regarding infant development.
URL:https://ccrconnect.ca/event/babies-day-out-17/2024-12-20/
LOCATION:Garson (Northeastern) EarlyON\, 45 Spruce Street\, Garson\, Ontario\, Canada
END:VEVENT
BEGIN:VEVENT
DTSTART;TZID=America/New_York:20241219T090000
DTEND;TZID=America/New_York:20241219T120000
DTSTAMP:20260420T033305
CREATED:20240325T182549Z
LAST-MODIFIED:20241114T154843Z
UID:10005320-1734598800-1734609600@ccrconnect.ca
SUMMARY:Play & Learn
DESCRIPTION:Join us for a program filled with fun\, socializing\, and learning for families of children 0-6yrs.  While attending our program\, you and your child will have the opportunity to participate in a variety of activities such as crafts\, science\, literacy\, and gross and fine motor activities. Have questions about child development or other parenting concerns? Feel free to ask our qualified staff about the multitude of resources we have to offer. \n 
URL:https://ccrconnect.ca/event/play-learn-3-2-2/2024-12-19/
LOCATION:Garson (Northeastern) EarlyON\, 45 Spruce Street\, Garson\, Ontario\, Canada
END:VEVENT
BEGIN:VEVENT
DTSTART;TZID=America/New_York:20241218T130000
DTEND;TZID=America/New_York:20241218T150000
DTSTAMP:20260420T033305
CREATED:20240822T165643Z
LAST-MODIFIED:20241114T154627Z
UID:10005317-1734526800-1734534000@ccrconnect.ca
SUMMARY:Play & Learn
DESCRIPTION:Join us for a program filled with fun\, socializing\, and learning for families of children 0-6yrs.  While attending our program\, you and your child will have the opportunity to participate in a variety of activities such as crafts\, science\, literacy\, and gross and fine motor activities. Have questions about child development or other parenting concerns? Feel free to ask our qualified staff about the multitude of resources we have to offer. \n 
URL:https://ccrconnect.ca/event/play-learn-46/2024-12-18/
LOCATION:Garson (Northeastern) EarlyON\, 45 Spruce Street\, Garson\, Ontario\, Canada
END:VEVENT
BEGIN:VEVENT
DTSTART;TZID=America/New_York:20241217T130000
DTEND;TZID=America/New_York:20241217T150000
DTSTAMP:20260420T033305
CREATED:20241114T153951Z
LAST-MODIFIED:20241114T153951Z
UID:10005307-1734440400-1734447600@ccrconnect.ca
SUMMARY:Early Childhood Consultations *By Appointments Only
DESCRIPTION:Early Childhood Consultations – Meet with a member of our team!  \nDo you have questions about your child’s development and or social behaviours?  Are you interested in parenting strategies?  Do you have questions about community services available for you or your child?  We offer a free and confidential service that supports parents\, caregivers with children 0-6 years of age. This service provides a one-on-one session with a member of our EarlyON team regarding parenting tips\, child development and or child behavior. We provide a nonjudgmental environment and emotional support. Screening tools can be completed upon your consent with your child and referrals can be made to additional community support if needed. Times can be booked at all CCR EarlyOn locations or email our earlyon@ccrconnect.ca. with your request. Available in English & French.
URL:https://ccrconnect.ca/event/early-childhood-consultations-by-appointments-only-15/2024-12-17/
LOCATION:Garson (Northeastern) EarlyON\, 45 Spruce Street\, Garson\, Ontario\, Canada
END:VEVENT
BEGIN:VEVENT
DTSTART;TZID=America/New_York:20241216T090000
DTEND;TZID=America/New_York:20241216T120000
DTSTAMP:20260420T033305
CREATED:20240926T163956Z
LAST-MODIFIED:20241114T153826Z
UID:10005297-1734339600-1734350400@ccrconnect.ca
SUMMARY:Play & Learn
DESCRIPTION:Join us for a program filled with fun\, socializing\, and learning for families of children 0-6yrs.  While attending our program\, you and your child will have the opportunity to participate in a variety of activities such as crafts\, science\, literacy\, and gross and fine motor activities. Have questions about child development or other parenting concerns? Feel free to ask our qualified staff about the multitude of resources we have to offer. \n 
URL:https://ccrconnect.ca/event/play-learn-47/2024-12-16/
LOCATION:Garson (Northeastern) EarlyON\, 45 Spruce Street\, Garson\, Ontario\, Canada
END:VEVENT
BEGIN:VEVENT
DTSTART;TZID=America/New_York:20241212T090000
DTEND;TZID=America/New_York:20241212T120000
DTSTAMP:20260420T033305
CREATED:20240325T182549Z
LAST-MODIFIED:20241114T154843Z
UID:10005319-1733994000-1734004800@ccrconnect.ca
SUMMARY:Play & Learn
DESCRIPTION:Join us for a program filled with fun\, socializing\, and learning for families of children 0-6yrs.  While attending our program\, you and your child will have the opportunity to participate in a variety of activities such as crafts\, science\, literacy\, and gross and fine motor activities. Have questions about child development or other parenting concerns? Feel free to ask our qualified staff about the multitude of resources we have to offer. \n 
URL:https://ccrconnect.ca/event/play-learn-3-2-2/2024-12-12/
LOCATION:Garson (Northeastern) EarlyON\, 45 Spruce Street\, Garson\, Ontario\, Canada
END:VEVENT
BEGIN:VEVENT
DTSTART;TZID=America/New_York:20241211T130000
DTEND;TZID=America/New_York:20241211T150000
DTSTAMP:20260420T033305
CREATED:20240822T165643Z
LAST-MODIFIED:20241114T154627Z
UID:10005316-1733922000-1733929200@ccrconnect.ca
SUMMARY:Play & Learn
DESCRIPTION:Join us for a program filled with fun\, socializing\, and learning for families of children 0-6yrs.  While attending our program\, you and your child will have the opportunity to participate in a variety of activities such as crafts\, science\, literacy\, and gross and fine motor activities. Have questions about child development or other parenting concerns? Feel free to ask our qualified staff about the multitude of resources we have to offer. \n 
URL:https://ccrconnect.ca/event/play-learn-46/2024-12-11/
LOCATION:Garson (Northeastern) EarlyON\, 45 Spruce Street\, Garson\, Ontario\, Canada
END:VEVENT
END:VCALENDAR