BEGIN:VCALENDAR
VERSION:2.0
PRODID:-//Child &amp; Community Resources - ECPv6.15.20//NONSGML v1.0//EN
CALSCALE:GREGORIAN
METHOD:PUBLISH
X-WR-CALNAME:Child &amp; Community Resources
X-ORIGINAL-URL:https://ccrconnect.ca
X-WR-CALDESC:Events for Child &amp; Community Resources
REFRESH-INTERVAL;VALUE=DURATION:PT1H
X-Robots-Tag:noindex
X-PUBLISHED-TTL:PT1H
BEGIN:VTIMEZONE
TZID:America/New_York
BEGIN:DAYLIGHT
TZOFFSETFROM:-0500
TZOFFSETTO:-0400
TZNAME:EDT
DTSTART:20240310T070000
END:DAYLIGHT
BEGIN:STANDARD
TZOFFSETFROM:-0400
TZOFFSETTO:-0500
TZNAME:EST
DTSTART:20241103T060000
END:STANDARD
BEGIN:DAYLIGHT
TZOFFSETFROM:-0500
TZOFFSETTO:-0400
TZNAME:EDT
DTSTART:20250309T070000
END:DAYLIGHT
BEGIN:STANDARD
TZOFFSETFROM:-0400
TZOFFSETTO:-0500
TZNAME:EST
DTSTART:20251102T060000
END:STANDARD
BEGIN:DAYLIGHT
TZOFFSETFROM:-0500
TZOFFSETTO:-0400
TZNAME:EDT
DTSTART:20260308T070000
END:DAYLIGHT
BEGIN:STANDARD
TZOFFSETFROM:-0400
TZOFFSETTO:-0500
TZNAME:EST
DTSTART:20261101T060000
END:STANDARD
END:VTIMEZONE
BEGIN:VTIMEZONE
TZID:America/Toronto
BEGIN:DAYLIGHT
TZOFFSETFROM:-0500
TZOFFSETTO:-0400
TZNAME:EDT
DTSTART:20240310T070000
END:DAYLIGHT
BEGIN:STANDARD
TZOFFSETFROM:-0400
TZOFFSETTO:-0500
TZNAME:EST
DTSTART:20241103T060000
END:STANDARD
BEGIN:DAYLIGHT
TZOFFSETFROM:-0500
TZOFFSETTO:-0400
TZNAME:EDT
DTSTART:20250309T070000
END:DAYLIGHT
BEGIN:STANDARD
TZOFFSETFROM:-0400
TZOFFSETTO:-0500
TZNAME:EST
DTSTART:20251102T060000
END:STANDARD
BEGIN:DAYLIGHT
TZOFFSETFROM:-0500
TZOFFSETTO:-0400
TZNAME:EDT
DTSTART:20260308T070000
END:DAYLIGHT
BEGIN:STANDARD
TZOFFSETFROM:-0400
TZOFFSETTO:-0500
TZNAME:EST
DTSTART:20261101T060000
END:STANDARD
END:VTIMEZONE
BEGIN:VEVENT
DTSTART;TZID=America/New_York:20250327T091500
DTEND;TZID=America/New_York:20250327T120000
DTSTAMP:20260419T091338
CREATED:20250129T195931Z
LAST-MODIFIED:20250815T185207Z
UID:10011387-1743066900-1743076800@ccrconnect.ca
SUMMARY:Play & Learn with Gym Time
DESCRIPTION:Join us for a program filled with fun\, socializing\, and learning for families of children 0-6yrs.  While attending our program\, you and your child will have the opportunity to participate in a variety of activities such as crafts\, science\, literacy\, and gross and fine motor activities. Have questions about child development or other parenting concerns? Feel free to ask our qualified staff about the multitude of resources we have to offer. \nWith gym time (10:45am – 11:15am) \n 
URL:https://ccrconnect.ca/event/play-learn-86/2025-03-27/
LOCATION:Garson (Northeastern) EarlyON\, 45 Spruce Street\, Garson\, Ontario\, Canada
END:VEVENT
BEGIN:VEVENT
DTSTART;TZID=America/New_York:20250326T131500
DTEND;TZID=America/New_York:20250326T160000
DTSTAMP:20260419T091338
CREATED:20250129T195550Z
LAST-MODIFIED:20250815T184958Z
UID:10011340-1742994900-1743004800@ccrconnect.ca
SUMMARY:Play & Learn
DESCRIPTION:Join us for a program filled with fun\, socializing\, and learning for families of children 0-6yrs.  While attending our program\, you and your child will have the opportunity to participate in a variety of activities such as crafts\, science\, literacy\, and gross and fine motor activities. Have questions about child development or other parenting concerns? Feel free to ask our qualified staff about the multitude of resources we have to offer. \n  \n 
URL:https://ccrconnect.ca/event/play-learn-85/2025-03-26/
LOCATION:Garson (Northeastern) EarlyON\, 45 Spruce Street\, Garson\, Ontario\, Canada
END:VEVENT
BEGIN:VEVENT
DTSTART;TZID=America/Toronto:20250325T131500
DTEND;TZID=America/Toronto:20250325T160000
DTSTAMP:20260419T091338
CREATED:20250228T142013Z
LAST-MODIFIED:20251127T141256Z
UID:10011615-1742908500-1742918400@ccrconnect.ca
SUMMARY:Toddler Tales (12-30 months)
DESCRIPTION:Toddler Tales:\nToddler Tales is a program where toddlers experience the positive effects of reading\, singing\, playing\, and developing fine & gross motor skills through stories\, songs and crafts. Your Toddler will have the opportunity to engage in fun activities\, learn new skills and meet new friends. (12-30 months).
URL:https://ccrconnect.ca/event/toddler-tales-12-30-months-2/2025-03-25/
LOCATION:Garson (Northeastern) EarlyON\, 45 Spruce Street\, Garson\, Ontario\, Canada
END:VEVENT
BEGIN:VEVENT
DTSTART;TZID=America/Toronto:20250325T091500
DTEND;TZID=America/Toronto:20250325T120000
DTSTAMP:20260419T091338
CREATED:20250129T194710Z
LAST-MODIFIED:20250611T230823Z
UID:10011296-1742894100-1742904000@ccrconnect.ca
SUMMARY:Kindergarten here I come
DESCRIPTION:Is your child starting school in September 2025? Are you looking to build on your child’s independence\, social and communication skills? Join us at Garson EarlyON every Tuesday morning from 9 to 11:30 am as together with you the parent/ guardian we will engage the children in activities that promote social skills\, self-regulation and independence to help prepare them for a transition to school.
URL:https://ccrconnect.ca/event/kindergarten-here-i-come-2/2025-03-25/
LOCATION:Garson (Northeastern) EarlyON\, 45 Spruce Street\, Garson\, Ontario\, Canada
END:VEVENT
BEGIN:VEVENT
DTSTART;TZID=America/New_York:20250324T091500
DTEND;TZID=America/New_York:20250324T120000
DTSTAMP:20260419T091338
CREATED:20250129T194344Z
LAST-MODIFIED:20250410T140426Z
UID:10011253-1742807700-1742817600@ccrconnect.ca
SUMMARY:Play & Learn
DESCRIPTION:Join us for a program filled with fun\, socializing\, and learning for families of children 0-6yrs.  While attending our program\, you and your child will have the opportunity to participate in a variety of activities such as crafts\, science\, literacy\, and gross and fine motor activities. Have questions about child development or other parenting concerns? Feel free to ask our qualified staff about the multitude of resources we have to offer. \nWith gym time (10:45am – 11:15am) \n 
URL:https://ccrconnect.ca/event/play-learn-84/2025-03-24/
LOCATION:Garson (Northeastern) EarlyON\, 45 Spruce Street\, Garson\, Ontario\, Canada
END:VEVENT
BEGIN:VEVENT
DTSTART;TZID=America/New_York:20250321T091500
DTEND;TZID=America/New_York:20250321T120000
DTSTAMP:20260419T091338
CREATED:20250129T200833Z
LAST-MODIFIED:20250815T185537Z
UID:10011478-1742548500-1742558400@ccrconnect.ca
SUMMARY:Babies Day Out
DESCRIPTION:Babies’ Day Out\nBabies’ Day Out is a program for infants 0 to 18 months and their parents. The program allows infants to explore\, learn and play in a safe environment. Siblings are welcome to join. EarlyON Practitioners can also support with any questions you may have regarding infant development.
URL:https://ccrconnect.ca/event/babies-day-out-33/2025-03-21/
LOCATION:Garson (Northeastern) EarlyON\, 45 Spruce Street\, Garson\, Ontario\, Canada
END:VEVENT
BEGIN:VEVENT
DTSTART;TZID=America/New_York:20250320T131500
DTEND;TZID=America/New_York:20250320T160000
DTSTAMP:20260419T091338
CREATED:20250129T200421Z
LAST-MODIFIED:20250815T185501Z
UID:10011432-1742476500-1742486400@ccrconnect.ca
SUMMARY:Babies Day Out
DESCRIPTION:Babies’ Day Out\nBabies’ Day Out is a program for infants 0 to 18 months and their parents. The program allows infants to explore\, learn and play in a safe environment. Siblings are welcome to join. EarlyON Practitioners can also support with any questions you may have regarding infant development.
URL:https://ccrconnect.ca/event/babies-day-out-32/2025-03-20/
LOCATION:Garson (Northeastern) EarlyON\, 45 Spruce Street\, Garson\, Ontario\, Canada
END:VEVENT
BEGIN:VEVENT
DTSTART;TZID=America/New_York:20250320T091500
DTEND;TZID=America/New_York:20250320T120000
DTSTAMP:20260419T091338
CREATED:20250129T195931Z
LAST-MODIFIED:20250815T185207Z
UID:10011386-1742462100-1742472000@ccrconnect.ca
SUMMARY:Play & Learn with Gym Time
DESCRIPTION:Join us for a program filled with fun\, socializing\, and learning for families of children 0-6yrs.  While attending our program\, you and your child will have the opportunity to participate in a variety of activities such as crafts\, science\, literacy\, and gross and fine motor activities. Have questions about child development or other parenting concerns? Feel free to ask our qualified staff about the multitude of resources we have to offer. \nWith gym time (10:45am – 11:15am) \n 
URL:https://ccrconnect.ca/event/play-learn-86/2025-03-20/
LOCATION:Garson (Northeastern) EarlyON\, 45 Spruce Street\, Garson\, Ontario\, Canada
END:VEVENT
BEGIN:VEVENT
DTSTART;TZID=America/New_York:20250319T131500
DTEND;TZID=America/New_York:20250319T160000
DTSTAMP:20260419T091338
CREATED:20250129T195550Z
LAST-MODIFIED:20250815T184958Z
UID:10011339-1742390100-1742400000@ccrconnect.ca
SUMMARY:Play & Learn
DESCRIPTION:Join us for a program filled with fun\, socializing\, and learning for families of children 0-6yrs.  While attending our program\, you and your child will have the opportunity to participate in a variety of activities such as crafts\, science\, literacy\, and gross and fine motor activities. Have questions about child development or other parenting concerns? Feel free to ask our qualified staff about the multitude of resources we have to offer. \n  \n 
URL:https://ccrconnect.ca/event/play-learn-85/2025-03-19/
LOCATION:Garson (Northeastern) EarlyON\, 45 Spruce Street\, Garson\, Ontario\, Canada
END:VEVENT
BEGIN:VEVENT
DTSTART;TZID=America/Toronto:20250318T131500
DTEND;TZID=America/Toronto:20250318T160000
DTSTAMP:20260419T091338
CREATED:20250228T142013Z
LAST-MODIFIED:20251127T141256Z
UID:10011614-1742303700-1742313600@ccrconnect.ca
SUMMARY:Toddler Tales (12-30 months)
DESCRIPTION:Toddler Tales:\nToddler Tales is a program where toddlers experience the positive effects of reading\, singing\, playing\, and developing fine & gross motor skills through stories\, songs and crafts. Your Toddler will have the opportunity to engage in fun activities\, learn new skills and meet new friends. (12-30 months).
URL:https://ccrconnect.ca/event/toddler-tales-12-30-months-2/2025-03-18/
LOCATION:Garson (Northeastern) EarlyON\, 45 Spruce Street\, Garson\, Ontario\, Canada
END:VEVENT
BEGIN:VEVENT
DTSTART;TZID=America/Toronto:20250318T091500
DTEND;TZID=America/Toronto:20250318T120000
DTSTAMP:20260419T091338
CREATED:20250129T194710Z
LAST-MODIFIED:20250611T230823Z
UID:10011295-1742289300-1742299200@ccrconnect.ca
SUMMARY:Kindergarten here I come
DESCRIPTION:Is your child starting school in September 2025? Are you looking to build on your child’s independence\, social and communication skills? Join us at Garson EarlyON every Tuesday morning from 9 to 11:30 am as together with you the parent/ guardian we will engage the children in activities that promote social skills\, self-regulation and independence to help prepare them for a transition to school.
URL:https://ccrconnect.ca/event/kindergarten-here-i-come-2/2025-03-18/
LOCATION:Garson (Northeastern) EarlyON\, 45 Spruce Street\, Garson\, Ontario\, Canada
END:VEVENT
BEGIN:VEVENT
DTSTART;TZID=America/New_York:20250317T091500
DTEND;TZID=America/New_York:20250317T120000
DTSTAMP:20260419T091338
CREATED:20250129T194344Z
LAST-MODIFIED:20250410T140426Z
UID:10011252-1742202900-1742212800@ccrconnect.ca
SUMMARY:Play & Learn
DESCRIPTION:Join us for a program filled with fun\, socializing\, and learning for families of children 0-6yrs.  While attending our program\, you and your child will have the opportunity to participate in a variety of activities such as crafts\, science\, literacy\, and gross and fine motor activities. Have questions about child development or other parenting concerns? Feel free to ask our qualified staff about the multitude of resources we have to offer. \nWith gym time (10:45am – 11:15am) \n 
URL:https://ccrconnect.ca/event/play-learn-84/2025-03-17/
LOCATION:Garson (Northeastern) EarlyON\, 45 Spruce Street\, Garson\, Ontario\, Canada
END:VEVENT
BEGIN:VEVENT
DTSTART;TZID=America/New_York:20250314T091500
DTEND;TZID=America/New_York:20250314T120000
DTSTAMP:20260419T091338
CREATED:20250129T200833Z
LAST-MODIFIED:20250815T185537Z
UID:10011477-1741943700-1741953600@ccrconnect.ca
SUMMARY:Babies Day Out
DESCRIPTION:Babies’ Day Out\nBabies’ Day Out is a program for infants 0 to 18 months and their parents. The program allows infants to explore\, learn and play in a safe environment. Siblings are welcome to join. EarlyON Practitioners can also support with any questions you may have regarding infant development.
URL:https://ccrconnect.ca/event/babies-day-out-33/2025-03-14/
LOCATION:Garson (Northeastern) EarlyON\, 45 Spruce Street\, Garson\, Ontario\, Canada
END:VEVENT
BEGIN:VEVENT
DTSTART;TZID=America/New_York:20250313T131500
DTEND;TZID=America/New_York:20250313T160000
DTSTAMP:20260419T091338
CREATED:20250129T200421Z
LAST-MODIFIED:20250815T185501Z
UID:10011431-1741871700-1741881600@ccrconnect.ca
SUMMARY:Babies Day Out
DESCRIPTION:Babies’ Day Out\nBabies’ Day Out is a program for infants 0 to 18 months and their parents. The program allows infants to explore\, learn and play in a safe environment. Siblings are welcome to join. EarlyON Practitioners can also support with any questions you may have regarding infant development.
URL:https://ccrconnect.ca/event/babies-day-out-32/2025-03-13/
LOCATION:Garson (Northeastern) EarlyON\, 45 Spruce Street\, Garson\, Ontario\, Canada
END:VEVENT
BEGIN:VEVENT
DTSTART;TZID=America/New_York:20250313T091500
DTEND;TZID=America/New_York:20250313T120000
DTSTAMP:20260419T091338
CREATED:20250129T195931Z
LAST-MODIFIED:20250815T185207Z
UID:10011385-1741857300-1741867200@ccrconnect.ca
SUMMARY:Play & Learn with Gym Time
DESCRIPTION:Join us for a program filled with fun\, socializing\, and learning for families of children 0-6yrs.  While attending our program\, you and your child will have the opportunity to participate in a variety of activities such as crafts\, science\, literacy\, and gross and fine motor activities. Have questions about child development or other parenting concerns? Feel free to ask our qualified staff about the multitude of resources we have to offer. \nWith gym time (10:45am – 11:15am) \n 
URL:https://ccrconnect.ca/event/play-learn-86/2025-03-13/
LOCATION:Garson (Northeastern) EarlyON\, 45 Spruce Street\, Garson\, Ontario\, Canada
END:VEVENT
BEGIN:VEVENT
DTSTART;TZID=America/New_York:20250312T131500
DTEND;TZID=America/New_York:20250312T160000
DTSTAMP:20260419T091338
CREATED:20250212T145435Z
LAST-MODIFIED:20250228T183614Z
UID:10008874-1741785300-1741795200@ccrconnect.ca
SUMMARY:Play & Learn with Indigenous-led Programming
DESCRIPTION:Join us for a play-and-learn session which includes a visit from staff of the Indigenous-led program. This is an opportunity for families to learn about and participate in Indigenous cultural activities\, stories and more. Everyone is welcome! \nNaabidin Giizis/ Boopoogame Giizia…….Snow Crust Moon/Broken Snowshoe Moon Games about animal tracks and stories of renewal
URL:https://ccrconnect.ca/event/play-learn-with-indigenous-led-programming-2/
LOCATION:Garson (Northeastern) EarlyON\, 45 Spruce Street\, Garson\, Ontario\, Canada
END:VEVENT
BEGIN:VEVENT
DTSTART;TZID=America/Toronto:20250311T131500
DTEND;TZID=America/Toronto:20250311T160000
DTSTAMP:20260419T091338
CREATED:20250228T142013Z
LAST-MODIFIED:20251127T141256Z
UID:10011613-1741698900-1741708800@ccrconnect.ca
SUMMARY:Toddler Tales (12-30 months)
DESCRIPTION:Toddler Tales:\nToddler Tales is a program where toddlers experience the positive effects of reading\, singing\, playing\, and developing fine & gross motor skills through stories\, songs and crafts. Your Toddler will have the opportunity to engage in fun activities\, learn new skills and meet new friends. (12-30 months).
URL:https://ccrconnect.ca/event/toddler-tales-12-30-months-2/2025-03-11/
LOCATION:Garson (Northeastern) EarlyON\, 45 Spruce Street\, Garson\, Ontario\, Canada
END:VEVENT
BEGIN:VEVENT
DTSTART;TZID=America/Toronto:20250311T091500
DTEND;TZID=America/Toronto:20250311T120000
DTSTAMP:20260419T091338
CREATED:20250129T194710Z
LAST-MODIFIED:20250611T230823Z
UID:10011294-1741684500-1741694400@ccrconnect.ca
SUMMARY:Kindergarten here I come
DESCRIPTION:Is your child starting school in September 2025? Are you looking to build on your child’s independence\, social and communication skills? Join us at Garson EarlyON every Tuesday morning from 9 to 11:30 am as together with you the parent/ guardian we will engage the children in activities that promote social skills\, self-regulation and independence to help prepare them for a transition to school.
URL:https://ccrconnect.ca/event/kindergarten-here-i-come-2/2025-03-11/
LOCATION:Garson (Northeastern) EarlyON\, 45 Spruce Street\, Garson\, Ontario\, Canada
END:VEVENT
BEGIN:VEVENT
DTSTART;TZID=America/New_York:20250310T091500
DTEND;TZID=America/New_York:20250310T120000
DTSTAMP:20260419T091338
CREATED:20250129T194344Z
LAST-MODIFIED:20250410T140426Z
UID:10011251-1741598100-1741608000@ccrconnect.ca
SUMMARY:Play & Learn
DESCRIPTION:Join us for a program filled with fun\, socializing\, and learning for families of children 0-6yrs.  While attending our program\, you and your child will have the opportunity to participate in a variety of activities such as crafts\, science\, literacy\, and gross and fine motor activities. Have questions about child development or other parenting concerns? Feel free to ask our qualified staff about the multitude of resources we have to offer. \nWith gym time (10:45am – 11:15am) \n 
URL:https://ccrconnect.ca/event/play-learn-84/2025-03-10/
LOCATION:Garson (Northeastern) EarlyON\, 45 Spruce Street\, Garson\, Ontario\, Canada
END:VEVENT
BEGIN:VEVENT
DTSTART;TZID=America/New_York:20250307T091500
DTEND;TZID=America/New_York:20250307T120000
DTSTAMP:20260419T091338
CREATED:20250129T200833Z
LAST-MODIFIED:20250815T185537Z
UID:10011476-1741338900-1741348800@ccrconnect.ca
SUMMARY:Babies Day Out
DESCRIPTION:Babies’ Day Out\nBabies’ Day Out is a program for infants 0 to 18 months and their parents. The program allows infants to explore\, learn and play in a safe environment. Siblings are welcome to join. EarlyON Practitioners can also support with any questions you may have regarding infant development.
URL:https://ccrconnect.ca/event/babies-day-out-33/2025-03-07/
LOCATION:Garson (Northeastern) EarlyON\, 45 Spruce Street\, Garson\, Ontario\, Canada
END:VEVENT
BEGIN:VEVENT
DTSTART;TZID=America/New_York:20250306T131500
DTEND;TZID=America/New_York:20250306T160000
DTSTAMP:20260419T091338
CREATED:20250129T200421Z
LAST-MODIFIED:20250815T185501Z
UID:10011430-1741266900-1741276800@ccrconnect.ca
SUMMARY:Babies Day Out
DESCRIPTION:Babies’ Day Out\nBabies’ Day Out is a program for infants 0 to 18 months and their parents. The program allows infants to explore\, learn and play in a safe environment. Siblings are welcome to join. EarlyON Practitioners can also support with any questions you may have regarding infant development.
URL:https://ccrconnect.ca/event/babies-day-out-32/2025-03-06/
LOCATION:Garson (Northeastern) EarlyON\, 45 Spruce Street\, Garson\, Ontario\, Canada
END:VEVENT
BEGIN:VEVENT
DTSTART;TZID=America/New_York:20250306T091500
DTEND;TZID=America/New_York:20250306T120000
DTSTAMP:20260419T091338
CREATED:20250129T195931Z
LAST-MODIFIED:20250815T185207Z
UID:10011384-1741252500-1741262400@ccrconnect.ca
SUMMARY:Play & Learn with Gym Time
DESCRIPTION:Join us for a program filled with fun\, socializing\, and learning for families of children 0-6yrs.  While attending our program\, you and your child will have the opportunity to participate in a variety of activities such as crafts\, science\, literacy\, and gross and fine motor activities. Have questions about child development or other parenting concerns? Feel free to ask our qualified staff about the multitude of resources we have to offer. \nWith gym time (10:45am – 11:15am) \n 
URL:https://ccrconnect.ca/event/play-learn-86/2025-03-06/
LOCATION:Garson (Northeastern) EarlyON\, 45 Spruce Street\, Garson\, Ontario\, Canada
END:VEVENT
BEGIN:VEVENT
DTSTART;TZID=America/New_York:20250305T131500
DTEND;TZID=America/New_York:20250305T160000
DTSTAMP:20260419T091338
CREATED:20250129T195550Z
LAST-MODIFIED:20250815T184958Z
UID:10011338-1741180500-1741190400@ccrconnect.ca
SUMMARY:Play & Learn
DESCRIPTION:Join us for a program filled with fun\, socializing\, and learning for families of children 0-6yrs.  While attending our program\, you and your child will have the opportunity to participate in a variety of activities such as crafts\, science\, literacy\, and gross and fine motor activities. Have questions about child development or other parenting concerns? Feel free to ask our qualified staff about the multitude of resources we have to offer. \n  \n 
URL:https://ccrconnect.ca/event/play-learn-85/2025-03-05/
LOCATION:Garson (Northeastern) EarlyON\, 45 Spruce Street\, Garson\, Ontario\, Canada
END:VEVENT
BEGIN:VEVENT
DTSTART;TZID=America/Toronto:20250304T131500
DTEND;TZID=America/Toronto:20250304T160000
DTSTAMP:20260419T091338
CREATED:20250228T142013Z
LAST-MODIFIED:20251127T141256Z
UID:10011612-1741094100-1741104000@ccrconnect.ca
SUMMARY:Toddler Tales (12-30 months)
DESCRIPTION:Toddler Tales:\nToddler Tales is a program where toddlers experience the positive effects of reading\, singing\, playing\, and developing fine & gross motor skills through stories\, songs and crafts. Your Toddler will have the opportunity to engage in fun activities\, learn new skills and meet new friends. (12-30 months).
URL:https://ccrconnect.ca/event/toddler-tales-12-30-months-2/2025-03-04/
LOCATION:Garson (Northeastern) EarlyON\, 45 Spruce Street\, Garson\, Ontario\, Canada
END:VEVENT
BEGIN:VEVENT
DTSTART;TZID=America/Toronto:20250304T091500
DTEND;TZID=America/Toronto:20250304T120000
DTSTAMP:20260419T091338
CREATED:20250129T194710Z
LAST-MODIFIED:20250611T230823Z
UID:10011293-1741079700-1741089600@ccrconnect.ca
SUMMARY:Kindergarten here I come
DESCRIPTION:Is your child starting school in September 2025? Are you looking to build on your child’s independence\, social and communication skills? Join us at Garson EarlyON every Tuesday morning from 9 to 11:30 am as together with you the parent/ guardian we will engage the children in activities that promote social skills\, self-regulation and independence to help prepare them for a transition to school.
URL:https://ccrconnect.ca/event/kindergarten-here-i-come-2/2025-03-04/
LOCATION:Garson (Northeastern) EarlyON\, 45 Spruce Street\, Garson\, Ontario\, Canada
END:VEVENT
BEGIN:VEVENT
DTSTART;TZID=America/New_York:20250303T091500
DTEND;TZID=America/New_York:20250303T120000
DTSTAMP:20260419T091338
CREATED:20250129T194344Z
LAST-MODIFIED:20250410T140426Z
UID:10011250-1740993300-1741003200@ccrconnect.ca
SUMMARY:Play & Learn
DESCRIPTION:Join us for a program filled with fun\, socializing\, and learning for families of children 0-6yrs.  While attending our program\, you and your child will have the opportunity to participate in a variety of activities such as crafts\, science\, literacy\, and gross and fine motor activities. Have questions about child development or other parenting concerns? Feel free to ask our qualified staff about the multitude of resources we have to offer. \nWith gym time (10:45am – 11:15am) \n 
URL:https://ccrconnect.ca/event/play-learn-84/2025-03-03/
LOCATION:Garson (Northeastern) EarlyON\, 45 Spruce Street\, Garson\, Ontario\, Canada
END:VEVENT
BEGIN:VEVENT
DTSTART;TZID=America/New_York:20250228T091500
DTEND;TZID=America/New_York:20250228T120000
DTSTAMP:20260419T091338
CREATED:20250129T200833Z
LAST-MODIFIED:20250815T185537Z
UID:10011475-1740734100-1740744000@ccrconnect.ca
SUMMARY:Babies Day Out
DESCRIPTION:Babies’ Day Out\nBabies’ Day Out is a program for infants 0 to 18 months and their parents. The program allows infants to explore\, learn and play in a safe environment. Siblings are welcome to join. EarlyON Practitioners can also support with any questions you may have regarding infant development.
URL:https://ccrconnect.ca/event/babies-day-out-33/2025-02-28/
LOCATION:Garson (Northeastern) EarlyON\, 45 Spruce Street\, Garson\, Ontario\, Canada
END:VEVENT
BEGIN:VEVENT
DTSTART;TZID=America/New_York:20250227T131500
DTEND;TZID=America/New_York:20250227T160000
DTSTAMP:20260419T091338
CREATED:20250129T200421Z
LAST-MODIFIED:20250815T185501Z
UID:10011429-1740662100-1740672000@ccrconnect.ca
SUMMARY:Babies Day Out
DESCRIPTION:Babies’ Day Out\nBabies’ Day Out is a program for infants 0 to 18 months and their parents. The program allows infants to explore\, learn and play in a safe environment. Siblings are welcome to join. EarlyON Practitioners can also support with any questions you may have regarding infant development.
URL:https://ccrconnect.ca/event/babies-day-out-32/2025-02-27/
LOCATION:Garson (Northeastern) EarlyON\, 45 Spruce Street\, Garson\, Ontario\, Canada
END:VEVENT
BEGIN:VEVENT
DTSTART;TZID=America/New_York:20250227T091500
DTEND;TZID=America/New_York:20250227T120000
DTSTAMP:20260419T091338
CREATED:20250129T195931Z
LAST-MODIFIED:20250815T185207Z
UID:10011383-1740647700-1740657600@ccrconnect.ca
SUMMARY:Play & Learn with Gym Time
DESCRIPTION:Join us for a program filled with fun\, socializing\, and learning for families of children 0-6yrs.  While attending our program\, you and your child will have the opportunity to participate in a variety of activities such as crafts\, science\, literacy\, and gross and fine motor activities. Have questions about child development or other parenting concerns? Feel free to ask our qualified staff about the multitude of resources we have to offer. \nWith gym time (10:45am – 11:15am) \n 
URL:https://ccrconnect.ca/event/play-learn-86/2025-02-27/
LOCATION:Garson (Northeastern) EarlyON\, 45 Spruce Street\, Garson\, Ontario\, Canada
END:VEVENT
BEGIN:VEVENT
DTSTART;TZID=America/New_York:20250226T131500
DTEND;TZID=America/New_York:20250226T160000
DTSTAMP:20260419T091338
CREATED:20250129T195550Z
LAST-MODIFIED:20250815T184958Z
UID:10011337-1740575700-1740585600@ccrconnect.ca
SUMMARY:Play & Learn
DESCRIPTION:Join us for a program filled with fun\, socializing\, and learning for families of children 0-6yrs.  While attending our program\, you and your child will have the opportunity to participate in a variety of activities such as crafts\, science\, literacy\, and gross and fine motor activities. Have questions about child development or other parenting concerns? Feel free to ask our qualified staff about the multitude of resources we have to offer. \n  \n 
URL:https://ccrconnect.ca/event/play-learn-85/2025-02-26/
LOCATION:Garson (Northeastern) EarlyON\, 45 Spruce Street\, Garson\, Ontario\, Canada
END:VEVENT
END:VCALENDAR