BEGIN:VCALENDAR
VERSION:2.0
PRODID:-//Child &amp; Community Resources - ECPv6.15.20//NONSGML v1.0//EN
CALSCALE:GREGORIAN
METHOD:PUBLISH
X-WR-CALNAME:Child &amp; Community Resources
X-ORIGINAL-URL:https://ccrconnect.ca
X-WR-CALDESC:Events for Child &amp; Community Resources
REFRESH-INTERVAL;VALUE=DURATION:PT1H
X-Robots-Tag:noindex
X-PUBLISHED-TTL:PT1H
BEGIN:VTIMEZONE
TZID:America/New_York
BEGIN:DAYLIGHT
TZOFFSETFROM:-0500
TZOFFSETTO:-0400
TZNAME:EDT
DTSTART:20220313T070000
END:DAYLIGHT
BEGIN:STANDARD
TZOFFSETFROM:-0400
TZOFFSETTO:-0500
TZNAME:EST
DTSTART:20221106T060000
END:STANDARD
BEGIN:DAYLIGHT
TZOFFSETFROM:-0500
TZOFFSETTO:-0400
TZNAME:EDT
DTSTART:20230312T070000
END:DAYLIGHT
BEGIN:STANDARD
TZOFFSETFROM:-0400
TZOFFSETTO:-0500
TZNAME:EST
DTSTART:20231105T060000
END:STANDARD
BEGIN:DAYLIGHT
TZOFFSETFROM:-0500
TZOFFSETTO:-0400
TZNAME:EDT
DTSTART:20240310T070000
END:DAYLIGHT
BEGIN:STANDARD
TZOFFSETFROM:-0400
TZOFFSETTO:-0500
TZNAME:EST
DTSTART:20241103T060000
END:STANDARD
END:VTIMEZONE
BEGIN:VEVENT
DTSTART;TZID=America/New_York:20231215T093000
DTEND;TZID=America/New_York:20231215T120000
DTSTAMP:20260420T115107
CREATED:20230925T182159Z
LAST-MODIFIED:20231121T143638Z
UID:10001155-1702632600-1702641600@ccrconnect.ca
SUMMARY:Play & Learn
DESCRIPTION:Join us for a program filled with fun\, socializing\, and learning for families of children 0-6yrs.  While attending our program\, you and your child will have the opportunity to participate in a variety of activities such as crafts\, science\, literacy\, and gross and fine motor activities. Have questions about child development or other parenting concerns? Feel free to ask our qualified staff about the multitude of resources we have to offer.
URL:https://ccrconnect.ca/event/play-learn-2-2/2023-12-15/
LOCATION:Copper Cliff (Copper Cliff Public School) EarlyON\, 50 School St\, Copper Cliff\, Ontario\, P0M 1N0\, Canada
END:VEVENT
BEGIN:VEVENT
DTSTART;TZID=America/New_York:20231214T093000
DTEND;TZID=America/New_York:20231214T120000
DTSTAMP:20260420T115107
CREATED:20230925T182008Z
LAST-MODIFIED:20231121T143617Z
UID:10001171-1702546200-1702555200@ccrconnect.ca
SUMMARY:Babies Day Out
DESCRIPTION:Babies’ Day Out\nBabies’ Day Out is a program for infants 0 to 18 months and their parents. The program allows infants to explore\, learn and play in a safe environment. Siblings are welcome to join. EarlyON Practitioners can also support with any questions you may have regarding infant development.
URL:https://ccrconnect.ca/event/babies-day-out-10/2023-12-14/
LOCATION:Copper Cliff (Copper Cliff Public School) EarlyON\, 50 School St\, Copper Cliff\, Ontario\, P0M 1N0\, Canada
END:VEVENT
BEGIN:VEVENT
DTSTART;TZID=America/New_York:20231212T093000
DTEND;TZID=America/New_York:20231212T113000
DTSTAMP:20260420T115107
CREATED:20231003T210437Z
LAST-MODIFIED:20231212T200954Z
UID:10001159-1702373400-1702380600@ccrconnect.ca
SUMMARY:RH Murray Outreach
DESCRIPTION:Join us for a program filled with fun\, socializing\, and learning for families of children 0-6yrs.  While attending our program\, you and your child will have the opportunity to participate in a variety of activities such as crafts\, science\, literacy\, and gross and fine motor activities. Have questions about child development or other parenting concerns? Feel free to ask our qualified staff about the multitude of resources we have to offer. \nOnly on December 19th starting at 10:00am\nIndigenous Led Program: The Program for December will be: Christmas crafts- ornaments and wreaths with cedar\, wood\, as well singing Christmas Carols.
URL:https://ccrconnect.ca/event/rh-murray-outreach-2/2023-12-12/
LOCATION:RH Murray Public School (Copper Cliff Outreach Location)\, 3 henry st\, Whitefish\, Ontario\, P0M3E0\, Canada
END:VEVENT
BEGIN:VEVENT
DTSTART;TZID=America/New_York:20231211T143000
DTEND;TZID=America/New_York:20231211T173000
DTSTAMP:20260420T115107
CREATED:20230925T172438Z
LAST-MODIFIED:20231121T143456Z
UID:10001150-1702305000-1702315800@ccrconnect.ca
SUMMARY:Play & Learn
DESCRIPTION:Join us for a program filled with fun\, socializing\, and learning for families of children 0-6yrs.  While attending our program\, you and your child will have the opportunity to participate in a variety of activities such as crafts\, science\, literacy\, and gross and fine motor activities. Have questions about child development or other parenting concerns? Feel free to ask our qualified staff about the multitude of resources we have to offer.
URL:https://ccrconnect.ca/event/play-learn-10/2023-12-11/
LOCATION:Copper Cliff (Copper Cliff Public School) EarlyON\, 50 School St\, Copper Cliff\, Ontario\, P0M 1N0\, Canada
END:VEVENT
BEGIN:VEVENT
DTSTART;TZID=America/New_York:20231208T093000
DTEND;TZID=America/New_York:20231208T120000
DTSTAMP:20260420T115107
CREATED:20230925T182159Z
LAST-MODIFIED:20231121T143638Z
UID:10001154-1702027800-1702036800@ccrconnect.ca
SUMMARY:Play & Learn
DESCRIPTION:Join us for a program filled with fun\, socializing\, and learning for families of children 0-6yrs.  While attending our program\, you and your child will have the opportunity to participate in a variety of activities such as crafts\, science\, literacy\, and gross and fine motor activities. Have questions about child development or other parenting concerns? Feel free to ask our qualified staff about the multitude of resources we have to offer.
URL:https://ccrconnect.ca/event/play-learn-2-2/2023-12-08/
LOCATION:Copper Cliff (Copper Cliff Public School) EarlyON\, 50 School St\, Copper Cliff\, Ontario\, P0M 1N0\, Canada
END:VEVENT
BEGIN:VEVENT
DTSTART;TZID=America/New_York:20231207T093000
DTEND;TZID=America/New_York:20231207T120000
DTSTAMP:20260420T115107
CREATED:20230925T182008Z
LAST-MODIFIED:20231121T143617Z
UID:10001170-1701941400-1701950400@ccrconnect.ca
SUMMARY:Babies Day Out
DESCRIPTION:Babies’ Day Out\nBabies’ Day Out is a program for infants 0 to 18 months and their parents. The program allows infants to explore\, learn and play in a safe environment. Siblings are welcome to join. EarlyON Practitioners can also support with any questions you may have regarding infant development.
URL:https://ccrconnect.ca/event/babies-day-out-10/2023-12-07/
LOCATION:Copper Cliff (Copper Cliff Public School) EarlyON\, 50 School St\, Copper Cliff\, Ontario\, P0M 1N0\, Canada
END:VEVENT
BEGIN:VEVENT
DTSTART;TZID=America/New_York:20231206T130000
DTEND;TZID=America/New_York:20231206T150000
DTSTAMP:20260420T115107
CREATED:20230925T182749Z
LAST-MODIFIED:20231121T142419Z
UID:10001166-1701867600-1701874800@ccrconnect.ca
SUMMARY:Early Childhood Consultations *By Appointments Only
DESCRIPTION:Early Childhood Consultations – Meet with a member of our team!  \nDo you have questions about your child’s development and or social behaviours?  Are you interested in parenting strategies?  Do you have questions about community services available for you or your child?  We offer a free and confidential service that supports parents\, caregivers with children 0-6 years of age. This service provides a one-on-one session with a member of our EarlyON team regarding parenting tips\, child development and or child behavior. We provide a nonjudgmental environment and emotional support. Screening tools can be completed upon your consent with your child and referrals can be made to additional community support if needed. Times can be booked at all CCR EarlyOn locations or email our earlyon@ccrconnect.ca. with your request. Available in English & French.
URL:https://ccrconnect.ca/event/early-childhood-consultations-2-2/2023-12-06/
LOCATION:Garson (Northeastern) EarlyON\, 45 Spruce Street\, Garson\, Ontario\, Canada
END:VEVENT
BEGIN:VEVENT
DTSTART;TZID=America/New_York:20231206T100000
DTEND;TZID=America/New_York:20231206T120000
DTSTAMP:20260420T115107
CREATED:20231025T192413Z
LAST-MODIFIED:20231121T152244Z
UID:10001162-1701856800-1701864000@ccrconnect.ca
SUMMARY:EarlyON Fun with Literacy at Lively Public Library
DESCRIPTION:You are invited to join the EarlyON at the Lively Public Library for fun learning activities
URL:https://ccrconnect.ca/event/earlyon-fun-with-literacy-at-lively-public-library/2023-12-06/
LOCATION:Lively Public Library\, 15 Kin Dr Unit A\, Lively\, Ontario\, P3Y 1M9\, Canada
END:VEVENT
BEGIN:VEVENT
DTSTART;TZID=America/New_York:20231205T093000
DTEND;TZID=America/New_York:20231205T113000
DTSTAMP:20260420T115107
CREATED:20231003T210437Z
LAST-MODIFIED:20231212T200954Z
UID:10001158-1701768600-1701775800@ccrconnect.ca
SUMMARY:RH Murray Outreach
DESCRIPTION:Join us for a program filled with fun\, socializing\, and learning for families of children 0-6yrs.  While attending our program\, you and your child will have the opportunity to participate in a variety of activities such as crafts\, science\, literacy\, and gross and fine motor activities. Have questions about child development or other parenting concerns? Feel free to ask our qualified staff about the multitude of resources we have to offer. \nOnly on December 19th starting at 10:00am\nIndigenous Led Program: The Program for December will be: Christmas crafts- ornaments and wreaths with cedar\, wood\, as well singing Christmas Carols.
URL:https://ccrconnect.ca/event/rh-murray-outreach-2/2023-12-05/
LOCATION:RH Murray Public School (Copper Cliff Outreach Location)\, 3 henry st\, Whitefish\, Ontario\, P0M3E0\, Canada
END:VEVENT
BEGIN:VEVENT
DTSTART;TZID=America/New_York:20231204T143000
DTEND;TZID=America/New_York:20231204T173000
DTSTAMP:20260420T115107
CREATED:20230925T172438Z
LAST-MODIFIED:20231121T143456Z
UID:10001149-1701700200-1701711000@ccrconnect.ca
SUMMARY:Play & Learn
DESCRIPTION:Join us for a program filled with fun\, socializing\, and learning for families of children 0-6yrs.  While attending our program\, you and your child will have the opportunity to participate in a variety of activities such as crafts\, science\, literacy\, and gross and fine motor activities. Have questions about child development or other parenting concerns? Feel free to ask our qualified staff about the multitude of resources we have to offer.
URL:https://ccrconnect.ca/event/play-learn-10/2023-12-04/
LOCATION:Copper Cliff (Copper Cliff Public School) EarlyON\, 50 School St\, Copper Cliff\, Ontario\, P0M 1N0\, Canada
END:VEVENT
BEGIN:VEVENT
DTSTART;TZID=America/New_York:20231201T093000
DTEND;TZID=America/New_York:20231201T120000
DTSTAMP:20260420T115107
CREATED:20230925T182159Z
LAST-MODIFIED:20231121T143638Z
UID:10001153-1701423000-1701432000@ccrconnect.ca
SUMMARY:Play & Learn
DESCRIPTION:Join us for a program filled with fun\, socializing\, and learning for families of children 0-6yrs.  While attending our program\, you and your child will have the opportunity to participate in a variety of activities such as crafts\, science\, literacy\, and gross and fine motor activities. Have questions about child development or other parenting concerns? Feel free to ask our qualified staff about the multitude of resources we have to offer.
URL:https://ccrconnect.ca/event/play-learn-2-2/2023-12-01/
LOCATION:Copper Cliff (Copper Cliff Public School) EarlyON\, 50 School St\, Copper Cliff\, Ontario\, P0M 1N0\, Canada
END:VEVENT
BEGIN:VEVENT
DTSTART;TZID=America/New_York:20231130T093000
DTEND;TZID=America/New_York:20231130T120000
DTSTAMP:20260420T115107
CREATED:20230925T182008Z
LAST-MODIFIED:20231121T143617Z
UID:10000678-1701336600-1701345600@ccrconnect.ca
SUMMARY:Babies Day Out
DESCRIPTION:Babies’ Day Out\nBabies’ Day Out is a program for infants 0 to 18 months and their parents. The program allows infants to explore\, learn and play in a safe environment. Siblings are welcome to join. EarlyON Practitioners can also support with any questions you may have regarding infant development.
URL:https://ccrconnect.ca/event/babies-day-out-10/2023-11-30/
LOCATION:Copper Cliff (Copper Cliff Public School) EarlyON\, 50 School St\, Copper Cliff\, Ontario\, P0M 1N0\, Canada
END:VEVENT
BEGIN:VEVENT
DTSTART;TZID=America/New_York:20231129T130000
DTEND;TZID=America/New_York:20231129T150000
DTSTAMP:20260420T115107
CREATED:20230925T182749Z
LAST-MODIFIED:20231121T142419Z
UID:10000652-1701262800-1701270000@ccrconnect.ca
SUMMARY:Early Childhood Consultations *By Appointments Only
DESCRIPTION:Early Childhood Consultations – Meet with a member of our team!  \nDo you have questions about your child’s development and or social behaviours?  Are you interested in parenting strategies?  Do you have questions about community services available for you or your child?  We offer a free and confidential service that supports parents\, caregivers with children 0-6 years of age. This service provides a one-on-one session with a member of our EarlyON team regarding parenting tips\, child development and or child behavior. We provide a nonjudgmental environment and emotional support. Screening tools can be completed upon your consent with your child and referrals can be made to additional community support if needed. Times can be booked at all CCR EarlyOn locations or email our earlyon@ccrconnect.ca. with your request. Available in English & French.
URL:https://ccrconnect.ca/event/early-childhood-consultations-2-2/2023-11-29/
LOCATION:Garson (Northeastern) EarlyON\, 45 Spruce Street\, Garson\, Ontario\, Canada
END:VEVENT
BEGIN:VEVENT
DTSTART;TZID=America/New_York:20231129T100000
DTEND;TZID=America/New_York:20231129T120000
DTSTAMP:20260420T115107
CREATED:20231025T192413Z
LAST-MODIFIED:20231121T152244Z
UID:10000660-1701252000-1701259200@ccrconnect.ca
SUMMARY:EarlyON Fun with Literacy at Lively Public Library
DESCRIPTION:You are invited to join the EarlyON at the Lively Public Library for fun learning activities
URL:https://ccrconnect.ca/event/earlyon-fun-with-literacy-at-lively-public-library/2023-11-29/
LOCATION:Lively Public Library\, 15 Kin Dr Unit A\, Lively\, Ontario\, P3Y 1M9\, Canada
END:VEVENT
BEGIN:VEVENT
DTSTART;TZID=America/New_York:20231128T093000
DTEND;TZID=America/New_York:20231128T113000
DTSTAMP:20260420T115107
CREATED:20231003T210437Z
LAST-MODIFIED:20231212T200954Z
UID:10000634-1701163800-1701171000@ccrconnect.ca
SUMMARY:RH Murray Outreach
DESCRIPTION:Join us for a program filled with fun\, socializing\, and learning for families of children 0-6yrs.  While attending our program\, you and your child will have the opportunity to participate in a variety of activities such as crafts\, science\, literacy\, and gross and fine motor activities. Have questions about child development or other parenting concerns? Feel free to ask our qualified staff about the multitude of resources we have to offer. \nOnly on December 19th starting at 10:00am\nIndigenous Led Program: The Program for December will be: Christmas crafts- ornaments and wreaths with cedar\, wood\, as well singing Christmas Carols.
URL:https://ccrconnect.ca/event/rh-murray-outreach-2/2023-11-28/
LOCATION:RH Murray Public School (Copper Cliff Outreach Location)\, 3 henry st\, Whitefish\, Ontario\, P0M3E0\, Canada
END:VEVENT
BEGIN:VEVENT
DTSTART;TZID=America/New_York:20231127T143000
DTEND;TZID=America/New_York:20231127T173000
DTSTAMP:20260420T115107
CREATED:20230925T172438Z
LAST-MODIFIED:20231121T143456Z
UID:10000624-1701095400-1701106200@ccrconnect.ca
SUMMARY:Play & Learn
DESCRIPTION:Join us for a program filled with fun\, socializing\, and learning for families of children 0-6yrs.  While attending our program\, you and your child will have the opportunity to participate in a variety of activities such as crafts\, science\, literacy\, and gross and fine motor activities. Have questions about child development or other parenting concerns? Feel free to ask our qualified staff about the multitude of resources we have to offer.
URL:https://ccrconnect.ca/event/play-learn-10/2023-11-27/
LOCATION:Copper Cliff (Copper Cliff Public School) EarlyON\, 50 School St\, Copper Cliff\, Ontario\, P0M 1N0\, Canada
END:VEVENT
BEGIN:VEVENT
DTSTART;TZID=America/New_York:20231124T093000
DTEND;TZID=America/New_York:20231124T120000
DTSTAMP:20260420T115107
CREATED:20230925T182159Z
LAST-MODIFIED:20231121T143638Z
UID:10000694-1700818200-1700827200@ccrconnect.ca
SUMMARY:Play & Learn
DESCRIPTION:Join us for a program filled with fun\, socializing\, and learning for families of children 0-6yrs.  While attending our program\, you and your child will have the opportunity to participate in a variety of activities such as crafts\, science\, literacy\, and gross and fine motor activities. Have questions about child development or other parenting concerns? Feel free to ask our qualified staff about the multitude of resources we have to offer.
URL:https://ccrconnect.ca/event/play-learn-2-2/2023-11-24/
LOCATION:Copper Cliff (Copper Cliff Public School) EarlyON\, 50 School St\, Copper Cliff\, Ontario\, P0M 1N0\, Canada
END:VEVENT
BEGIN:VEVENT
DTSTART;TZID=America/New_York:20231123T093000
DTEND;TZID=America/New_York:20231123T120000
DTSTAMP:20260420T115107
CREATED:20230925T182008Z
LAST-MODIFIED:20231121T143617Z
UID:10000677-1700731800-1700740800@ccrconnect.ca
SUMMARY:Babies Day Out
DESCRIPTION:Babies’ Day Out\nBabies’ Day Out is a program for infants 0 to 18 months and their parents. The program allows infants to explore\, learn and play in a safe environment. Siblings are welcome to join. EarlyON Practitioners can also support with any questions you may have regarding infant development.
URL:https://ccrconnect.ca/event/babies-day-out-10/2023-11-23/
LOCATION:Copper Cliff (Copper Cliff Public School) EarlyON\, 50 School St\, Copper Cliff\, Ontario\, P0M 1N0\, Canada
END:VEVENT
BEGIN:VEVENT
DTSTART;TZID=America/New_York:20231122T130000
DTEND;TZID=America/New_York:20231122T150000
DTSTAMP:20260420T115107
CREATED:20230925T182749Z
LAST-MODIFIED:20231121T142419Z
UID:10000651-1700658000-1700665200@ccrconnect.ca
SUMMARY:Early Childhood Consultations *By Appointments Only
DESCRIPTION:Early Childhood Consultations – Meet with a member of our team!  \nDo you have questions about your child’s development and or social behaviours?  Are you interested in parenting strategies?  Do you have questions about community services available for you or your child?  We offer a free and confidential service that supports parents\, caregivers with children 0-6 years of age. This service provides a one-on-one session with a member of our EarlyON team regarding parenting tips\, child development and or child behavior. We provide a nonjudgmental environment and emotional support. Screening tools can be completed upon your consent with your child and referrals can be made to additional community support if needed. Times can be booked at all CCR EarlyOn locations or email our earlyon@ccrconnect.ca. with your request. Available in English & French.
URL:https://ccrconnect.ca/event/early-childhood-consultations-2-2/2023-11-22/
LOCATION:Garson (Northeastern) EarlyON\, 45 Spruce Street\, Garson\, Ontario\, Canada
END:VEVENT
BEGIN:VEVENT
DTSTART;TZID=America/New_York:20231122T100000
DTEND;TZID=America/New_York:20231122T120000
DTSTAMP:20260420T115107
CREATED:20231025T192413Z
LAST-MODIFIED:20231121T152244Z
UID:10000659-1700647200-1700654400@ccrconnect.ca
SUMMARY:EarlyON Fun with Literacy at Lively Public Library
DESCRIPTION:You are invited to join the EarlyON at the Lively Public Library for fun learning activities
URL:https://ccrconnect.ca/event/earlyon-fun-with-literacy-at-lively-public-library/2023-11-22/
LOCATION:Lively Public Library\, 15 Kin Dr Unit A\, Lively\, Ontario\, P3Y 1M9\, Canada
END:VEVENT
BEGIN:VEVENT
DTSTART;TZID=America/New_York:20231121T093000
DTEND;TZID=America/New_York:20231121T113000
DTSTAMP:20260420T115107
CREATED:20231003T210437Z
LAST-MODIFIED:20231212T200954Z
UID:10000633-1700559000-1700566200@ccrconnect.ca
SUMMARY:RH Murray Outreach
DESCRIPTION:Join us for a program filled with fun\, socializing\, and learning for families of children 0-6yrs.  While attending our program\, you and your child will have the opportunity to participate in a variety of activities such as crafts\, science\, literacy\, and gross and fine motor activities. Have questions about child development or other parenting concerns? Feel free to ask our qualified staff about the multitude of resources we have to offer. \nOnly on December 19th starting at 10:00am\nIndigenous Led Program: The Program for December will be: Christmas crafts- ornaments and wreaths with cedar\, wood\, as well singing Christmas Carols.
URL:https://ccrconnect.ca/event/rh-murray-outreach-2/2023-11-21/
LOCATION:RH Murray Public School (Copper Cliff Outreach Location)\, 3 henry st\, Whitefish\, Ontario\, P0M3E0\, Canada
END:VEVENT
BEGIN:VEVENT
DTSTART;TZID=America/New_York:20231120T143000
DTEND;TZID=America/New_York:20231120T173000
DTSTAMP:20260420T115108
CREATED:20230925T172438Z
LAST-MODIFIED:20231121T143456Z
UID:10000623-1700490600-1700501400@ccrconnect.ca
SUMMARY:Play & Learn
DESCRIPTION:Join us for a program filled with fun\, socializing\, and learning for families of children 0-6yrs.  While attending our program\, you and your child will have the opportunity to participate in a variety of activities such as crafts\, science\, literacy\, and gross and fine motor activities. Have questions about child development or other parenting concerns? Feel free to ask our qualified staff about the multitude of resources we have to offer.
URL:https://ccrconnect.ca/event/play-learn-10/2023-11-20/
LOCATION:Copper Cliff (Copper Cliff Public School) EarlyON\, 50 School St\, Copper Cliff\, Ontario\, P0M 1N0\, Canada
END:VEVENT
BEGIN:VEVENT
DTSTART;TZID=America/New_York:20231117T093000
DTEND;TZID=America/New_York:20231117T120000
DTSTAMP:20260420T115108
CREATED:20230925T182159Z
LAST-MODIFIED:20231121T143638Z
UID:10000693-1700213400-1700222400@ccrconnect.ca
SUMMARY:Play & Learn
DESCRIPTION:Join us for a program filled with fun\, socializing\, and learning for families of children 0-6yrs.  While attending our program\, you and your child will have the opportunity to participate in a variety of activities such as crafts\, science\, literacy\, and gross and fine motor activities. Have questions about child development or other parenting concerns? Feel free to ask our qualified staff about the multitude of resources we have to offer.
URL:https://ccrconnect.ca/event/play-learn-2-2/2023-11-17/
LOCATION:Copper Cliff (Copper Cliff Public School) EarlyON\, 50 School St\, Copper Cliff\, Ontario\, P0M 1N0\, Canada
END:VEVENT
BEGIN:VEVENT
DTSTART;TZID=America/New_York:20231116T093000
DTEND;TZID=America/New_York:20231116T120000
DTSTAMP:20260420T115108
CREATED:20230925T182008Z
LAST-MODIFIED:20231121T143617Z
UID:10000676-1700127000-1700136000@ccrconnect.ca
SUMMARY:Babies Day Out
DESCRIPTION:Babies’ Day Out\nBabies’ Day Out is a program for infants 0 to 18 months and their parents. The program allows infants to explore\, learn and play in a safe environment. Siblings are welcome to join. EarlyON Practitioners can also support with any questions you may have regarding infant development.
URL:https://ccrconnect.ca/event/babies-day-out-10/2023-11-16/
LOCATION:Copper Cliff (Copper Cliff Public School) EarlyON\, 50 School St\, Copper Cliff\, Ontario\, P0M 1N0\, Canada
END:VEVENT
BEGIN:VEVENT
DTSTART;TZID=America/New_York:20231115T130000
DTEND;TZID=America/New_York:20231115T150000
DTSTAMP:20260420T115108
CREATED:20230925T182749Z
LAST-MODIFIED:20231121T142419Z
UID:10000650-1700053200-1700060400@ccrconnect.ca
SUMMARY:Early Childhood Consultations *By Appointments Only
DESCRIPTION:Early Childhood Consultations – Meet with a member of our team!  \nDo you have questions about your child’s development and or social behaviours?  Are you interested in parenting strategies?  Do you have questions about community services available for you or your child?  We offer a free and confidential service that supports parents\, caregivers with children 0-6 years of age. This service provides a one-on-one session with a member of our EarlyON team regarding parenting tips\, child development and or child behavior. We provide a nonjudgmental environment and emotional support. Screening tools can be completed upon your consent with your child and referrals can be made to additional community support if needed. Times can be booked at all CCR EarlyOn locations or email our earlyon@ccrconnect.ca. with your request. Available in English & French.
URL:https://ccrconnect.ca/event/early-childhood-consultations-2-2/2023-11-15/
LOCATION:Garson (Northeastern) EarlyON\, 45 Spruce Street\, Garson\, Ontario\, Canada
END:VEVENT
BEGIN:VEVENT
DTSTART;TZID=America/New_York:20231115T100000
DTEND;TZID=America/New_York:20231115T120000
DTSTAMP:20260420T115108
CREATED:20231025T192413Z
LAST-MODIFIED:20231121T152244Z
UID:10000658-1700042400-1700049600@ccrconnect.ca
SUMMARY:EarlyON Fun with Literacy at Lively Public Library
DESCRIPTION:You are invited to join the EarlyON at the Lively Public Library for fun learning activities
URL:https://ccrconnect.ca/event/earlyon-fun-with-literacy-at-lively-public-library/2023-11-15/
LOCATION:Lively Public Library\, 15 Kin Dr Unit A\, Lively\, Ontario\, P3Y 1M9\, Canada
END:VEVENT
BEGIN:VEVENT
DTSTART;TZID=America/New_York:20231114T093000
DTEND;TZID=America/New_York:20231114T113000
DTSTAMP:20260420T115108
CREATED:20231003T210437Z
LAST-MODIFIED:20231212T200954Z
UID:10000632-1699954200-1699961400@ccrconnect.ca
SUMMARY:RH Murray Outreach
DESCRIPTION:Join us for a program filled with fun\, socializing\, and learning for families of children 0-6yrs.  While attending our program\, you and your child will have the opportunity to participate in a variety of activities such as crafts\, science\, literacy\, and gross and fine motor activities. Have questions about child development or other parenting concerns? Feel free to ask our qualified staff about the multitude of resources we have to offer. \nOnly on December 19th starting at 10:00am\nIndigenous Led Program: The Program for December will be: Christmas crafts- ornaments and wreaths with cedar\, wood\, as well singing Christmas Carols.
URL:https://ccrconnect.ca/event/rh-murray-outreach-2/2023-11-14/
LOCATION:RH Murray Public School (Copper Cliff Outreach Location)\, 3 henry st\, Whitefish\, Ontario\, P0M3E0\, Canada
END:VEVENT
BEGIN:VEVENT
DTSTART;TZID=America/New_York:20231113T143000
DTEND;TZID=America/New_York:20231113T173000
DTSTAMP:20260420T115108
CREATED:20230925T172438Z
LAST-MODIFIED:20231121T143456Z
UID:10000622-1699885800-1699896600@ccrconnect.ca
SUMMARY:Play & Learn
DESCRIPTION:Join us for a program filled with fun\, socializing\, and learning for families of children 0-6yrs.  While attending our program\, you and your child will have the opportunity to participate in a variety of activities such as crafts\, science\, literacy\, and gross and fine motor activities. Have questions about child development or other parenting concerns? Feel free to ask our qualified staff about the multitude of resources we have to offer.
URL:https://ccrconnect.ca/event/play-learn-10/2023-11-13/
LOCATION:Copper Cliff (Copper Cliff Public School) EarlyON\, 50 School St\, Copper Cliff\, Ontario\, P0M 1N0\, Canada
END:VEVENT
BEGIN:VEVENT
DTSTART;TZID=America/New_York:20231110T093000
DTEND;TZID=America/New_York:20231110T120000
DTSTAMP:20260420T115108
CREATED:20230925T182159Z
LAST-MODIFIED:20231121T143638Z
UID:10000692-1699608600-1699617600@ccrconnect.ca
SUMMARY:Play & Learn
DESCRIPTION:Join us for a program filled with fun\, socializing\, and learning for families of children 0-6yrs.  While attending our program\, you and your child will have the opportunity to participate in a variety of activities such as crafts\, science\, literacy\, and gross and fine motor activities. Have questions about child development or other parenting concerns? Feel free to ask our qualified staff about the multitude of resources we have to offer.
URL:https://ccrconnect.ca/event/play-learn-2-2/2023-11-10/
LOCATION:Copper Cliff (Copper Cliff Public School) EarlyON\, 50 School St\, Copper Cliff\, Ontario\, P0M 1N0\, Canada
END:VEVENT
BEGIN:VEVENT
DTSTART;TZID=America/New_York:20231109T093000
DTEND;TZID=America/New_York:20231109T120000
DTSTAMP:20260420T115108
CREATED:20230925T182008Z
LAST-MODIFIED:20231121T143617Z
UID:10000675-1699522200-1699531200@ccrconnect.ca
SUMMARY:Babies Day Out
DESCRIPTION:Babies’ Day Out\nBabies’ Day Out is a program for infants 0 to 18 months and their parents. The program allows infants to explore\, learn and play in a safe environment. Siblings are welcome to join. EarlyON Practitioners can also support with any questions you may have regarding infant development.
URL:https://ccrconnect.ca/event/babies-day-out-10/2023-11-09/
LOCATION:Copper Cliff (Copper Cliff Public School) EarlyON\, 50 School St\, Copper Cliff\, Ontario\, P0M 1N0\, Canada
END:VEVENT
END:VCALENDAR