BEGIN:VCALENDAR
VERSION:2.0
PRODID:-//Child &amp; Community Resources - ECPv6.15.20//NONSGML v1.0//EN
CALSCALE:GREGORIAN
METHOD:PUBLISH
X-ORIGINAL-URL:https://ccrconnect.ca
X-WR-CALDESC:Events for Child &amp; Community Resources
REFRESH-INTERVAL;VALUE=DURATION:PT1H
X-Robots-Tag:noindex
X-PUBLISHED-TTL:PT1H
BEGIN:VTIMEZONE
TZID:America/New_York
BEGIN:DAYLIGHT
TZOFFSETFROM:-0500
TZOFFSETTO:-0400
TZNAME:EDT
DTSTART:20230312T070000
END:DAYLIGHT
BEGIN:STANDARD
TZOFFSETFROM:-0400
TZOFFSETTO:-0500
TZNAME:EST
DTSTART:20231105T060000
END:STANDARD
BEGIN:DAYLIGHT
TZOFFSETFROM:-0500
TZOFFSETTO:-0400
TZNAME:EDT
DTSTART:20240310T070000
END:DAYLIGHT
BEGIN:STANDARD
TZOFFSETFROM:-0400
TZOFFSETTO:-0500
TZNAME:EST
DTSTART:20241103T060000
END:STANDARD
BEGIN:DAYLIGHT
TZOFFSETFROM:-0500
TZOFFSETTO:-0400
TZNAME:EDT
DTSTART:20250309T070000
END:DAYLIGHT
BEGIN:STANDARD
TZOFFSETFROM:-0400
TZOFFSETTO:-0500
TZNAME:EST
DTSTART:20251102T060000
END:STANDARD
END:VTIMEZONE
BEGIN:VEVENT
DTSTART;TZID=America/New_York:20240207T100000
DTEND;TZID=America/New_York:20240207T120000
DTSTAMP:20260419T181050
CREATED:20231218T160828Z
LAST-MODIFIED:20240122T144842Z
UID:10001963-1707300000-1707307200@ccrconnect.ca
SUMMARY:EarlyON Fun with Literacy at Lively Public Library
DESCRIPTION:You are invited to join the EarlyON at the Lively Public Library for fun learning activities
URL:https://ccrconnect.ca/event/earlyon-fun-with-literacy-at-lively-public-library-3/2024-02-07/
LOCATION:Lively Public Library\, 15 Kin Dr Unit A\, Lively\, Ontario\, P3Y 1M9\, Canada
END:VEVENT
BEGIN:VEVENT
DTSTART;TZID=America/New_York:20240206T093000
DTEND;TZID=America/New_York:20240206T113000
DTSTAMP:20260419T181050
CREATED:20240122T151726Z
LAST-MODIFIED:20240423T131507Z
UID:10002015-1707211800-1707219000@ccrconnect.ca
SUMMARY:RH Murray Outreach
DESCRIPTION:Join us for a program filled with fun\, socializing\, and learning for families of children 0-6yrs.  While attending our program\, you and your child will have the opportunity to participate in a variety of activities such as crafts\, science\, literacy\, and gross and fine motor activities. Have questions about child development or other parenting concerns? Feel free to ask our qualified staff about the multitude of resources we have to offer.
URL:https://ccrconnect.ca/event/rh-murray-outreach-5/2024-02-06/
LOCATION:RH Murray Public School (Copper Cliff Outreach Location)\, 3 henry st\, Whitefish\, Ontario\, P0M3E0\, Canada
END:VEVENT
BEGIN:VEVENT
DTSTART;TZID=America/New_York:20240205T143000
DTEND;TZID=America/New_York:20240205T173000
DTSTAMP:20260419T181050
CREATED:20240108T191004Z
LAST-MODIFIED:20240528T134802Z
UID:10001955-1707143400-1707154200@ccrconnect.ca
SUMMARY:Play & Learn
DESCRIPTION:Join us for a program filled with fun\, socializing\, and learning for families of children 0-6yrs.  While attending our program\, you and your child will have the opportunity to participate in a variety of activities such as crafts\, science\, literacy\, and gross and fine motor activities. Have questions about child development or other parenting concerns? Feel free to ask our qualified staff about the multitude of resources we have to offer.
URL:https://ccrconnect.ca/event/play-learn-21/2024-02-05/
LOCATION:Copper Cliff (Copper Cliff Public School) EarlyON\, 50 School St\, Copper Cliff\, Ontario\, P0M 1N0\, Canada
END:VEVENT
BEGIN:VEVENT
DTSTART;TZID=America/New_York:20240202T090000
DTEND;TZID=America/New_York:20240202T120000
DTSTAMP:20260419T181050
CREATED:20240122T150718Z
LAST-MODIFIED:20241114T152929Z
UID:10001999-1706864400-1706875200@ccrconnect.ca
SUMMARY:Play & Learn
DESCRIPTION:Join us for a program filled with fun\, socializing\, and learning for families of children 0-6yrs.  While attending our program\, you and your child will have the opportunity to participate in a variety of activities such as crafts\, science\, literacy\, and gross and fine motor activities. Have questions about child development or other parenting concerns? Feel free to ask our qualified staff about the multitude of resources we have to offer. \n 
URL:https://ccrconnect.ca/event/play-learn-30/2024-02-02/
LOCATION:Copper Cliff (Copper Cliff Public School) EarlyON\, 50 School St\, Copper Cliff\, Ontario\, P0M 1N0\, Canada
END:VEVENT
BEGIN:VEVENT
DTSTART;TZID=America/New_York:20240201T093000
DTEND;TZID=America/New_York:20240201T123000
DTSTAMP:20260419T181050
CREATED:20240122T144945Z
LAST-MODIFIED:20241114T152813Z
UID:10001986-1706779800-1706790600@ccrconnect.ca
SUMMARY:Babies Day Out
DESCRIPTION:Babies’ Day Out\nBabies’ Day Out is a program for infants 0 to 18 months and their parents. The program allows infants to explore\, learn and play in a safe environment. Siblings are welcome to join. EarlyON Practitioners can also support with any questions you may have regarding infant development.
URL:https://ccrconnect.ca/event/babies-day-out-18/2024-02-01/
LOCATION:Copper Cliff (Copper Cliff Public School) EarlyON\, 50 School St\, Copper Cliff\, Ontario\, P0M 1N0\, Canada
END:VEVENT
BEGIN:VEVENT
DTSTART;TZID=America/New_York:20240131T130000
DTEND;TZID=America/New_York:20240131T150000
DTSTAMP:20260419T181050
CREATED:20231218T155646Z
LAST-MODIFIED:20240614T180219Z
UID:10001557-1706706000-1706713200@ccrconnect.ca
SUMMARY:Early Childhood Consultations *By Appointments Only
DESCRIPTION:Early Childhood Consultations – Meet with a member of our team!  \nDo you have questions about your child’s development and or social behaviours?  Are you interested in parenting strategies?  Do you have questions about community services available for you or your child?  We offer a free and confidential service that supports parents\, caregivers with children 0-6 years of age. This service provides a one-on-one session with a member of our EarlyON team regarding parenting tips\, child development and or child behavior. We provide a nonjudgmental environment and emotional support. Screening tools can be completed upon your consent with your child and referrals can be made to additional community support if needed. Times can be booked at all CCR EarlyOn locations or email our earlyon@ccrconnect.ca. with your request. Available in English & French.
URL:https://ccrconnect.ca/event/early-childhood-consultations-by-appointments-only-3/2024-01-31/
LOCATION:Copper Cliff (Copper Cliff Public School) EarlyON\, 50 School St\, Copper Cliff\, Ontario\, P0M 1N0\, Canada
END:VEVENT
BEGIN:VEVENT
DTSTART;TZID=America/New_York:20240131T100000
DTEND;TZID=America/New_York:20240131T120000
DTSTAMP:20260419T181050
CREATED:20231218T160828Z
LAST-MODIFIED:20240122T144842Z
UID:10001583-1706695200-1706702400@ccrconnect.ca
SUMMARY:EarlyON Fun with Literacy at Lively Public Library
DESCRIPTION:You are invited to join the EarlyON at the Lively Public Library for fun learning activities
URL:https://ccrconnect.ca/event/earlyon-fun-with-literacy-at-lively-public-library-3/2024-01-31/
LOCATION:Lively Public Library\, 15 Kin Dr Unit A\, Lively\, Ontario\, P3Y 1M9\, Canada
END:VEVENT
BEGIN:VEVENT
DTSTART;TZID=America/New_York:20240130T093000
DTEND;TZID=America/New_York:20240130T123000
DTSTAMP:20260419T181050
CREATED:20231218T155245Z
LAST-MODIFIED:20240122T151619Z
UID:10001515-1706607000-1706617800@ccrconnect.ca
SUMMARY:RH Murray Outreach
DESCRIPTION:Join us for a program filled with fun\, socializing\, and learning for families of children 0-6yrs.  While attending our program\, you and your child will have the opportunity to participate in a variety of activities such as crafts\, science\, literacy\, and gross and fine motor activities. Have questions about child development or other parenting concerns? Feel free to ask our qualified staff about the multitude of resources we have to offer.
URL:https://ccrconnect.ca/event/rh-murray-outreach-3/2024-01-30/
LOCATION:RH Murray Public School (Copper Cliff Outreach Location)\, 3 henry st\, Whitefish\, Ontario\, P0M3E0\, Canada
END:VEVENT
BEGIN:VEVENT
DTSTART;TZID=America/New_York:20240129T143000
DTEND;TZID=America/New_York:20240129T173000
DTSTAMP:20260419T181050
CREATED:20240108T191004Z
LAST-MODIFIED:20240528T134802Z
UID:10001865-1706538600-1706549400@ccrconnect.ca
SUMMARY:Play & Learn
DESCRIPTION:Join us for a program filled with fun\, socializing\, and learning for families of children 0-6yrs.  While attending our program\, you and your child will have the opportunity to participate in a variety of activities such as crafts\, science\, literacy\, and gross and fine motor activities. Have questions about child development or other parenting concerns? Feel free to ask our qualified staff about the multitude of resources we have to offer.
URL:https://ccrconnect.ca/event/play-learn-21/2024-01-29/
LOCATION:Copper Cliff (Copper Cliff Public School) EarlyON\, 50 School St\, Copper Cliff\, Ontario\, P0M 1N0\, Canada
END:VEVENT
BEGIN:VEVENT
DTSTART;TZID=America/New_York:20240126T093000
DTEND;TZID=America/New_York:20240126T120000
DTSTAMP:20260419T181050
CREATED:20231218T155824Z
LAST-MODIFIED:20240102T135429Z
UID:10001833-1706261400-1706270400@ccrconnect.ca
SUMMARY:Play & Learn
DESCRIPTION:Join us for a program filled with fun\, socializing\, and learning for families of children 0-6yrs.  While attending our program\, you and your child will have the opportunity to participate in a variety of activities such as crafts\, science\, literacy\, and gross and fine motor activities. Have questions about child development or other parenting concerns? Feel free to ask our qualified staff about the multitude of resources we have to offer. \nOnly on January 12th\, 2024 starting at 10:00am\nHappy New Year (Nimkoodaading) Winter is a time of reflection and quiet time. This month we will be sharing the Ribbon Skirt teaching as well as other stories.
URL:https://ccrconnect.ca/event/play-learn-10-2/2024-01-26/
LOCATION:Copper Cliff (Copper Cliff Public School) EarlyON\, 50 School St\, Copper Cliff\, Ontario\, P0M 1N0\, Canada
END:VEVENT
BEGIN:VEVENT
DTSTART;TZID=America/New_York:20240125T103000
DTEND;TZID=America/New_York:20240125T113000
DTSTAMP:20260419T181050
CREATED:20231218T162307Z
LAST-MODIFIED:20231218T162307Z
UID:10001612-1706178600-1706182200@ccrconnect.ca
SUMMARY:Let’s talk….about Literacy with Babies
DESCRIPTION:“Let’s talk….about Literacy with Babies.” Early language and literacy skills are learned best through everyday moments with your baby—reading books\, talking\, laughing\, and playing together. Babies learn language when you talk to them and they communicate back to you\, and by hearing stories read and songs sung aloud. \nPlease join us between 10:30 to 11:30 for a parent discussion on the milestones of Early Literacy\, on sharing books together and choosing books that babies will enjoy.”
URL:https://ccrconnect.ca/event/lets-talk-about-literacy-with-babies/2024-01-25/
LOCATION:Copper Cliff (Copper Cliff Public School) EarlyON\, 50 School St\, Copper Cliff\, Ontario\, P0M 1N0\, Canada
END:VEVENT
BEGIN:VEVENT
DTSTART;TZID=America/New_York:20240125T093000
DTEND;TZID=America/New_York:20240125T123000
DTSTAMP:20260419T181050
CREATED:20240122T144945Z
LAST-MODIFIED:20241114T152813Z
UID:10002289-1706175000-1706185800@ccrconnect.ca
SUMMARY:Babies Day Out
DESCRIPTION:Babies’ Day Out\nBabies’ Day Out is a program for infants 0 to 18 months and their parents. The program allows infants to explore\, learn and play in a safe environment. Siblings are welcome to join. EarlyON Practitioners can also support with any questions you may have regarding infant development.
URL:https://ccrconnect.ca/event/babies-day-out-18/2024-01-25/
LOCATION:Copper Cliff (Copper Cliff Public School) EarlyON\, 50 School St\, Copper Cliff\, Ontario\, P0M 1N0\, Canada
END:VEVENT
BEGIN:VEVENT
DTSTART;TZID=America/New_York:20240125T090000
DTEND;TZID=America/New_York:20240125T120000
DTSTAMP:20260419T181050
CREATED:20240122T150422Z
LAST-MODIFIED:20240122T150434Z
UID:10001985-1706173200-1706184000@ccrconnect.ca
SUMMARY:Babies Day Out
DESCRIPTION:Babies’ Day Out\nBabies’ Day Out is a program for infants 0 to 18 months and their parents. The program allows infants to explore\, learn and play in a safe environment. Siblings are welcome to join. EarlyON Practitioners can also support with any questions you may have regarding infant development.
URL:https://ccrconnect.ca/event/babies-day-out-13/
LOCATION:Copper Cliff (Copper Cliff Public School) EarlyON\, 50 School St\, Copper Cliff\, Ontario\, P0M 1N0\, Canada
END:VEVENT
BEGIN:VEVENT
DTSTART;TZID=America/New_York:20240124T130000
DTEND;TZID=America/New_York:20240124T150000
DTSTAMP:20260419T181050
CREATED:20231218T155646Z
LAST-MODIFIED:20240614T180219Z
UID:10001556-1706101200-1706108400@ccrconnect.ca
SUMMARY:Early Childhood Consultations *By Appointments Only
DESCRIPTION:Early Childhood Consultations – Meet with a member of our team!  \nDo you have questions about your child’s development and or social behaviours?  Are you interested in parenting strategies?  Do you have questions about community services available for you or your child?  We offer a free and confidential service that supports parents\, caregivers with children 0-6 years of age. This service provides a one-on-one session with a member of our EarlyON team regarding parenting tips\, child development and or child behavior. We provide a nonjudgmental environment and emotional support. Screening tools can be completed upon your consent with your child and referrals can be made to additional community support if needed. Times can be booked at all CCR EarlyOn locations or email our earlyon@ccrconnect.ca. with your request. Available in English & French.
URL:https://ccrconnect.ca/event/early-childhood-consultations-by-appointments-only-3/2024-01-24/
LOCATION:Copper Cliff (Copper Cliff Public School) EarlyON\, 50 School St\, Copper Cliff\, Ontario\, P0M 1N0\, Canada
END:VEVENT
BEGIN:VEVENT
DTSTART;TZID=America/New_York:20240124T100000
DTEND;TZID=America/New_York:20240124T120000
DTSTAMP:20260419T181050
CREATED:20231218T160828Z
LAST-MODIFIED:20240122T144842Z
UID:10001582-1706090400-1706097600@ccrconnect.ca
SUMMARY:EarlyON Fun with Literacy at Lively Public Library
DESCRIPTION:You are invited to join the EarlyON at the Lively Public Library for fun learning activities
URL:https://ccrconnect.ca/event/earlyon-fun-with-literacy-at-lively-public-library-3/2024-01-24/
LOCATION:Lively Public Library\, 15 Kin Dr Unit A\, Lively\, Ontario\, P3Y 1M9\, Canada
END:VEVENT
BEGIN:VEVENT
DTSTART;TZID=America/New_York:20240123T093000
DTEND;TZID=America/New_York:20240123T123000
DTSTAMP:20260419T181050
CREATED:20231218T155245Z
LAST-MODIFIED:20240122T151619Z
UID:10001514-1706002200-1706013000@ccrconnect.ca
SUMMARY:RH Murray Outreach
DESCRIPTION:Join us for a program filled with fun\, socializing\, and learning for families of children 0-6yrs.  While attending our program\, you and your child will have the opportunity to participate in a variety of activities such as crafts\, science\, literacy\, and gross and fine motor activities. Have questions about child development or other parenting concerns? Feel free to ask our qualified staff about the multitude of resources we have to offer.
URL:https://ccrconnect.ca/event/rh-murray-outreach-3/2024-01-23/
LOCATION:RH Murray Public School (Copper Cliff Outreach Location)\, 3 henry st\, Whitefish\, Ontario\, P0M3E0\, Canada
END:VEVENT
BEGIN:VEVENT
DTSTART;TZID=America/New_York:20240122T143000
DTEND;TZID=America/New_York:20240122T173000
DTSTAMP:20260419T181050
CREATED:20240108T191004Z
LAST-MODIFIED:20240528T134802Z
UID:10001864-1705933800-1705944600@ccrconnect.ca
SUMMARY:Play & Learn
DESCRIPTION:Join us for a program filled with fun\, socializing\, and learning for families of children 0-6yrs.  While attending our program\, you and your child will have the opportunity to participate in a variety of activities such as crafts\, science\, literacy\, and gross and fine motor activities. Have questions about child development or other parenting concerns? Feel free to ask our qualified staff about the multitude of resources we have to offer.
URL:https://ccrconnect.ca/event/play-learn-21/2024-01-22/
LOCATION:Copper Cliff (Copper Cliff Public School) EarlyON\, 50 School St\, Copper Cliff\, Ontario\, P0M 1N0\, Canada
END:VEVENT
BEGIN:VEVENT
DTSTART;TZID=America/New_York:20240119T093000
DTEND;TZID=America/New_York:20240119T120000
DTSTAMP:20260419T181050
CREATED:20231218T155824Z
LAST-MODIFIED:20240102T135429Z
UID:10001832-1705656600-1705665600@ccrconnect.ca
SUMMARY:Play & Learn
DESCRIPTION:Join us for a program filled with fun\, socializing\, and learning for families of children 0-6yrs.  While attending our program\, you and your child will have the opportunity to participate in a variety of activities such as crafts\, science\, literacy\, and gross and fine motor activities. Have questions about child development or other parenting concerns? Feel free to ask our qualified staff about the multitude of resources we have to offer. \nOnly on January 12th\, 2024 starting at 10:00am\nHappy New Year (Nimkoodaading) Winter is a time of reflection and quiet time. This month we will be sharing the Ribbon Skirt teaching as well as other stories.
URL:https://ccrconnect.ca/event/play-learn-10-2/2024-01-19/
LOCATION:Copper Cliff (Copper Cliff Public School) EarlyON\, 50 School St\, Copper Cliff\, Ontario\, P0M 1N0\, Canada
END:VEVENT
BEGIN:VEVENT
DTSTART;TZID=America/New_York:20240118T093000
DTEND;TZID=America/New_York:20240118T123000
DTSTAMP:20260419T181050
CREATED:20240122T144945Z
LAST-MODIFIED:20241114T152813Z
UID:10001984-1705570200-1705581000@ccrconnect.ca
SUMMARY:Babies Day Out
DESCRIPTION:Babies’ Day Out\nBabies’ Day Out is a program for infants 0 to 18 months and their parents. The program allows infants to explore\, learn and play in a safe environment. Siblings are welcome to join. EarlyON Practitioners can also support with any questions you may have regarding infant development.
URL:https://ccrconnect.ca/event/babies-day-out-18/2024-01-18/
LOCATION:Copper Cliff (Copper Cliff Public School) EarlyON\, 50 School St\, Copper Cliff\, Ontario\, P0M 1N0\, Canada
END:VEVENT
BEGIN:VEVENT
DTSTART;TZID=America/New_York:20240117T130000
DTEND;TZID=America/New_York:20240117T150000
DTSTAMP:20260419T181050
CREATED:20231218T155646Z
LAST-MODIFIED:20240614T180219Z
UID:10001555-1705496400-1705503600@ccrconnect.ca
SUMMARY:Early Childhood Consultations *By Appointments Only
DESCRIPTION:Early Childhood Consultations – Meet with a member of our team!  \nDo you have questions about your child’s development and or social behaviours?  Are you interested in parenting strategies?  Do you have questions about community services available for you or your child?  We offer a free and confidential service that supports parents\, caregivers with children 0-6 years of age. This service provides a one-on-one session with a member of our EarlyON team regarding parenting tips\, child development and or child behavior. We provide a nonjudgmental environment and emotional support. Screening tools can be completed upon your consent with your child and referrals can be made to additional community support if needed. Times can be booked at all CCR EarlyOn locations or email our earlyon@ccrconnect.ca. with your request. Available in English & French.
URL:https://ccrconnect.ca/event/early-childhood-consultations-by-appointments-only-3/2024-01-17/
LOCATION:Copper Cliff (Copper Cliff Public School) EarlyON\, 50 School St\, Copper Cliff\, Ontario\, P0M 1N0\, Canada
END:VEVENT
BEGIN:VEVENT
DTSTART;TZID=America/New_York:20240117T100000
DTEND;TZID=America/New_York:20240117T120000
DTSTAMP:20260419T181050
CREATED:20231218T160828Z
LAST-MODIFIED:20240122T144842Z
UID:10001581-1705485600-1705492800@ccrconnect.ca
SUMMARY:EarlyON Fun with Literacy at Lively Public Library
DESCRIPTION:You are invited to join the EarlyON at the Lively Public Library for fun learning activities
URL:https://ccrconnect.ca/event/earlyon-fun-with-literacy-at-lively-public-library-3/2024-01-17/
LOCATION:Lively Public Library\, 15 Kin Dr Unit A\, Lively\, Ontario\, P3Y 1M9\, Canada
END:VEVENT
BEGIN:VEVENT
DTSTART;TZID=America/New_York:20240116T093000
DTEND;TZID=America/New_York:20240116T123000
DTSTAMP:20260419T181050
CREATED:20231218T155245Z
LAST-MODIFIED:20240122T151619Z
UID:10001513-1705397400-1705408200@ccrconnect.ca
SUMMARY:RH Murray Outreach
DESCRIPTION:Join us for a program filled with fun\, socializing\, and learning for families of children 0-6yrs.  While attending our program\, you and your child will have the opportunity to participate in a variety of activities such as crafts\, science\, literacy\, and gross and fine motor activities. Have questions about child development or other parenting concerns? Feel free to ask our qualified staff about the multitude of resources we have to offer.
URL:https://ccrconnect.ca/event/rh-murray-outreach-3/2024-01-16/
LOCATION:RH Murray Public School (Copper Cliff Outreach Location)\, 3 henry st\, Whitefish\, Ontario\, P0M3E0\, Canada
END:VEVENT
BEGIN:VEVENT
DTSTART;TZID=America/New_York:20240115T143000
DTEND;TZID=America/New_York:20240115T173000
DTSTAMP:20260419T181050
CREATED:20240108T191004Z
LAST-MODIFIED:20240528T134802Z
UID:10001863-1705329000-1705339800@ccrconnect.ca
SUMMARY:Play & Learn
DESCRIPTION:Join us for a program filled with fun\, socializing\, and learning for families of children 0-6yrs.  While attending our program\, you and your child will have the opportunity to participate in a variety of activities such as crafts\, science\, literacy\, and gross and fine motor activities. Have questions about child development or other parenting concerns? Feel free to ask our qualified staff about the multitude of resources we have to offer.
URL:https://ccrconnect.ca/event/play-learn-21/2024-01-15/
LOCATION:Copper Cliff (Copper Cliff Public School) EarlyON\, 50 School St\, Copper Cliff\, Ontario\, P0M 1N0\, Canada
END:VEVENT
BEGIN:VEVENT
DTSTART;TZID=America/New_York:20240112T093000
DTEND;TZID=America/New_York:20240112T120000
DTSTAMP:20260419T181050
CREATED:20231218T155824Z
LAST-MODIFIED:20240102T135429Z
UID:10001831-1705051800-1705060800@ccrconnect.ca
SUMMARY:Play & Learn
DESCRIPTION:Join us for a program filled with fun\, socializing\, and learning for families of children 0-6yrs.  While attending our program\, you and your child will have the opportunity to participate in a variety of activities such as crafts\, science\, literacy\, and gross and fine motor activities. Have questions about child development or other parenting concerns? Feel free to ask our qualified staff about the multitude of resources we have to offer. \nOnly on January 12th\, 2024 starting at 10:00am\nHappy New Year (Nimkoodaading) Winter is a time of reflection and quiet time. This month we will be sharing the Ribbon Skirt teaching as well as other stories.
URL:https://ccrconnect.ca/event/play-learn-10-2/2024-01-12/
LOCATION:Copper Cliff (Copper Cliff Public School) EarlyON\, 50 School St\, Copper Cliff\, Ontario\, P0M 1N0\, Canada
END:VEVENT
BEGIN:VEVENT
DTSTART;TZID=America/New_York:20240111T093000
DTEND;TZID=America/New_York:20240111T123000
DTSTAMP:20260419T181050
CREATED:20240122T144945Z
LAST-MODIFIED:20241114T152813Z
UID:10001983-1704965400-1704976200@ccrconnect.ca
SUMMARY:Babies Day Out
DESCRIPTION:Babies’ Day Out\nBabies’ Day Out is a program for infants 0 to 18 months and their parents. The program allows infants to explore\, learn and play in a safe environment. Siblings are welcome to join. EarlyON Practitioners can also support with any questions you may have regarding infant development.
URL:https://ccrconnect.ca/event/babies-day-out-18/2024-01-11/
LOCATION:Copper Cliff (Copper Cliff Public School) EarlyON\, 50 School St\, Copper Cliff\, Ontario\, P0M 1N0\, Canada
END:VEVENT
BEGIN:VEVENT
DTSTART;TZID=America/New_York:20240110T130000
DTEND;TZID=America/New_York:20240110T150000
DTSTAMP:20260419T181050
CREATED:20231218T155646Z
LAST-MODIFIED:20240614T180219Z
UID:10001554-1704891600-1704898800@ccrconnect.ca
SUMMARY:Early Childhood Consultations *By Appointments Only
DESCRIPTION:Early Childhood Consultations – Meet with a member of our team!  \nDo you have questions about your child’s development and or social behaviours?  Are you interested in parenting strategies?  Do you have questions about community services available for you or your child?  We offer a free and confidential service that supports parents\, caregivers with children 0-6 years of age. This service provides a one-on-one session with a member of our EarlyON team regarding parenting tips\, child development and or child behavior. We provide a nonjudgmental environment and emotional support. Screening tools can be completed upon your consent with your child and referrals can be made to additional community support if needed. Times can be booked at all CCR EarlyOn locations or email our earlyon@ccrconnect.ca. with your request. Available in English & French.
URL:https://ccrconnect.ca/event/early-childhood-consultations-by-appointments-only-3/2024-01-10/
LOCATION:Copper Cliff (Copper Cliff Public School) EarlyON\, 50 School St\, Copper Cliff\, Ontario\, P0M 1N0\, Canada
END:VEVENT
BEGIN:VEVENT
DTSTART;TZID=America/New_York:20240109T093000
DTEND;TZID=America/New_York:20240109T123000
DTSTAMP:20260419T181050
CREATED:20231218T155245Z
LAST-MODIFIED:20240122T151619Z
UID:10001512-1704792600-1704803400@ccrconnect.ca
SUMMARY:RH Murray Outreach
DESCRIPTION:Join us for a program filled with fun\, socializing\, and learning for families of children 0-6yrs.  While attending our program\, you and your child will have the opportunity to participate in a variety of activities such as crafts\, science\, literacy\, and gross and fine motor activities. Have questions about child development or other parenting concerns? Feel free to ask our qualified staff about the multitude of resources we have to offer.
URL:https://ccrconnect.ca/event/rh-murray-outreach-3/2024-01-09/
LOCATION:RH Murray Public School (Copper Cliff Outreach Location)\, 3 henry st\, Whitefish\, Ontario\, P0M3E0\, Canada
END:VEVENT
BEGIN:VEVENT
DTSTART;TZID=America/New_York:20240108T143000
DTEND;TZID=America/New_York:20240108T173000
DTSTAMP:20260419T181050
CREATED:20240108T191004Z
LAST-MODIFIED:20240528T134802Z
UID:10001862-1704724200-1704735000@ccrconnect.ca
SUMMARY:Play & Learn
DESCRIPTION:Join us for a program filled with fun\, socializing\, and learning for families of children 0-6yrs.  While attending our program\, you and your child will have the opportunity to participate in a variety of activities such as crafts\, science\, literacy\, and gross and fine motor activities. Have questions about child development or other parenting concerns? Feel free to ask our qualified staff about the multitude of resources we have to offer.
URL:https://ccrconnect.ca/event/play-learn-21/2024-01-08/
LOCATION:Copper Cliff (Copper Cliff Public School) EarlyON\, 50 School St\, Copper Cliff\, Ontario\, P0M 1N0\, Canada
END:VEVENT
BEGIN:VEVENT
DTSTART;TZID=America/New_York:20240105T093000
DTEND;TZID=America/New_York:20240105T120000
DTSTAMP:20260419T181050
CREATED:20231218T155824Z
LAST-MODIFIED:20240102T135429Z
UID:10001830-1704447000-1704456000@ccrconnect.ca
SUMMARY:Play & Learn
DESCRIPTION:Join us for a program filled with fun\, socializing\, and learning for families of children 0-6yrs.  While attending our program\, you and your child will have the opportunity to participate in a variety of activities such as crafts\, science\, literacy\, and gross and fine motor activities. Have questions about child development or other parenting concerns? Feel free to ask our qualified staff about the multitude of resources we have to offer. \nOnly on January 12th\, 2024 starting at 10:00am\nHappy New Year (Nimkoodaading) Winter is a time of reflection and quiet time. This month we will be sharing the Ribbon Skirt teaching as well as other stories.
URL:https://ccrconnect.ca/event/play-learn-10-2/2024-01-05/
LOCATION:Copper Cliff (Copper Cliff Public School) EarlyON\, 50 School St\, Copper Cliff\, Ontario\, P0M 1N0\, Canada
END:VEVENT
BEGIN:VEVENT
DTSTART;TZID=America/New_York:20240104T093000
DTEND;TZID=America/New_York:20240104T123000
DTSTAMP:20260419T181050
CREATED:20240122T144945Z
LAST-MODIFIED:20241114T152813Z
UID:10001982-1704360600-1704371400@ccrconnect.ca
SUMMARY:Babies Day Out
DESCRIPTION:Babies’ Day Out\nBabies’ Day Out is a program for infants 0 to 18 months and their parents. The program allows infants to explore\, learn and play in a safe environment. Siblings are welcome to join. EarlyON Practitioners can also support with any questions you may have regarding infant development.
URL:https://ccrconnect.ca/event/babies-day-out-18/2024-01-04/
LOCATION:Copper Cliff (Copper Cliff Public School) EarlyON\, 50 School St\, Copper Cliff\, Ontario\, P0M 1N0\, Canada
END:VEVENT
END:VCALENDAR