BEGIN:VCALENDAR
VERSION:2.0
PRODID:-//Child &amp; Community Resources - ECPv6.15.20//NONSGML v1.0//EN
CALSCALE:GREGORIAN
METHOD:PUBLISH
X-WR-CALNAME:Child &amp; Community Resources
X-ORIGINAL-URL:https://ccrconnect.ca
X-WR-CALDESC:Events for Child &amp; Community Resources
REFRESH-INTERVAL;VALUE=DURATION:PT1H
X-Robots-Tag:noindex
X-PUBLISHED-TTL:PT1H
BEGIN:VTIMEZONE
TZID:America/New_York
BEGIN:DAYLIGHT
TZOFFSETFROM:-0500
TZOFFSETTO:-0400
TZNAME:EDT
DTSTART:20230312T070000
END:DAYLIGHT
BEGIN:STANDARD
TZOFFSETFROM:-0400
TZOFFSETTO:-0500
TZNAME:EST
DTSTART:20231105T060000
END:STANDARD
BEGIN:DAYLIGHT
TZOFFSETFROM:-0500
TZOFFSETTO:-0400
TZNAME:EDT
DTSTART:20240310T070000
END:DAYLIGHT
BEGIN:STANDARD
TZOFFSETFROM:-0400
TZOFFSETTO:-0500
TZNAME:EST
DTSTART:20241103T060000
END:STANDARD
BEGIN:DAYLIGHT
TZOFFSETFROM:-0500
TZOFFSETTO:-0400
TZNAME:EDT
DTSTART:20250309T070000
END:DAYLIGHT
BEGIN:STANDARD
TZOFFSETFROM:-0400
TZOFFSETTO:-0500
TZNAME:EST
DTSTART:20251102T060000
END:STANDARD
END:VTIMEZONE
BEGIN:VTIMEZONE
TZID:America/Toronto
BEGIN:DAYLIGHT
TZOFFSETFROM:-0500
TZOFFSETTO:-0400
TZNAME:EDT
DTSTART:20230312T070000
END:DAYLIGHT
BEGIN:STANDARD
TZOFFSETFROM:-0400
TZOFFSETTO:-0500
TZNAME:EST
DTSTART:20231105T060000
END:STANDARD
BEGIN:DAYLIGHT
TZOFFSETFROM:-0500
TZOFFSETTO:-0400
TZNAME:EDT
DTSTART:20240310T070000
END:DAYLIGHT
BEGIN:STANDARD
TZOFFSETFROM:-0400
TZOFFSETTO:-0500
TZNAME:EST
DTSTART:20241103T060000
END:STANDARD
BEGIN:DAYLIGHT
TZOFFSETFROM:-0500
TZOFFSETTO:-0400
TZNAME:EDT
DTSTART:20250309T070000
END:DAYLIGHT
BEGIN:STANDARD
TZOFFSETFROM:-0400
TZOFFSETTO:-0500
TZNAME:EST
DTSTART:20251102T060000
END:STANDARD
END:VTIMEZONE
BEGIN:VEVENT
DTSTART;TZID=America/New_York:20240304T143000
DTEND;TZID=America/New_York:20240304T173000
DTSTAMP:20260419T110138
CREATED:20240108T191004Z
LAST-MODIFIED:20240528T134802Z
UID:10002197-1709562600-1709573400@ccrconnect.ca
SUMMARY:Play & Learn
DESCRIPTION:Join us for a program filled with fun\, socializing\, and learning for families of children 0-6yrs.  While attending our program\, you and your child will have the opportunity to participate in a variety of activities such as crafts\, science\, literacy\, and gross and fine motor activities. Have questions about child development or other parenting concerns? Feel free to ask our qualified staff about the multitude of resources we have to offer.
URL:https://ccrconnect.ca/event/play-learn-21/2024-03-04/
LOCATION:Copper Cliff (Copper Cliff Public School) EarlyON\, 50 School St\, Copper Cliff\, Ontario\, P0M 1N0\, Canada
END:VEVENT
BEGIN:VEVENT
DTSTART;TZID=America/New_York:20240301T090000
DTEND;TZID=America/New_York:20240301T120000
DTSTAMP:20260419T110138
CREATED:20240122T150718Z
LAST-MODIFIED:20241114T152929Z
UID:10002296-1709283600-1709294400@ccrconnect.ca
SUMMARY:Play & Learn
DESCRIPTION:Join us for a program filled with fun\, socializing\, and learning for families of children 0-6yrs.  While attending our program\, you and your child will have the opportunity to participate in a variety of activities such as crafts\, science\, literacy\, and gross and fine motor activities. Have questions about child development or other parenting concerns? Feel free to ask our qualified staff about the multitude of resources we have to offer. \n 
URL:https://ccrconnect.ca/event/play-learn-30/2024-03-01/
LOCATION:Copper Cliff (Copper Cliff Public School) EarlyON\, 50 School St\, Copper Cliff\, Ontario\, P0M 1N0\, Canada
END:VEVENT
BEGIN:VEVENT
DTSTART;TZID=America/New_York:20240229T103000
DTEND;TZID=America/New_York:20240229T113000
DTSTAMP:20260419T110138
CREATED:20240122T145355Z
LAST-MODIFIED:20240122T145355Z
UID:10001981-1709202600-1709206200@ccrconnect.ca
SUMMARY:Let’s talk….about Literacy with Babies
DESCRIPTION:Let’s talk….about Songs and Rhymes with Babies. There are many important reasons to sing and rhyme with your baby. Learn how this can help babies help with transitions\, listening\, learning language and more! Join us between 10:30-11:30 for a parent discussion on milestones of Early Literacy and the kinds of songs and rhymes to share with babies.
URL:https://ccrconnect.ca/event/lets-talk-about-literacy-with-babies-2/2024-02-29/
LOCATION:Copper Cliff (Copper Cliff Public School) EarlyON\, 50 School St\, Copper Cliff\, Ontario\, P0M 1N0\, Canada
END:VEVENT
BEGIN:VEVENT
DTSTART;TZID=America/New_York:20240229T093000
DTEND;TZID=America/New_York:20240229T123000
DTSTAMP:20260419T110138
CREATED:20240122T144945Z
LAST-MODIFIED:20241114T152813Z
UID:10001990-1709199000-1709209800@ccrconnect.ca
SUMMARY:Babies Day Out
DESCRIPTION:Babies’ Day Out\nBabies’ Day Out is a program for infants 0 to 18 months and their parents. The program allows infants to explore\, learn and play in a safe environment. Siblings are welcome to join. EarlyON Practitioners can also support with any questions you may have regarding infant development.
URL:https://ccrconnect.ca/event/babies-day-out-18/2024-02-29/
LOCATION:Copper Cliff (Copper Cliff Public School) EarlyON\, 50 School St\, Copper Cliff\, Ontario\, P0M 1N0\, Canada
END:VEVENT
BEGIN:VEVENT
DTSTART;TZID=America/New_York:20240228T130000
DTEND;TZID=America/New_York:20240228T150000
DTSTAMP:20260419T110138
CREATED:20231218T155646Z
LAST-MODIFIED:20240614T180219Z
UID:10001962-1709125200-1709132400@ccrconnect.ca
SUMMARY:Early Childhood Consultations *By Appointments Only
DESCRIPTION:Early Childhood Consultations – Meet with a member of our team!  \nDo you have questions about your child’s development and or social behaviours?  Are you interested in parenting strategies?  Do you have questions about community services available for you or your child?  We offer a free and confidential service that supports parents\, caregivers with children 0-6 years of age. This service provides a one-on-one session with a member of our EarlyON team regarding parenting tips\, child development and or child behavior. We provide a nonjudgmental environment and emotional support. Screening tools can be completed upon your consent with your child and referrals can be made to additional community support if needed. Times can be booked at all CCR EarlyOn locations or email our earlyon@ccrconnect.ca. with your request. Available in English & French.
URL:https://ccrconnect.ca/event/early-childhood-consultations-by-appointments-only-3/2024-02-28/
LOCATION:Copper Cliff (Copper Cliff Public School) EarlyON\, 50 School St\, Copper Cliff\, Ontario\, P0M 1N0\, Canada
END:VEVENT
BEGIN:VEVENT
DTSTART;TZID=America/New_York:20240228T100000
DTEND;TZID=America/New_York:20240228T120000
DTSTAMP:20260419T110138
CREATED:20240228T143159Z
LAST-MODIFIED:20240228T143201Z
UID:10001966-1709114400-1709121600@ccrconnect.ca
SUMMARY:EarlyON Fun with Literacy at Lively Public Library **cancelled today**
DESCRIPTION:We regret to inform you that this activity is cancelled for today\nYou are invited to join the EarlyON at the Lively Public Library for fun learning activities
URL:https://ccrconnect.ca/event/earlyon-fun-with-literacy-at-lively-public-library-3-2/
LOCATION:Lively Public Library\, 15 Kin Dr Unit A\, Lively\, Ontario\, P3Y 1M9\, Canada
END:VEVENT
BEGIN:VEVENT
DTSTART;TZID=America/New_York:20240227T093000
DTEND;TZID=America/New_York:20240227T113000
DTSTAMP:20260419T110138
CREATED:20240122T151726Z
LAST-MODIFIED:20240423T131507Z
UID:10002018-1709026200-1709033400@ccrconnect.ca
SUMMARY:RH Murray Outreach
DESCRIPTION:Join us for a program filled with fun\, socializing\, and learning for families of children 0-6yrs.  While attending our program\, you and your child will have the opportunity to participate in a variety of activities such as crafts\, science\, literacy\, and gross and fine motor activities. Have questions about child development or other parenting concerns? Feel free to ask our qualified staff about the multitude of resources we have to offer.
URL:https://ccrconnect.ca/event/rh-murray-outreach-5/2024-02-27/
LOCATION:RH Murray Public School (Copper Cliff Outreach Location)\, 3 henry st\, Whitefish\, Ontario\, P0M3E0\, Canada
END:VEVENT
BEGIN:VEVENT
DTSTART;TZID=America/New_York:20240226T143000
DTEND;TZID=America/New_York:20240226T173000
DTSTAMP:20260419T110138
CREATED:20240108T191004Z
LAST-MODIFIED:20240528T134802Z
UID:10001958-1708957800-1708968600@ccrconnect.ca
SUMMARY:Play & Learn
DESCRIPTION:Join us for a program filled with fun\, socializing\, and learning for families of children 0-6yrs.  While attending our program\, you and your child will have the opportunity to participate in a variety of activities such as crafts\, science\, literacy\, and gross and fine motor activities. Have questions about child development or other parenting concerns? Feel free to ask our qualified staff about the multitude of resources we have to offer.
URL:https://ccrconnect.ca/event/play-learn-21/2024-02-26/
LOCATION:Copper Cliff (Copper Cliff Public School) EarlyON\, 50 School St\, Copper Cliff\, Ontario\, P0M 1N0\, Canada
END:VEVENT
BEGIN:VEVENT
DTSTART;TZID=America/New_York:20240223T090000
DTEND;TZID=America/New_York:20240223T120000
DTSTAMP:20260419T110138
CREATED:20240122T150718Z
LAST-MODIFIED:20241114T152929Z
UID:10002002-1708678800-1708689600@ccrconnect.ca
SUMMARY:Play & Learn
DESCRIPTION:Join us for a program filled with fun\, socializing\, and learning for families of children 0-6yrs.  While attending our program\, you and your child will have the opportunity to participate in a variety of activities such as crafts\, science\, literacy\, and gross and fine motor activities. Have questions about child development or other parenting concerns? Feel free to ask our qualified staff about the multitude of resources we have to offer. \n 
URL:https://ccrconnect.ca/event/play-learn-30/2024-02-23/
LOCATION:Copper Cliff (Copper Cliff Public School) EarlyON\, 50 School St\, Copper Cliff\, Ontario\, P0M 1N0\, Canada
END:VEVENT
BEGIN:VEVENT
DTSTART;TZID=America/New_York:20240222T093000
DTEND;TZID=America/New_York:20240222T123000
DTSTAMP:20260419T110138
CREATED:20240122T144945Z
LAST-MODIFIED:20241114T152813Z
UID:10001989-1708594200-1708605000@ccrconnect.ca
SUMMARY:Babies Day Out
DESCRIPTION:Babies’ Day Out\nBabies’ Day Out is a program for infants 0 to 18 months and their parents. The program allows infants to explore\, learn and play in a safe environment. Siblings are welcome to join. EarlyON Practitioners can also support with any questions you may have regarding infant development.
URL:https://ccrconnect.ca/event/babies-day-out-18/2024-02-22/
LOCATION:Copper Cliff (Copper Cliff Public School) EarlyON\, 50 School St\, Copper Cliff\, Ontario\, P0M 1N0\, Canada
END:VEVENT
BEGIN:VEVENT
DTSTART;TZID=America/New_York:20240221T130000
DTEND;TZID=America/New_York:20240221T150000
DTSTAMP:20260419T110138
CREATED:20231218T155646Z
LAST-MODIFIED:20240614T180219Z
UID:10001961-1708520400-1708527600@ccrconnect.ca
SUMMARY:Early Childhood Consultations *By Appointments Only
DESCRIPTION:Early Childhood Consultations – Meet with a member of our team!  \nDo you have questions about your child’s development and or social behaviours?  Are you interested in parenting strategies?  Do you have questions about community services available for you or your child?  We offer a free and confidential service that supports parents\, caregivers with children 0-6 years of age. This service provides a one-on-one session with a member of our EarlyON team regarding parenting tips\, child development and or child behavior. We provide a nonjudgmental environment and emotional support. Screening tools can be completed upon your consent with your child and referrals can be made to additional community support if needed. Times can be booked at all CCR EarlyOn locations or email our earlyon@ccrconnect.ca. with your request. Available in English & French.
URL:https://ccrconnect.ca/event/early-childhood-consultations-by-appointments-only-3/2024-02-21/
LOCATION:Copper Cliff (Copper Cliff Public School) EarlyON\, 50 School St\, Copper Cliff\, Ontario\, P0M 1N0\, Canada
END:VEVENT
BEGIN:VEVENT
DTSTART;TZID=America/New_York:20240221T100000
DTEND;TZID=America/New_York:20240221T120000
DTSTAMP:20260419T110138
CREATED:20231218T160828Z
LAST-MODIFIED:20240122T144842Z
UID:10001965-1708509600-1708516800@ccrconnect.ca
SUMMARY:EarlyON Fun with Literacy at Lively Public Library
DESCRIPTION:You are invited to join the EarlyON at the Lively Public Library for fun learning activities
URL:https://ccrconnect.ca/event/earlyon-fun-with-literacy-at-lively-public-library-3/2024-02-21/
LOCATION:Lively Public Library\, 15 Kin Dr Unit A\, Lively\, Ontario\, P3Y 1M9\, Canada
END:VEVENT
BEGIN:VEVENT
DTSTART;TZID=America/New_York:20240220T093000
DTEND;TZID=America/New_York:20240220T113000
DTSTAMP:20260419T110138
CREATED:20240122T151726Z
LAST-MODIFIED:20240423T131507Z
UID:10002017-1708421400-1708428600@ccrconnect.ca
SUMMARY:RH Murray Outreach
DESCRIPTION:Join us for a program filled with fun\, socializing\, and learning for families of children 0-6yrs.  While attending our program\, you and your child will have the opportunity to participate in a variety of activities such as crafts\, science\, literacy\, and gross and fine motor activities. Have questions about child development or other parenting concerns? Feel free to ask our qualified staff about the multitude of resources we have to offer.
URL:https://ccrconnect.ca/event/rh-murray-outreach-5/2024-02-20/
LOCATION:RH Murray Public School (Copper Cliff Outreach Location)\, 3 henry st\, Whitefish\, Ontario\, P0M3E0\, Canada
END:VEVENT
BEGIN:VEVENT
DTSTART;TZID=America/New_York:20240219T143000
DTEND;TZID=America/New_York:20240219T173000
DTSTAMP:20260419T110138
CREATED:20240108T191004Z
LAST-MODIFIED:20240528T134802Z
UID:10002332-1708353000-1708363800@ccrconnect.ca
SUMMARY:Play & Learn
DESCRIPTION:Join us for a program filled with fun\, socializing\, and learning for families of children 0-6yrs.  While attending our program\, you and your child will have the opportunity to participate in a variety of activities such as crafts\, science\, literacy\, and gross and fine motor activities. Have questions about child development or other parenting concerns? Feel free to ask our qualified staff about the multitude of resources we have to offer.
URL:https://ccrconnect.ca/event/play-learn-21/2024-02-19/
LOCATION:Copper Cliff (Copper Cliff Public School) EarlyON\, 50 School St\, Copper Cliff\, Ontario\, P0M 1N0\, Canada
END:VEVENT
BEGIN:VEVENT
DTSTART;VALUE=DATE:20240219
DTEND;VALUE=DATE:20240220
DTSTAMP:20260419T110138
CREATED:20240205T182018Z
LAST-MODIFIED:20240214T144621Z
UID:10002178-1708300800-1708387199@ccrconnect.ca
SUMMARY:Closed for Family Day / Fermé pour la fête de la famille
DESCRIPTION: 
URL:https://ccrconnect.ca/event/closed-for-family-day-ferme-pour-la-fete-de-la-famille/
LOCATION:Azilda Public Library\, 120 St Agnes St\, Azilda\, Ontario\, P0M 1B0\, Canada
END:VEVENT
BEGIN:VEVENT
DTSTART;TZID=America/New_York:20240216T090000
DTEND;TZID=America/New_York:20240216T120000
DTSTAMP:20260419T110138
CREATED:20240122T150718Z
LAST-MODIFIED:20241114T152929Z
UID:10002001-1708074000-1708084800@ccrconnect.ca
SUMMARY:Play & Learn
DESCRIPTION:Join us for a program filled with fun\, socializing\, and learning for families of children 0-6yrs.  While attending our program\, you and your child will have the opportunity to participate in a variety of activities such as crafts\, science\, literacy\, and gross and fine motor activities. Have questions about child development or other parenting concerns? Feel free to ask our qualified staff about the multitude of resources we have to offer. \n 
URL:https://ccrconnect.ca/event/play-learn-30/2024-02-16/
LOCATION:Copper Cliff (Copper Cliff Public School) EarlyON\, 50 School St\, Copper Cliff\, Ontario\, P0M 1N0\, Canada
END:VEVENT
BEGIN:VEVENT
DTSTART;TZID=America/New_York:20240215T093000
DTEND;TZID=America/New_York:20240215T123000
DTSTAMP:20260419T110138
CREATED:20240122T144945Z
LAST-MODIFIED:20241114T152813Z
UID:10001988-1707989400-1708000200@ccrconnect.ca
SUMMARY:Babies Day Out
DESCRIPTION:Babies’ Day Out\nBabies’ Day Out is a program for infants 0 to 18 months and their parents. The program allows infants to explore\, learn and play in a safe environment. Siblings are welcome to join. EarlyON Practitioners can also support with any questions you may have regarding infant development.
URL:https://ccrconnect.ca/event/babies-day-out-18/2024-02-15/
LOCATION:Copper Cliff (Copper Cliff Public School) EarlyON\, 50 School St\, Copper Cliff\, Ontario\, P0M 1N0\, Canada
END:VEVENT
BEGIN:VEVENT
DTSTART;TZID=America/New_York:20240214T130000
DTEND;TZID=America/New_York:20240214T150000
DTSTAMP:20260419T110138
CREATED:20231218T155646Z
LAST-MODIFIED:20240614T180219Z
UID:10001960-1707915600-1707922800@ccrconnect.ca
SUMMARY:Early Childhood Consultations *By Appointments Only
DESCRIPTION:Early Childhood Consultations – Meet with a member of our team!  \nDo you have questions about your child’s development and or social behaviours?  Are you interested in parenting strategies?  Do you have questions about community services available for you or your child?  We offer a free and confidential service that supports parents\, caregivers with children 0-6 years of age. This service provides a one-on-one session with a member of our EarlyON team regarding parenting tips\, child development and or child behavior. We provide a nonjudgmental environment and emotional support. Screening tools can be completed upon your consent with your child and referrals can be made to additional community support if needed. Times can be booked at all CCR EarlyOn locations or email our earlyon@ccrconnect.ca. with your request. Available in English & French.
URL:https://ccrconnect.ca/event/early-childhood-consultations-by-appointments-only-3/2024-02-14/
LOCATION:Copper Cliff (Copper Cliff Public School) EarlyON\, 50 School St\, Copper Cliff\, Ontario\, P0M 1N0\, Canada
END:VEVENT
BEGIN:VEVENT
DTSTART;TZID=America/New_York:20240214T100000
DTEND;TZID=America/New_York:20240214T120000
DTSTAMP:20260419T110138
CREATED:20231218T160828Z
LAST-MODIFIED:20240122T144842Z
UID:10001964-1707904800-1707912000@ccrconnect.ca
SUMMARY:EarlyON Fun with Literacy at Lively Public Library
DESCRIPTION:You are invited to join the EarlyON at the Lively Public Library for fun learning activities
URL:https://ccrconnect.ca/event/earlyon-fun-with-literacy-at-lively-public-library-3/2024-02-14/
LOCATION:Lively Public Library\, 15 Kin Dr Unit A\, Lively\, Ontario\, P3Y 1M9\, Canada
END:VEVENT
BEGIN:VEVENT
DTSTART;TZID=America/New_York:20240213T093000
DTEND;TZID=America/New_York:20240213T113000
DTSTAMP:20260419T110138
CREATED:20240122T151726Z
LAST-MODIFIED:20240423T131507Z
UID:10002016-1707816600-1707823800@ccrconnect.ca
SUMMARY:RH Murray Outreach
DESCRIPTION:Join us for a program filled with fun\, socializing\, and learning for families of children 0-6yrs.  While attending our program\, you and your child will have the opportunity to participate in a variety of activities such as crafts\, science\, literacy\, and gross and fine motor activities. Have questions about child development or other parenting concerns? Feel free to ask our qualified staff about the multitude of resources we have to offer.
URL:https://ccrconnect.ca/event/rh-murray-outreach-5/2024-02-13/
LOCATION:RH Murray Public School (Copper Cliff Outreach Location)\, 3 henry st\, Whitefish\, Ontario\, P0M3E0\, Canada
END:VEVENT
BEGIN:VEVENT
DTSTART;TZID=America/New_York:20240212T143000
DTEND;TZID=America/New_York:20240212T173000
DTSTAMP:20260419T110138
CREATED:20240108T191004Z
LAST-MODIFIED:20240528T134802Z
UID:10001956-1707748200-1707759000@ccrconnect.ca
SUMMARY:Play & Learn
DESCRIPTION:Join us for a program filled with fun\, socializing\, and learning for families of children 0-6yrs.  While attending our program\, you and your child will have the opportunity to participate in a variety of activities such as crafts\, science\, literacy\, and gross and fine motor activities. Have questions about child development or other parenting concerns? Feel free to ask our qualified staff about the multitude of resources we have to offer.
URL:https://ccrconnect.ca/event/play-learn-21/2024-02-12/
LOCATION:Copper Cliff (Copper Cliff Public School) EarlyON\, 50 School St\, Copper Cliff\, Ontario\, P0M 1N0\, Canada
END:VEVENT
BEGIN:VEVENT
DTSTART;TZID=America/New_York:20240209T090000
DTEND;TZID=America/New_York:20240209T120000
DTSTAMP:20260419T110138
CREATED:20240122T150718Z
LAST-MODIFIED:20241114T152929Z
UID:10002000-1707469200-1707480000@ccrconnect.ca
SUMMARY:Play & Learn
DESCRIPTION:Join us for a program filled with fun\, socializing\, and learning for families of children 0-6yrs.  While attending our program\, you and your child will have the opportunity to participate in a variety of activities such as crafts\, science\, literacy\, and gross and fine motor activities. Have questions about child development or other parenting concerns? Feel free to ask our qualified staff about the multitude of resources we have to offer. \n 
URL:https://ccrconnect.ca/event/play-learn-30/2024-02-09/
LOCATION:Copper Cliff (Copper Cliff Public School) EarlyON\, 50 School St\, Copper Cliff\, Ontario\, P0M 1N0\, Canada
END:VEVENT
BEGIN:VEVENT
DTSTART;TZID=America/New_York:20240208T093000
DTEND;TZID=America/New_York:20240208T123000
DTSTAMP:20260419T110138
CREATED:20240122T144945Z
LAST-MODIFIED:20241114T152813Z
UID:10001987-1707384600-1707395400@ccrconnect.ca
SUMMARY:Babies Day Out
DESCRIPTION:Babies’ Day Out\nBabies’ Day Out is a program for infants 0 to 18 months and their parents. The program allows infants to explore\, learn and play in a safe environment. Siblings are welcome to join. EarlyON Practitioners can also support with any questions you may have regarding infant development.
URL:https://ccrconnect.ca/event/babies-day-out-18/2024-02-08/
LOCATION:Copper Cliff (Copper Cliff Public School) EarlyON\, 50 School St\, Copper Cliff\, Ontario\, P0M 1N0\, Canada
END:VEVENT
BEGIN:VEVENT
DTSTART;TZID=America/New_York:20240207T130000
DTEND;TZID=America/New_York:20240207T150000
DTSTAMP:20260419T110138
CREATED:20231218T155646Z
LAST-MODIFIED:20240614T180219Z
UID:10001959-1707310800-1707318000@ccrconnect.ca
SUMMARY:Early Childhood Consultations *By Appointments Only
DESCRIPTION:Early Childhood Consultations – Meet with a member of our team!  \nDo you have questions about your child’s development and or social behaviours?  Are you interested in parenting strategies?  Do you have questions about community services available for you or your child?  We offer a free and confidential service that supports parents\, caregivers with children 0-6 years of age. This service provides a one-on-one session with a member of our EarlyON team regarding parenting tips\, child development and or child behavior. We provide a nonjudgmental environment and emotional support. Screening tools can be completed upon your consent with your child and referrals can be made to additional community support if needed. Times can be booked at all CCR EarlyOn locations or email our earlyon@ccrconnect.ca. with your request. Available in English & French.
URL:https://ccrconnect.ca/event/early-childhood-consultations-by-appointments-only-3/2024-02-07/
LOCATION:Copper Cliff (Copper Cliff Public School) EarlyON\, 50 School St\, Copper Cliff\, Ontario\, P0M 1N0\, Canada
END:VEVENT
BEGIN:VEVENT
DTSTART;TZID=America/New_York:20240207T100000
DTEND;TZID=America/New_York:20240207T120000
DTSTAMP:20260419T110138
CREATED:20231218T160828Z
LAST-MODIFIED:20240122T144842Z
UID:10001963-1707300000-1707307200@ccrconnect.ca
SUMMARY:EarlyON Fun with Literacy at Lively Public Library
DESCRIPTION:You are invited to join the EarlyON at the Lively Public Library for fun learning activities
URL:https://ccrconnect.ca/event/earlyon-fun-with-literacy-at-lively-public-library-3/2024-02-07/
LOCATION:Lively Public Library\, 15 Kin Dr Unit A\, Lively\, Ontario\, P3Y 1M9\, Canada
END:VEVENT
BEGIN:VEVENT
DTSTART;TZID=America/New_York:20240206T093000
DTEND;TZID=America/New_York:20240206T113000
DTSTAMP:20260419T110138
CREATED:20240122T151726Z
LAST-MODIFIED:20240423T131507Z
UID:10002015-1707211800-1707219000@ccrconnect.ca
SUMMARY:RH Murray Outreach
DESCRIPTION:Join us for a program filled with fun\, socializing\, and learning for families of children 0-6yrs.  While attending our program\, you and your child will have the opportunity to participate in a variety of activities such as crafts\, science\, literacy\, and gross and fine motor activities. Have questions about child development or other parenting concerns? Feel free to ask our qualified staff about the multitude of resources we have to offer.
URL:https://ccrconnect.ca/event/rh-murray-outreach-5/2024-02-06/
LOCATION:RH Murray Public School (Copper Cliff Outreach Location)\, 3 henry st\, Whitefish\, Ontario\, P0M3E0\, Canada
END:VEVENT
BEGIN:VEVENT
DTSTART;TZID=America/New_York:20240205T143000
DTEND;TZID=America/New_York:20240205T173000
DTSTAMP:20260419T110138
CREATED:20240108T191004Z
LAST-MODIFIED:20240528T134802Z
UID:10001955-1707143400-1707154200@ccrconnect.ca
SUMMARY:Play & Learn
DESCRIPTION:Join us for a program filled with fun\, socializing\, and learning for families of children 0-6yrs.  While attending our program\, you and your child will have the opportunity to participate in a variety of activities such as crafts\, science\, literacy\, and gross and fine motor activities. Have questions about child development or other parenting concerns? Feel free to ask our qualified staff about the multitude of resources we have to offer.
URL:https://ccrconnect.ca/event/play-learn-21/2024-02-05/
LOCATION:Copper Cliff (Copper Cliff Public School) EarlyON\, 50 School St\, Copper Cliff\, Ontario\, P0M 1N0\, Canada
END:VEVENT
BEGIN:VEVENT
DTSTART;TZID=America/New_York:20240202T090000
DTEND;TZID=America/New_York:20240202T120000
DTSTAMP:20260419T110138
CREATED:20240122T150718Z
LAST-MODIFIED:20241114T152929Z
UID:10001999-1706864400-1706875200@ccrconnect.ca
SUMMARY:Play & Learn
DESCRIPTION:Join us for a program filled with fun\, socializing\, and learning for families of children 0-6yrs.  While attending our program\, you and your child will have the opportunity to participate in a variety of activities such as crafts\, science\, literacy\, and gross and fine motor activities. Have questions about child development or other parenting concerns? Feel free to ask our qualified staff about the multitude of resources we have to offer. \n 
URL:https://ccrconnect.ca/event/play-learn-30/2024-02-02/
LOCATION:Copper Cliff (Copper Cliff Public School) EarlyON\, 50 School St\, Copper Cliff\, Ontario\, P0M 1N0\, Canada
END:VEVENT
BEGIN:VEVENT
DTSTART;TZID=America/New_York:20240201T093000
DTEND;TZID=America/New_York:20240201T123000
DTSTAMP:20260419T110138
CREATED:20240122T144945Z
LAST-MODIFIED:20241114T152813Z
UID:10001986-1706779800-1706790600@ccrconnect.ca
SUMMARY:Babies Day Out
DESCRIPTION:Babies’ Day Out\nBabies’ Day Out is a program for infants 0 to 18 months and their parents. The program allows infants to explore\, learn and play in a safe environment. Siblings are welcome to join. EarlyON Practitioners can also support with any questions you may have regarding infant development.
URL:https://ccrconnect.ca/event/babies-day-out-18/2024-02-01/
LOCATION:Copper Cliff (Copper Cliff Public School) EarlyON\, 50 School St\, Copper Cliff\, Ontario\, P0M 1N0\, Canada
END:VEVENT
BEGIN:VEVENT
DTSTART;TZID=America/New_York:20240131T130000
DTEND;TZID=America/New_York:20240131T150000
DTSTAMP:20260419T110138
CREATED:20231218T155646Z
LAST-MODIFIED:20240614T180219Z
UID:10001557-1706706000-1706713200@ccrconnect.ca
SUMMARY:Early Childhood Consultations *By Appointments Only
DESCRIPTION:Early Childhood Consultations – Meet with a member of our team!  \nDo you have questions about your child’s development and or social behaviours?  Are you interested in parenting strategies?  Do you have questions about community services available for you or your child?  We offer a free and confidential service that supports parents\, caregivers with children 0-6 years of age. This service provides a one-on-one session with a member of our EarlyON team regarding parenting tips\, child development and or child behavior. We provide a nonjudgmental environment and emotional support. Screening tools can be completed upon your consent with your child and referrals can be made to additional community support if needed. Times can be booked at all CCR EarlyOn locations or email our earlyon@ccrconnect.ca. with your request. Available in English & French.
URL:https://ccrconnect.ca/event/early-childhood-consultations-by-appointments-only-3/2024-01-31/
LOCATION:Copper Cliff (Copper Cliff Public School) EarlyON\, 50 School St\, Copper Cliff\, Ontario\, P0M 1N0\, Canada
END:VEVENT
END:VCALENDAR