BEGIN:VCALENDAR
VERSION:2.0
PRODID:-//Child &amp; Community Resources - ECPv6.15.20//NONSGML v1.0//EN
CALSCALE:GREGORIAN
METHOD:PUBLISH
X-WR-CALNAME:Child &amp; Community Resources
X-ORIGINAL-URL:https://ccrconnect.ca
X-WR-CALDESC:Events for Child &amp; Community Resources
REFRESH-INTERVAL;VALUE=DURATION:PT1H
X-Robots-Tag:noindex
X-PUBLISHED-TTL:PT1H
BEGIN:VTIMEZONE
TZID:America/New_York
BEGIN:DAYLIGHT
TZOFFSETFROM:-0500
TZOFFSETTO:-0400
TZNAME:EDT
DTSTART:20230312T070000
END:DAYLIGHT
BEGIN:STANDARD
TZOFFSETFROM:-0400
TZOFFSETTO:-0500
TZNAME:EST
DTSTART:20231105T060000
END:STANDARD
BEGIN:DAYLIGHT
TZOFFSETFROM:-0500
TZOFFSETTO:-0400
TZNAME:EDT
DTSTART:20240310T070000
END:DAYLIGHT
BEGIN:STANDARD
TZOFFSETFROM:-0400
TZOFFSETTO:-0500
TZNAME:EST
DTSTART:20241103T060000
END:STANDARD
BEGIN:DAYLIGHT
TZOFFSETFROM:-0500
TZOFFSETTO:-0400
TZNAME:EDT
DTSTART:20250309T070000
END:DAYLIGHT
BEGIN:STANDARD
TZOFFSETFROM:-0400
TZOFFSETTO:-0500
TZNAME:EST
DTSTART:20251102T060000
END:STANDARD
END:VTIMEZONE
BEGIN:VTIMEZONE
TZID:America/Toronto
BEGIN:DAYLIGHT
TZOFFSETFROM:-0500
TZOFFSETTO:-0400
TZNAME:EDT
DTSTART:20230312T070000
END:DAYLIGHT
BEGIN:STANDARD
TZOFFSETFROM:-0400
TZOFFSETTO:-0500
TZNAME:EST
DTSTART:20231105T060000
END:STANDARD
BEGIN:DAYLIGHT
TZOFFSETFROM:-0500
TZOFFSETTO:-0400
TZNAME:EDT
DTSTART:20240310T070000
END:DAYLIGHT
BEGIN:STANDARD
TZOFFSETFROM:-0400
TZOFFSETTO:-0500
TZNAME:EST
DTSTART:20241103T060000
END:STANDARD
BEGIN:DAYLIGHT
TZOFFSETFROM:-0500
TZOFFSETTO:-0400
TZNAME:EDT
DTSTART:20250309T070000
END:DAYLIGHT
BEGIN:STANDARD
TZOFFSETFROM:-0400
TZOFFSETTO:-0500
TZNAME:EST
DTSTART:20251102T060000
END:STANDARD
END:VTIMEZONE
BEGIN:VEVENT
DTSTART;TZID=America/New_York:20240826T130000
DTEND;TZID=America/New_York:20240826T150000
DTSTAMP:20260420T043814
CREATED:20240528T134932Z
LAST-MODIFIED:20240528T134932Z
UID:10003119-1724677200-1724684400@ccrconnect.ca
SUMMARY:Play & Learn
DESCRIPTION:Join us for a program filled with fun\, socializing\, and learning for families of children 0-6yrs.  While attending our program\, you and your child will have the opportunity to participate in a variety of activities such as crafts\, science\, literacy\, and gross and fine motor activities. Have questions about child development or other parenting concerns? Feel free to ask our qualified staff about the multitude of resources we have to offer.
URL:https://ccrconnect.ca/event/play-learn/2024-08-26/
LOCATION:Copper Cliff (Copper Cliff Public School) EarlyON\, 50 School St\, Copper Cliff\, Ontario\, P0M 1N0\, Canada
END:VEVENT
BEGIN:VEVENT
DTSTART;TZID=America/New_York:20240823T090000
DTEND;TZID=America/New_York:20240823T120000
DTSTAMP:20260420T043814
CREATED:20240122T150718Z
LAST-MODIFIED:20241114T152929Z
UID:10003161-1724403600-1724414400@ccrconnect.ca
SUMMARY:Play & Learn
DESCRIPTION:Join us for a program filled with fun\, socializing\, and learning for families of children 0-6yrs.  While attending our program\, you and your child will have the opportunity to participate in a variety of activities such as crafts\, science\, literacy\, and gross and fine motor activities. Have questions about child development or other parenting concerns? Feel free to ask our qualified staff about the multitude of resources we have to offer. \n 
URL:https://ccrconnect.ca/event/play-learn-30/2024-08-23/
LOCATION:Copper Cliff (Copper Cliff Public School) EarlyON\, 50 School St\, Copper Cliff\, Ontario\, P0M 1N0\, Canada
END:VEVENT
BEGIN:VEVENT
DTSTART;TZID=America/New_York:20240822T093000
DTEND;TZID=America/New_York:20240822T123000
DTSTAMP:20260420T043814
CREATED:20240122T144945Z
LAST-MODIFIED:20241114T152813Z
UID:10003148-1724319000-1724329800@ccrconnect.ca
SUMMARY:Babies Day Out
DESCRIPTION:Babies’ Day Out\nBabies’ Day Out is a program for infants 0 to 18 months and their parents. The program allows infants to explore\, learn and play in a safe environment. Siblings are welcome to join. EarlyON Practitioners can also support with any questions you may have regarding infant development.
URL:https://ccrconnect.ca/event/babies-day-out-18/2024-08-22/
LOCATION:Copper Cliff (Copper Cliff Public School) EarlyON\, 50 School St\, Copper Cliff\, Ontario\, P0M 1N0\, Canada
END:VEVENT
BEGIN:VEVENT
DTSTART;TZID=America/New_York:20240819T130000
DTEND;TZID=America/New_York:20240819T150000
DTSTAMP:20260420T043814
CREATED:20240528T134932Z
LAST-MODIFIED:20240528T134932Z
UID:10003118-1724072400-1724079600@ccrconnect.ca
SUMMARY:Play & Learn
DESCRIPTION:Join us for a program filled with fun\, socializing\, and learning for families of children 0-6yrs.  While attending our program\, you and your child will have the opportunity to participate in a variety of activities such as crafts\, science\, literacy\, and gross and fine motor activities. Have questions about child development or other parenting concerns? Feel free to ask our qualified staff about the multitude of resources we have to offer.
URL:https://ccrconnect.ca/event/play-learn/2024-08-19/
LOCATION:Copper Cliff (Copper Cliff Public School) EarlyON\, 50 School St\, Copper Cliff\, Ontario\, P0M 1N0\, Canada
END:VEVENT
BEGIN:VEVENT
DTSTART;TZID=America/New_York:20240816T090000
DTEND;TZID=America/New_York:20240816T120000
DTSTAMP:20260420T043814
CREATED:20240122T150718Z
LAST-MODIFIED:20241114T152929Z
UID:10003160-1723798800-1723809600@ccrconnect.ca
SUMMARY:Play & Learn
DESCRIPTION:Join us for a program filled with fun\, socializing\, and learning for families of children 0-6yrs.  While attending our program\, you and your child will have the opportunity to participate in a variety of activities such as crafts\, science\, literacy\, and gross and fine motor activities. Have questions about child development or other parenting concerns? Feel free to ask our qualified staff about the multitude of resources we have to offer. \n 
URL:https://ccrconnect.ca/event/play-learn-30/2024-08-16/
LOCATION:Copper Cliff (Copper Cliff Public School) EarlyON\, 50 School St\, Copper Cliff\, Ontario\, P0M 1N0\, Canada
END:VEVENT
BEGIN:VEVENT
DTSTART;TZID=America/New_York:20240815T093000
DTEND;TZID=America/New_York:20240815T123000
DTSTAMP:20260420T043814
CREATED:20240122T144945Z
LAST-MODIFIED:20241114T152813Z
UID:10003147-1723714200-1723725000@ccrconnect.ca
SUMMARY:Babies Day Out
DESCRIPTION:Babies’ Day Out\nBabies’ Day Out is a program for infants 0 to 18 months and their parents. The program allows infants to explore\, learn and play in a safe environment. Siblings are welcome to join. EarlyON Practitioners can also support with any questions you may have regarding infant development.
URL:https://ccrconnect.ca/event/babies-day-out-18/2024-08-15/
LOCATION:Copper Cliff (Copper Cliff Public School) EarlyON\, 50 School St\, Copper Cliff\, Ontario\, P0M 1N0\, Canada
END:VEVENT
BEGIN:VEVENT
DTSTART;TZID=America/New_York:20240812T130000
DTEND;TZID=America/New_York:20240812T150000
DTSTAMP:20260420T043814
CREATED:20240528T134932Z
LAST-MODIFIED:20240528T134932Z
UID:10003117-1723467600-1723474800@ccrconnect.ca
SUMMARY:Play & Learn
DESCRIPTION:Join us for a program filled with fun\, socializing\, and learning for families of children 0-6yrs.  While attending our program\, you and your child will have the opportunity to participate in a variety of activities such as crafts\, science\, literacy\, and gross and fine motor activities. Have questions about child development or other parenting concerns? Feel free to ask our qualified staff about the multitude of resources we have to offer.
URL:https://ccrconnect.ca/event/play-learn/2024-08-12/
LOCATION:Copper Cliff (Copper Cliff Public School) EarlyON\, 50 School St\, Copper Cliff\, Ontario\, P0M 1N0\, Canada
END:VEVENT
BEGIN:VEVENT
DTSTART;TZID=America/New_York:20240809T090000
DTEND;TZID=America/New_York:20240809T120000
DTSTAMP:20260420T043814
CREATED:20240122T150718Z
LAST-MODIFIED:20241114T152929Z
UID:10003159-1723194000-1723204800@ccrconnect.ca
SUMMARY:Play & Learn
DESCRIPTION:Join us for a program filled with fun\, socializing\, and learning for families of children 0-6yrs.  While attending our program\, you and your child will have the opportunity to participate in a variety of activities such as crafts\, science\, literacy\, and gross and fine motor activities. Have questions about child development or other parenting concerns? Feel free to ask our qualified staff about the multitude of resources we have to offer. \n 
URL:https://ccrconnect.ca/event/play-learn-30/2024-08-09/
LOCATION:Copper Cliff (Copper Cliff Public School) EarlyON\, 50 School St\, Copper Cliff\, Ontario\, P0M 1N0\, Canada
END:VEVENT
BEGIN:VEVENT
DTSTART;TZID=America/New_York:20240808T093000
DTEND;TZID=America/New_York:20240808T123000
DTSTAMP:20260420T043814
CREATED:20240122T144945Z
LAST-MODIFIED:20241114T152813Z
UID:10003146-1723109400-1723120200@ccrconnect.ca
SUMMARY:Babies Day Out
DESCRIPTION:Babies’ Day Out\nBabies’ Day Out is a program for infants 0 to 18 months and their parents. The program allows infants to explore\, learn and play in a safe environment. Siblings are welcome to join. EarlyON Practitioners can also support with any questions you may have regarding infant development.
URL:https://ccrconnect.ca/event/babies-day-out-18/2024-08-08/
LOCATION:Copper Cliff (Copper Cliff Public School) EarlyON\, 50 School St\, Copper Cliff\, Ontario\, P0M 1N0\, Canada
END:VEVENT
BEGIN:VEVENT
DTSTART;TZID=America/New_York:20240802T090000
DTEND;TZID=America/New_York:20240802T120000
DTSTAMP:20260420T043814
CREATED:20240122T150718Z
LAST-MODIFIED:20241114T152929Z
UID:10003158-1722589200-1722600000@ccrconnect.ca
SUMMARY:Play & Learn
DESCRIPTION:Join us for a program filled with fun\, socializing\, and learning for families of children 0-6yrs.  While attending our program\, you and your child will have the opportunity to participate in a variety of activities such as crafts\, science\, literacy\, and gross and fine motor activities. Have questions about child development or other parenting concerns? Feel free to ask our qualified staff about the multitude of resources we have to offer. \n 
URL:https://ccrconnect.ca/event/play-learn-30/2024-08-02/
LOCATION:Copper Cliff (Copper Cliff Public School) EarlyON\, 50 School St\, Copper Cliff\, Ontario\, P0M 1N0\, Canada
END:VEVENT
BEGIN:VEVENT
DTSTART;TZID=America/New_York:20240801T093000
DTEND;TZID=America/New_York:20240801T123000
DTSTAMP:20260420T043814
CREATED:20240122T144945Z
LAST-MODIFIED:20241114T152813Z
UID:10003145-1722504600-1722515400@ccrconnect.ca
SUMMARY:Babies Day Out
DESCRIPTION:Babies’ Day Out\nBabies’ Day Out is a program for infants 0 to 18 months and their parents. The program allows infants to explore\, learn and play in a safe environment. Siblings are welcome to join. EarlyON Practitioners can also support with any questions you may have regarding infant development.
URL:https://ccrconnect.ca/event/babies-day-out-18/2024-08-01/
LOCATION:Copper Cliff (Copper Cliff Public School) EarlyON\, 50 School St\, Copper Cliff\, Ontario\, P0M 1N0\, Canada
END:VEVENT
BEGIN:VEVENT
DTSTART;TZID=America/New_York:20240729T130000
DTEND;TZID=America/New_York:20240729T150000
DTSTAMP:20260420T043814
CREATED:20240528T134932Z
LAST-MODIFIED:20240528T134932Z
UID:10003116-1722258000-1722265200@ccrconnect.ca
SUMMARY:Play & Learn
DESCRIPTION:Join us for a program filled with fun\, socializing\, and learning for families of children 0-6yrs.  While attending our program\, you and your child will have the opportunity to participate in a variety of activities such as crafts\, science\, literacy\, and gross and fine motor activities. Have questions about child development or other parenting concerns? Feel free to ask our qualified staff about the multitude of resources we have to offer.
URL:https://ccrconnect.ca/event/play-learn/2024-07-29/
LOCATION:Copper Cliff (Copper Cliff Public School) EarlyON\, 50 School St\, Copper Cliff\, Ontario\, P0M 1N0\, Canada
END:VEVENT
BEGIN:VEVENT
DTSTART;TZID=America/New_York:20240726T090000
DTEND;TZID=America/New_York:20240726T120000
DTSTAMP:20260420T043814
CREATED:20240122T150718Z
LAST-MODIFIED:20241114T152929Z
UID:10003157-1721984400-1721995200@ccrconnect.ca
SUMMARY:Play & Learn
DESCRIPTION:Join us for a program filled with fun\, socializing\, and learning for families of children 0-6yrs.  While attending our program\, you and your child will have the opportunity to participate in a variety of activities such as crafts\, science\, literacy\, and gross and fine motor activities. Have questions about child development or other parenting concerns? Feel free to ask our qualified staff about the multitude of resources we have to offer. \n 
URL:https://ccrconnect.ca/event/play-learn-30/2024-07-26/
LOCATION:Copper Cliff (Copper Cliff Public School) EarlyON\, 50 School St\, Copper Cliff\, Ontario\, P0M 1N0\, Canada
END:VEVENT
BEGIN:VEVENT
DTSTART;TZID=America/New_York:20240725T093000
DTEND;TZID=America/New_York:20240725T123000
DTSTAMP:20260420T043814
CREATED:20240122T144945Z
LAST-MODIFIED:20241114T152813Z
UID:10003144-1721899800-1721910600@ccrconnect.ca
SUMMARY:Babies Day Out
DESCRIPTION:Babies’ Day Out\nBabies’ Day Out is a program for infants 0 to 18 months and their parents. The program allows infants to explore\, learn and play in a safe environment. Siblings are welcome to join. EarlyON Practitioners can also support with any questions you may have regarding infant development.
URL:https://ccrconnect.ca/event/babies-day-out-18/2024-07-25/
LOCATION:Copper Cliff (Copper Cliff Public School) EarlyON\, 50 School St\, Copper Cliff\, Ontario\, P0M 1N0\, Canada
END:VEVENT
BEGIN:VEVENT
DTSTART;TZID=America/New_York:20240722T130000
DTEND;TZID=America/New_York:20240722T150000
DTSTAMP:20260420T043814
CREATED:20240528T134932Z
LAST-MODIFIED:20240528T134932Z
UID:10003115-1721653200-1721660400@ccrconnect.ca
SUMMARY:Play & Learn
DESCRIPTION:Join us for a program filled with fun\, socializing\, and learning for families of children 0-6yrs.  While attending our program\, you and your child will have the opportunity to participate in a variety of activities such as crafts\, science\, literacy\, and gross and fine motor activities. Have questions about child development or other parenting concerns? Feel free to ask our qualified staff about the multitude of resources we have to offer.
URL:https://ccrconnect.ca/event/play-learn/2024-07-22/
LOCATION:Copper Cliff (Copper Cliff Public School) EarlyON\, 50 School St\, Copper Cliff\, Ontario\, P0M 1N0\, Canada
END:VEVENT
BEGIN:VEVENT
DTSTART;TZID=America/New_York:20240719T090000
DTEND;TZID=America/New_York:20240719T120000
DTSTAMP:20260420T043814
CREATED:20240122T150718Z
LAST-MODIFIED:20241114T152929Z
UID:10003156-1721379600-1721390400@ccrconnect.ca
SUMMARY:Play & Learn
DESCRIPTION:Join us for a program filled with fun\, socializing\, and learning for families of children 0-6yrs.  While attending our program\, you and your child will have the opportunity to participate in a variety of activities such as crafts\, science\, literacy\, and gross and fine motor activities. Have questions about child development or other parenting concerns? Feel free to ask our qualified staff about the multitude of resources we have to offer. \n 
URL:https://ccrconnect.ca/event/play-learn-30/2024-07-19/
LOCATION:Copper Cliff (Copper Cliff Public School) EarlyON\, 50 School St\, Copper Cliff\, Ontario\, P0M 1N0\, Canada
END:VEVENT
BEGIN:VEVENT
DTSTART;TZID=America/New_York:20240718T093000
DTEND;TZID=America/New_York:20240718T123000
DTSTAMP:20260420T043814
CREATED:20240122T144945Z
LAST-MODIFIED:20241114T152813Z
UID:10003143-1721295000-1721305800@ccrconnect.ca
SUMMARY:Babies Day Out
DESCRIPTION:Babies’ Day Out\nBabies’ Day Out is a program for infants 0 to 18 months and their parents. The program allows infants to explore\, learn and play in a safe environment. Siblings are welcome to join. EarlyON Practitioners can also support with any questions you may have regarding infant development.
URL:https://ccrconnect.ca/event/babies-day-out-18/2024-07-18/
LOCATION:Copper Cliff (Copper Cliff Public School) EarlyON\, 50 School St\, Copper Cliff\, Ontario\, P0M 1N0\, Canada
END:VEVENT
BEGIN:VEVENT
DTSTART;TZID=America/New_York:20240715T130000
DTEND;TZID=America/New_York:20240715T150000
DTSTAMP:20260420T043814
CREATED:20240528T134932Z
LAST-MODIFIED:20240528T134932Z
UID:10003114-1721048400-1721055600@ccrconnect.ca
SUMMARY:Play & Learn
DESCRIPTION:Join us for a program filled with fun\, socializing\, and learning for families of children 0-6yrs.  While attending our program\, you and your child will have the opportunity to participate in a variety of activities such as crafts\, science\, literacy\, and gross and fine motor activities. Have questions about child development or other parenting concerns? Feel free to ask our qualified staff about the multitude of resources we have to offer.
URL:https://ccrconnect.ca/event/play-learn/2024-07-15/
LOCATION:Copper Cliff (Copper Cliff Public School) EarlyON\, 50 School St\, Copper Cliff\, Ontario\, P0M 1N0\, Canada
END:VEVENT
BEGIN:VEVENT
DTSTART;VALUE=DATE:20240715
DTEND;VALUE=DATE:20240716
DTSTAMP:20260420T043814
CREATED:20240617T142949Z
LAST-MODIFIED:20240617T142949Z
UID:10003512-1721001600-1721087999@ccrconnect.ca
SUMMARY:Closed Today
DESCRIPTION:
URL:https://ccrconnect.ca/event/closed-today/
LOCATION:Copper Cliff (Copper Cliff Public School) EarlyON\, 50 School St\, Copper Cliff\, Ontario\, P0M 1N0\, Canada
END:VEVENT
BEGIN:VEVENT
DTSTART;TZID=America/New_York:20240712T090000
DTEND;TZID=America/New_York:20240712T120000
DTSTAMP:20260420T043814
CREATED:20240122T150718Z
LAST-MODIFIED:20241114T152929Z
UID:10003155-1720774800-1720785600@ccrconnect.ca
SUMMARY:Play & Learn
DESCRIPTION:Join us for a program filled with fun\, socializing\, and learning for families of children 0-6yrs.  While attending our program\, you and your child will have the opportunity to participate in a variety of activities such as crafts\, science\, literacy\, and gross and fine motor activities. Have questions about child development or other parenting concerns? Feel free to ask our qualified staff about the multitude of resources we have to offer. \n 
URL:https://ccrconnect.ca/event/play-learn-30/2024-07-12/
LOCATION:Copper Cliff (Copper Cliff Public School) EarlyON\, 50 School St\, Copper Cliff\, Ontario\, P0M 1N0\, Canada
END:VEVENT
BEGIN:VEVENT
DTSTART;TZID=America/New_York:20240711T093000
DTEND;TZID=America/New_York:20240711T123000
DTSTAMP:20260420T043814
CREATED:20240122T144945Z
LAST-MODIFIED:20241114T152813Z
UID:10003142-1720690200-1720701000@ccrconnect.ca
SUMMARY:Babies Day Out
DESCRIPTION:Babies’ Day Out\nBabies’ Day Out is a program for infants 0 to 18 months and their parents. The program allows infants to explore\, learn and play in a safe environment. Siblings are welcome to join. EarlyON Practitioners can also support with any questions you may have regarding infant development.
URL:https://ccrconnect.ca/event/babies-day-out-18/2024-07-11/
LOCATION:Copper Cliff (Copper Cliff Public School) EarlyON\, 50 School St\, Copper Cliff\, Ontario\, P0M 1N0\, Canada
END:VEVENT
BEGIN:VEVENT
DTSTART;TZID=America/New_York:20240708T130000
DTEND;TZID=America/New_York:20240708T150000
DTSTAMP:20260420T043814
CREATED:20240528T134932Z
LAST-MODIFIED:20240528T134932Z
UID:10003113-1720443600-1720450800@ccrconnect.ca
SUMMARY:Play & Learn
DESCRIPTION:Join us for a program filled with fun\, socializing\, and learning for families of children 0-6yrs.  While attending our program\, you and your child will have the opportunity to participate in a variety of activities such as crafts\, science\, literacy\, and gross and fine motor activities. Have questions about child development or other parenting concerns? Feel free to ask our qualified staff about the multitude of resources we have to offer.
URL:https://ccrconnect.ca/event/play-learn/2024-07-08/
LOCATION:Copper Cliff (Copper Cliff Public School) EarlyON\, 50 School St\, Copper Cliff\, Ontario\, P0M 1N0\, Canada
END:VEVENT
BEGIN:VEVENT
DTSTART;TZID=America/New_York:20240705T090000
DTEND;TZID=America/New_York:20240705T120000
DTSTAMP:20260420T043814
CREATED:20240122T150718Z
LAST-MODIFIED:20241114T152929Z
UID:10003154-1720170000-1720180800@ccrconnect.ca
SUMMARY:Play & Learn
DESCRIPTION:Join us for a program filled with fun\, socializing\, and learning for families of children 0-6yrs.  While attending our program\, you and your child will have the opportunity to participate in a variety of activities such as crafts\, science\, literacy\, and gross and fine motor activities. Have questions about child development or other parenting concerns? Feel free to ask our qualified staff about the multitude of resources we have to offer. \n 
URL:https://ccrconnect.ca/event/play-learn-30/2024-07-05/
LOCATION:Copper Cliff (Copper Cliff Public School) EarlyON\, 50 School St\, Copper Cliff\, Ontario\, P0M 1N0\, Canada
END:VEVENT
BEGIN:VEVENT
DTSTART;TZID=America/New_York:20240704T093000
DTEND;TZID=America/New_York:20240704T123000
DTSTAMP:20260420T043814
CREATED:20240122T144945Z
LAST-MODIFIED:20241114T152813Z
UID:10003141-1720085400-1720096200@ccrconnect.ca
SUMMARY:Babies Day Out
DESCRIPTION:Babies’ Day Out\nBabies’ Day Out is a program for infants 0 to 18 months and their parents. The program allows infants to explore\, learn and play in a safe environment. Siblings are welcome to join. EarlyON Practitioners can also support with any questions you may have regarding infant development.
URL:https://ccrconnect.ca/event/babies-day-out-18/2024-07-04/
LOCATION:Copper Cliff (Copper Cliff Public School) EarlyON\, 50 School St\, Copper Cliff\, Ontario\, P0M 1N0\, Canada
END:VEVENT
BEGIN:VEVENT
DTSTART;VALUE=DATE:20240701
DTEND;VALUE=DATE:20240702
DTSTAMP:20260420T043814
CREATED:20240617T142849Z
LAST-MODIFIED:20240617T142849Z
UID:10003511-1719792000-1719878399@ccrconnect.ca
SUMMARY:Canada Day / Jour du Canada
DESCRIPTION:
URL:https://ccrconnect.ca/event/canada-day-jour-du-canada/
LOCATION:Centreville (Jeanne Sauvé) ON y va\, 300 Van Horne\, Sudbury\, Ontario\, P3B 1H9\, Canada
END:VEVENT
BEGIN:VEVENT
DTSTART;TZID=America/New_York:20240628T090000
DTEND;TZID=America/New_York:20240628T120000
DTSTAMP:20260420T043814
CREATED:20240122T150718Z
LAST-MODIFIED:20241114T152929Z
UID:10003153-1719565200-1719576000@ccrconnect.ca
SUMMARY:Play & Learn
DESCRIPTION:Join us for a program filled with fun\, socializing\, and learning for families of children 0-6yrs.  While attending our program\, you and your child will have the opportunity to participate in a variety of activities such as crafts\, science\, literacy\, and gross and fine motor activities. Have questions about child development or other parenting concerns? Feel free to ask our qualified staff about the multitude of resources we have to offer. \n 
URL:https://ccrconnect.ca/event/play-learn-30/2024-06-28/
LOCATION:Copper Cliff (Copper Cliff Public School) EarlyON\, 50 School St\, Copper Cliff\, Ontario\, P0M 1N0\, Canada
END:VEVENT
BEGIN:VEVENT
DTSTART;TZID=America/New_York:20240627T103000
DTEND;TZID=America/New_York:20240627T113000
DTSTAMP:20260420T043814
CREATED:20240325T183203Z
LAST-MODIFIED:20240528T135724Z
UID:10002545-1719484200-1719487800@ccrconnect.ca
SUMMARY:Let’s Talk Discussion
DESCRIPTION:Please join us for a discussion on safety and fun in the sun with your infant. We will share some sun facts and strategies to practice sun safety as well as creative ideas for fun in the sun with your little one!
URL:https://ccrconnect.ca/event/lets-talk-solid-foods/
LOCATION:Copper Cliff (Copper Cliff Public School) EarlyON\, 50 School St\, Copper Cliff\, Ontario\, P0M 1N0\, Canada
END:VEVENT
BEGIN:VEVENT
DTSTART;TZID=America/New_York:20240627T093000
DTEND;TZID=America/New_York:20240627T123000
DTSTAMP:20260420T043814
CREATED:20240122T144945Z
LAST-MODIFIED:20241114T152813Z
UID:10003140-1719480600-1719491400@ccrconnect.ca
SUMMARY:Babies Day Out
DESCRIPTION:Babies’ Day Out\nBabies’ Day Out is a program for infants 0 to 18 months and their parents. The program allows infants to explore\, learn and play in a safe environment. Siblings are welcome to join. EarlyON Practitioners can also support with any questions you may have regarding infant development.
URL:https://ccrconnect.ca/event/babies-day-out-18/2024-06-27/
LOCATION:Copper Cliff (Copper Cliff Public School) EarlyON\, 50 School St\, Copper Cliff\, Ontario\, P0M 1N0\, Canada
END:VEVENT
BEGIN:VEVENT
DTSTART;TZID=America/New_York:20240626T130000
DTEND;TZID=America/New_York:20240626T150000
DTSTAMP:20260420T043814
CREATED:20231218T155646Z
LAST-MODIFIED:20240614T180219Z
UID:10003127-1719406800-1719414000@ccrconnect.ca
SUMMARY:Early Childhood Consultations *By Appointments Only
DESCRIPTION:Early Childhood Consultations – Meet with a member of our team!  \nDo you have questions about your child’s development and or social behaviours?  Are you interested in parenting strategies?  Do you have questions about community services available for you or your child?  We offer a free and confidential service that supports parents\, caregivers with children 0-6 years of age. This service provides a one-on-one session with a member of our EarlyON team regarding parenting tips\, child development and or child behavior. We provide a nonjudgmental environment and emotional support. Screening tools can be completed upon your consent with your child and referrals can be made to additional community support if needed. Times can be booked at all CCR EarlyOn locations or email our earlyon@ccrconnect.ca. with your request. Available in English & French.
URL:https://ccrconnect.ca/event/early-childhood-consultations-by-appointments-only-3/2024-06-26/
LOCATION:Copper Cliff (Copper Cliff Public School) EarlyON\, 50 School St\, Copper Cliff\, Ontario\, P0M 1N0\, Canada
END:VEVENT
BEGIN:VEVENT
DTSTART;TZID=America/New_York:20240626T100000
DTEND;TZID=America/New_York:20240626T120000
DTSTAMP:20260420T043814
CREATED:20240325T165947Z
LAST-MODIFIED:20240528T135159Z
UID:10003123-1719396000-1719403200@ccrconnect.ca
SUMMARY:EarlyON Fun with Literacy at Lively Public Library
DESCRIPTION:You are invited to join the EarlyON at the Lively Public Library for fun learning activities
URL:https://ccrconnect.ca/event/earlyon-fun-with-literacy-at-lively-public-library-4/2024-06-26/
LOCATION:Lively Public Library\, 15 Kin Dr Unit A\, Lively\, Ontario\, P3Y 1M9\, Canada
END:VEVENT
END:VCALENDAR